Workbook

Sheet 24 - śląskie
A1: Lista zadań rekomendowanych do dofinansowania w ramach Funduszu Dróg Samorządowych
A4: Dofinansowanie przyznane w naborze: na rok 2020
A6: Województwo: Śląskie
F7: ………………………………………………………………………………….
A9: Podsumowanie naboru:
A10: Kategoria drogi - rodzaj listy | B10: Liczba zadań | C10: Wartość zadań ogółem | D10: Deklarowana kwota środków własnych | E10: Kwota dofinasowania ogółem | F10: Kwota dofinansowania w podziale na lata
F11: 2019 | G11: 2020 | H11: 2021 | I11: 2022 | J11: 2023 | K11: 2024 | L11: 2025 | M11: 2026 | N11: 2027 | O11: 2028
A12: powiatowe - lista podstawowa, z tego: | B12: =COUNTA('pow podst'!K3:K37) -> 35 | C12: =SUM('pow podst'!J3:J37) -> 312240175 | D12: =SUM('pow podst'!L3:L37) -> 1.4970034e+08 | E12: =SUM('pow podst'!K3:K37) -> 1.6253984e+08 | F12: =SUM('pow podst'!N3:N37) -> 23060229 | G12: =SUM('pow podst'!O3:O37) -> 91891131 | H12: =SUM('pow podst'!P3:P37) -> 36436714 | I12: =SUM('pow podst'!Q3:Q37) -> 11151764 | J12: =SUM('pow podst'!R3:R37) -> 0 | K12: =SUM('pow podst'!S3:S37) -> 0 | L12: =SUM('pow podst'!T3:T37) -> 0 | M12: =SUM('pow podst'!U3:U37) -> 0 | ... O12: =SUM('pow podst'!W3:W37) -> 0 | P12: =C12=(D12+E12) -> TRUE | Q12: =E12=SUM(F12:O12) -> TRUE
A13: kontynuowane zadania wieloletnie | B13: =COUNTIF('pow podst'!C3:C37,"K") -> 15 | C13: =SUMIF('pow podst'!C3:C37,"K",'pow podst'!J3:J37) -> 186715345 | D13: =SUMIF('pow podst'!C3:C37,"K",'pow podst'!L3:L37) -> 93750793 | E13: =SUMIF('pow podst'!C3:C37,"K",'pow podst'!K3:K37) -> 92964552 | F13: =SUMIF('pow podst'!$C$3:$C$37,"K",'pow podst'!N3:N37) -> 23060229 | G13: =SUMIF('pow podst'!$C$3:$C$37,"K",'pow podst'!O3:O37) -> 43327319 | H13: =SUMIF('pow podst'!$C$3:$C$37,"K",'pow podst'!P3:P37) -> 17925239 | I13: =SUMIF('pow podst'!$C$3:$C$37,"K",'pow podst'!Q3:Q37) -> 8651764.5 | J13: =SUMIF('pow podst'!$C$3:$C$37,"K",'pow podst'!R3:R37) -> 0 | K13: =SUMIF('pow podst'!$C$3:$C$37,"K",'pow podst'!S3:S37) -> 0 | L13: =SUMIF('pow podst'!$C$3:$C$37,"K",'pow podst'!T3:T37) -> 0 | M13: =SUMIF('pow podst'!$C$3:$C$37,"K",'pow podst'!U3:U37) -> 0 | ... O13: =SUMIF('pow podst'!$C$3:$C$37,"K",'pow podst'!W3:W37) -> 0 | P13: =C13=(D13+E13) -> TRUE | Q13: =E13=SUM(F13:O13) -> TRUE
A14: nowe zadania jednoroczne | B14: =COUNTIF('pow podst'!C3:C37,"N") -> 15 | C14: =SUMIF('pow podst'!C3:C37,"N",'pow podst'!J3:J37) -> 63696166 | D14: =SUMIF('pow podst'!C3:C37,"N",'pow podst'!L3:L37) -> 25833567 | E14: =SUMIF('pow podst'!C3:C37,"N",'pow podst'!K3:K37) -> 37862599 | F14: =SUMIF('pow podst'!$C$3:$C$37,"N",'pow podst'!N3:N37) -> 0 | G14: =SUMIF('pow podst'!$C$3:$C$37,"N",'pow podst'!O3:O37) -> 37862599 | H14: =SUMIF('pow podst'!$C$3:$C$37,"N",'pow podst'!P3:P37) -> 0 | I14: =SUMIF('pow podst'!$C$3:$C$37,"N",'pow podst'!Q3:Q37) -> 0 | J14: =SUMIF('pow podst'!$C$3:$C$37,"N",'pow podst'!R3:R37) -> 0 | K14: =SUMIF('pow podst'!$C$3:$C$37,"N",'pow podst'!S3:S37) -> 0 | L14: =SUMIF('pow podst'!$C$3:$C$37,"N",'pow podst'!T3:T37) -> 0 | M14: =SUMIF('pow podst'!$C$3:$C$37,"N",'pow podst'!U3:U37) -> 0 | ... O14: =SUMIF('pow podst'!$C$3:$C$37,"N",'pow podst'!W3:W37) -> 0 | P14: =C14=(D14+E14) -> TRUE | Q14: =E14=SUM(F14:O14) -> TRUE
A15: nowe zadania wieloletnie | B15: =COUNTIF('pow podst'!C3:C37,"W") -> 5 | C15: =SUMIF('pow podst'!C18:C37,"W",'pow podst'!J18:J37) -> 61828664 | D15: =SUMIF('pow podst'!C18:C37,"W",'pow podst'!L18:L37) -> 30115977 | E15: =SUMIF('pow podst'!C18:C37,"W",'pow podst'!K18:K37) -> 31712687 | F15: =SUMIF('pow podst'!$C$3:$C$37,"W",'pow podst'!N3:N37) -> 0 | G15: =SUMIF('pow podst'!$C$3:$C$37,"W",'pow podst'!O3:O37) -> 10701212 | H15: =SUMIF('pow podst'!$C$3:$C$37,"W",'pow podst'!P3:P37) -> 18511474 | I15: =SUMIF('pow podst'!$C$3:$C$37,"W",'pow podst'!Q3:Q37) -> 2500000 | J15: =SUMIF('pow podst'!$C$3:$C$37,"W",'pow podst'!R3:R37) -> 0 | K15: =SUMIF('pow podst'!$C$3:$C$37,"W",'pow podst'!S3:S37) -> 0 | L15: =SUMIF('pow podst'!$C$3:$C$37,"W",'pow podst'!T3:T37) -> 0 | M15: =SUMIF('pow podst'!$C$3:$C$37,"W",'pow podst'!U3:U37) -> 0 | ... O15: =SUMIF('pow podst'!$C$3:$C$37,"W",'pow podst'!W3:W37) -> 0 | P15: =C15=(D15+E15) -> TRUE | Q15: =E15=SUM(F15:O15) -> TRUE
A16: gminne - lista podstawowa, z tego: | B16: =COUNTA('gm podst'!L3:L71) -> 69 | C16: =SUM('gm podst'!K3:K71) -> 1.7515473e+08 | D16: =SUM('gm podst'!M3:M71) -> 75700103 | E16: =SUM('gm podst'!L3:L71) -> 99454625 | F16: =SUM('gm podst'!O3:O71) -> 6092613.2 | G16: =SUM('gm podst'!P3:P71) -> 68898122 | H16: =SUM('gm podst'!Q3:Q71) -> 21264070 | I16: =SUM('gm podst'!R3:R71) -> 3199819.4 | J16: =SUM('gm podst'!S3:S71) -> 0 | K16: =SUM('gm podst'!T3:T71) -> 0 | L16: =SUM('gm podst'!U3:U71) -> 0 | M16: =SUM('gm podst'!V3:V71) -> 0 | ... O16: =SUM('gm podst'!X3:X71) -> 0 | P16: =C16=(D16+E16) -> TRUE | Q16: =E16=SUM(F16:O16) -> TRUE
A17: kontynuowane zadania wieloletnie | B17: =COUNTIF('gm podst'!C3:C71,"K") -> 17 | C17: =SUMIF('gm podst'!C3:C71,"K",'gm podst'!K3:K71) -> 60324682 | D17: =SUMIF('gm podst'!C3:C71,"K",'gm podst'!M3:M71) -> 25196492 | E17: =SUMIF('gm podst'!C3:C71,"K",'gm podst'!L3:L71) -> 35128191 | F17: =SUMIF('gm podst'!$C$3:$C$71,"K",'gm podst'!O3:O71) -> 6092613.2 | G17: =SUMIF('gm podst'!$C$3:$C$71,"K",'gm podst'!P3:P71) -> 14409783 | H17: =SUMIF('gm podst'!$C$3:$C$71,"K",'gm podst'!Q3:Q71) -> 11890289 | I17: =SUMIF('gm podst'!$C$3:$C$71,"K",'gm podst'!R3:R71) -> 2735505.6 | J17: =SUMIF('gm podst'!$C$3:$C$71,"K",'gm podst'!S3:S71) -> 0 | K17: =SUMIF('gm podst'!$C$3:$C$71,"K",'gm podst'!T3:T71) -> 0 | L17: =SUMIF('gm podst'!$C$3:$C$71,"K",'gm podst'!U3:U71) -> 0 | M17: =SUMIF('gm podst'!$C$3:$C$71,"K",'gm podst'!V3:V71) -> 0 | ... O17: =SUMIF('gm podst'!$C$3:$C$71,"K",'gm podst'!X3:X71) -> 0 | P17: =C17=(D17+E17) -> TRUE | Q17: =E17=SUM(F17:O17) -> TRUE
A18: nowe zadania jednoroczne | B18: =COUNTIF('gm podst'!C3:C71,"N") -> 44 | C18: =SUMIF('gm podst'!C3:C71,"N",'gm podst'!K3:K71) -> 76189453 | D18: =SUMIF('gm podst'!C3:C71,"N",'gm podst'!M3:M71) -> 29232725 | E18: =SUMIF('gm podst'!C3:C71,"N",'gm podst'!L3:L71) -> 46956728 | F18: =SUMIF('gm podst'!$C$3:$C$71,"N",'gm podst'!O3:O71) -> 0 | G18: =SUMIF('gm podst'!$C$3:$C$71,"N",'gm podst'!P3:P71) -> 46956728 | H18: =SUMIF('gm podst'!$C$3:$C$71,"N",'gm podst'!Q3:Q71) -> 0 | I18: =SUMIF('gm podst'!$C$3:$C$71,"N",'gm podst'!R3:R71) -> 0 | J18: =SUMIF('gm podst'!$C$3:$C$71,"N",'gm podst'!S3:S71) -> 0 | K18: =SUMIF('gm podst'!$C$3:$C$71,"N",'gm podst'!T3:T71) -> 0 | L18: =SUMIF('gm podst'!$C$3:$C$71,"N",'gm podst'!U3:U71) -> 0 | M18: =SUMIF('gm podst'!$C$3:$C$71,"N",'gm podst'!V3:V71) -> 0 | ... O18: =SUMIF('gm podst'!$C$3:$C$71,"N",'gm podst'!X3:X71) -> 0 | P18: =C18=(D18+E18) -> TRUE | Q18: =E18=SUM(F18:O18) -> TRUE
A19: nowe zadania wieloletnie | B19: =COUNTIF('gm podst'!C3:C71,"W") -> 8 | C19: =SUMIF('gm podst'!C3:C71,"W",'gm podst'!K3:K71) -> 38640592 | D19: =SUMIF('gm podst'!C3:C71,"W",'gm podst'!M3:M71) -> 21270886 | E19: =SUMIF('gm podst'!C3:C71,"W",'gm podst'!L3:L71) -> 17369706 | F19: =SUMIF('gm podst'!$C$3:$C$71,"W",'gm podst'!O3:O71) -> 0 | G19: =SUMIF('gm podst'!$C$3:$C$71,"W",'gm podst'!P3:P71) -> 7531612.1 | H19: =SUMIF('gm podst'!$C$3:$C$71,"W",'gm podst'!Q3:Q71) -> 9373780.3 | I19: =SUMIF('gm podst'!$C$3:$C$71,"W",'gm podst'!R3:R71) -> 464313.85 | J19: =SUMIF('gm podst'!$C$3:$C$71,"W",'gm podst'!S3:S71) -> 0 | K19: =SUMIF('gm podst'!$C$3:$C$71,"W",'gm podst'!T3:T71) -> 0 | L19: =SUMIF('gm podst'!$C$3:$C$71,"W",'gm podst'!U3:U71) -> 0 | M19: =SUMIF('gm podst'!$C$3:$C$71,"W",'gm podst'!V3:V71) -> 0 | ... O19: =SUMIF('gm podst'!$C$3:$C$71,"W",'gm podst'!X3:X71) -> 0 | P19: =C19=(D19+E19) -> TRUE | Q19: =E19=SUM(F19:O19) -> TRUE
A20: RAZEM listy podstawowe, z tego: | B20: =B12+B16 -> 104 | C20: =C12+C16 -> 4.873949e+08 | D20: =D12+D16 -> 2.2540044e+08 | E20: =E12+E16 -> 2.6199446e+08 | F20: =F12+F16 -> 29152842 | G20: =G12+G16 -> 1.6078925e+08 | H20: =H12+H16 -> 57700783 | I20: =I12+I16 -> 14351584 | ... O20: =O12+O16 -> 0 | P20: =C20=(D20+E20) -> TRUE | Q20: =E20=SUM(F20:O20) -> TRUE
A21: kontynuowane zadania wieloletnie | B21: =B13+B17 -> 32 | C21: =C13+C17 -> 2.4704003e+08 | D21: =D13+D17 -> 1.1894728e+08 | E21: =E13+E17 -> 1.2809274e+08 | F21: =F13+F17 -> 29152842 | G21: =G13+G17 -> 57737102 | H21: =H13+H17 -> 29815528 | I21: =I13+I17 -> 11387270 | ... O21: =O13+O17 -> 0 | P21: =C21=(D21+E21) -> TRUE | Q21: =E21=SUM(F21:O21) -> TRUE
A22: nowe zadania jednoroczne | B22: =B14+B18 -> 59 | C22: =C14+C18 -> 139885619 | D22: =D14+D18 -> 55066292 | E22: =E14+E18 -> 84819327 | F22: =F14+F18 -> 0 | G22: =G14+G18 -> 84819327 | H22: =H14+H18 -> 0 | I22: =I14+I18 -> 0 | ... O22: =O14+O18 -> 0 | P22: =C22=(D22+E22) -> TRUE | Q22: =E22=SUM(F22:O22) -> TRUE
A23: nowe zadania wieloletnie | B23: =B15+B19 -> 13 | C23: =C15+C19 -> 100469256 | D23: =D15+D19 -> 51386863 | E23: =E15+E19 -> 49082393 | F23: =F15+F19 -> 0 | G23: =G15+G19 -> 18232825 | H23: =H15+H19 -> 27885255 | I23: =I15+I19 -> 2964313.9 | ... O23: =O15+O19 -> 0 | P23: =C23=(D23+E23) -> TRUE | Q23: =E23=SUM(F23:O23) -> TRUE
A24: powiatowe - lista rezerwowa | B24: =COUNTA('pow rez'!K3:K12) -> 10 | C24: =SUM('pow rez'!J3:J12) -> 83248423 | D24: =SUM('pow rez'!L3:L12) -> 37804721 | E24: =SUM('pow rez'!K3:K12) -> 45443702 | F24: =SUM('pow rez'!N3:N12) -> 0 | G24: =SUM('pow rez'!O3:O12) -> 29479351 | H24: =SUM('pow rez'!P3:P12) -> 8264233 | I24: =SUM('pow rez'!Q3:Q12) -> 2750058.9 | J24: =SUM('pow rez'!R3:R12) -> 2750059.4 | K24: =SUM('pow rez'!S3:S12) -> 2200000 | L24: =SUM('pow rez'!T3:T12) -> 0 | M24: =SUM('pow rez'!U3:U12) -> 0 | ... O24: =SUM('pow rez'!W3:W12) -> 0 | P24: =C24=(D24+E24) -> TRUE | Q24: =E24=SUM(F24:O24) -> TRUE
A25: nowe zadania jednoroczne | B25: =COUNTIF('pow rez'!C3:C12,"N") -> 6 | C25: =SUMIF('pow rez'!C3:C12,"N",'pow rez'!J3:J12) -> 36114310 | D25: =SUMIF('pow rez'!C3:C12,"N",'pow rez'!L3:L12) -> 15728800 | E25: =SUMIF('pow rez'!C3:C12,"N",'pow rez'!K3:K12) -> 20385510 | F25: =SUMIF('pow rez'!$C$3:$C$12,"N",'pow rez'!N3:N12) -> 0 | G25: =SUMIF('pow rez'!$C$3:$C$12,"N",'pow rez'!O3:O12) -> 20385510 | H25: =SUMIF('pow rez'!$C$3:$C$12,"N",'pow rez'!P3:P12) -> 0 | I25: =SUMIF('pow rez'!$C$3:$C$12,"N",'pow rez'!Q3:Q12) -> 0 | J25: =SUMIF('pow rez'!$C$3:$C$12,"N",'pow rez'!R3:R12) -> 0 | K25: =SUMIF('pow rez'!$C$3:$C$12,"N",'pow rez'!S3:S12) -> 0 | L25: =SUMIF('pow rez'!$C$3:$C$12,"N",'pow rez'!T3:T12) -> 0 | M25: =SUMIF('pow rez'!$C$3:$C$12,"N",'pow rez'!U3:U12) -> 0 | ... O25: =SUMIF('pow rez'!$C$3:$C$12,"N",'pow rez'!W3:W12) -> 0 | P25: =C25=(D25+E25) -> TRUE | Q25: =E25=SUM(F25:O25) -> TRUE
A26: nowe zadania wieloletnie | B26: =COUNTIF('pow rez'!C3:C12,"W") -> 4 | C26: =SUMIF('pow rez'!C3:C12,"W",'pow rez'!J3:J12) -> 47134113 | D26: =SUMIF('pow rez'!C3:C12,"W",'pow rez'!L3:L12) -> 22075921 | E26: =SUMIF('pow rez'!C3:C12,"W",'pow rez'!K3:K12) -> 25058192 | F26: =SUMIF('pow rez'!$C$3:$C$12,"W",'pow rez'!N3:N12) -> 0 | G26: =SUMIF('pow rez'!$C$3:$C$12,"W",'pow rez'!O3:O12) -> 9093840.8 | H26: =SUMIF('pow rez'!$C$3:$C$12,"W",'pow rez'!P3:P12) -> 8264233 | I26: =SUMIF('pow rez'!$C$3:$C$12,"W",'pow rez'!Q3:Q12) -> 2750058.9 | J26: =SUMIF('pow rez'!$C$3:$C$12,"W",'pow rez'!R3:R12) -> 2750059.4 | K26: =SUMIF('pow rez'!$C$3:$C$12,"W",'pow rez'!S3:S12) -> 2200000 | L26: =SUMIF('pow rez'!$C$3:$C$12,"W",'pow rez'!T3:T12) -> 0 | M26: =SUMIF('pow rez'!$C$3:$C$12,"W",'pow rez'!U3:U12) -> 0 | ... O26: =SUMIF('pow rez'!$C$3:$C$12,"W",'pow rez'!W3:W12) -> 0 | P26: =C26=(D26+E26) -> TRUE | Q26: =E26=SUM(F26:O26) -> TRUE
A27: gminne - lista rezerwowa | B27: =COUNTA('gm rez'!L3:L20) -> 18 | C27: =SUM('gm rez'!K3:K20) -> 97421662 | D27: =SUM('gm rez'!M3:M20) -> 48423723 | E27: =SUM('gm rez'!L3:L20) -> 48997939 | F27: =SUM('gm rez'!O3:O20) -> 0 | G27: =SUM('gm rez'!P3:P20) -> 32088036 | H27: =SUM('gm rez'!Q3:Q20) -> 11815213 | I27: =SUM('gm rez'!R3:R20) -> 5094690.5 | J27: =SUM('gm rez'!S3:S20) -> 0 | K27: =SUM('gm rez'!T3:T20) -> 0 | L27: =SUM('gm rez'!U3:U20) -> 0 | M27: =SUM('gm rez'!V3:V20) -> 0 | ... O27: =SUM('gm rez'!X3:X20) -> 0 | P27: =C27=(D27+E27) -> TRUE | Q27: =E27=SUM(F27:O27) -> TRUE
A28: nowe zadania jednoroczne | B28: =COUNTIF('gm rez'!C3:C20,"N") -> 10 | C28: =SUMIF('gm rez'!C3:C20,"N",'gm rez'!K3:K20) -> 42600107 | D28: =SUMIF('gm rez'!C3:C20,"N",'gm rez'!M3:M20) -> 21796048 | E28: =SUMIF('gm rez'!C3:C20,"N",'gm rez'!L3:L20) -> 20804059 | F28: =SUMIF('gm rez'!C3:C20,"N",'gm rez'!O3:O20) -> 0 | G28: =SUMIF('gm rez'!C3:C20,"N",'gm rez'!P3:P20) -> 20804059 | H28: =SUMIF('gm rez'!C3:C20,"N",'gm rez'!Q3:Q20) -> 0 | I28: =SUMIF('gm rez'!D3:D20,"N",'gm rez'!R3:R20) -> 0 | J28: =SUMIF('gm rez'!E3:E20,"N",'gm rez'!S3:S20) -> 0 | K28: =SUMIF('gm rez'!F3:F20,"N",'gm rez'!T3:T20) -> 0 | L28: =SUMIF('gm rez'!G3:G20,"N",'gm rez'!U3:U20) -> 0 | M28: =SUMIF('gm rez'!H3:H20,"N",'gm rez'!V3:V20) -> 0 | N28: =SUMIF('gm rez'!I3:I20,"N",'gm rez'!W3:W20) -> 0 | O28: =SUMIF('gm rez'!J3:J20,"N",'gm rez'!X3:X20) -> 0 | P28: =C28=(D28+E28) -> TRUE | Q28: =E28=SUM(F28:O28) -> TRUE
A29: nowe zadania wieloletnie | B29: =COUNTIF('gm rez'!C3:C20,"W") -> 8 | C29: =SUMIF('gm rez'!C3:C20,"W",'gm rez'!K3:K20) -> 54821555 | D29: =SUMIF('gm rez'!C3:C20,"W",'gm rez'!M3:M20) -> 26627674 | E29: =SUMIF('gm rez'!C3:C20,"W",'gm rez'!L3:L20) -> 28193881 | F29: =SUMIF('gm rez'!C3:C20,"W",'gm rez'!O3:O20) -> 0 | G29: =SUMIF('gm rez'!C3:C20,"W",'gm rez'!P3:P20) -> 11283977 | H29: =SUMIF('gm rez'!C3:C20,"W",'gm rez'!Q3:Q20) -> 11815213 | I29: =SUMIF('gm rez'!C3:C20,"W",'gm rez'!R3:R20) -> 5094690.5 | J29: =SUMIF('gm rez'!E3:E20,"W",'gm rez'!S3:S20) -> 0 | K29: =SUMIF('gm rez'!F3:F20,"W",'gm rez'!T3:T20) -> 0 | L29: =SUMIF('gm rez'!G3:G20,"W",'gm rez'!U3:U20) -> 0 | M29: =SUMIF('gm rez'!H3:H20,"W",'gm rez'!V3:V20) -> 0 | N29: =SUMIF('gm rez'!I3:I20,"W",'gm rez'!W3:W20) -> 0 | O29: =SUMIF('gm rez'!J3:J20,"W",'gm rez'!X3:X20) -> 0 | P29: =C29=(D29+E29) -> TRUE | Q29: =E29=SUM(F29:O29) -> TRUE
A30: RAZEM listy rezerwowe, z tego: | B30: =B24+B27 -> 28 | C30: =C24+C27 -> 180670085 | D30: =D24+D27 -> 86228444 | E30: =E24+E27 -> 94441641 | F30: =F24+F27 -> 0 | G30: =G24+G27 -> 61567386 | H30: =H24+H27 -> 20079446 | I30: =I24+I27 -> 7844749.3 | ... O30: =O24+O27 -> 0 | P30: =C30=(D30+E30) -> TRUE | Q30: =E30=SUM(F30:O30) -> TRUE
A31: nowe zadania jednoroczne | B31: =B25+B28 -> 16 | C31: =C25+C28 -> 78714417 | D31: =D25+D28 -> 37524849 | E31: =E25+E28 -> 41189568 | F31: =F25+F28 -> 0 | G31: =G25+G28 -> 41189568 | H31: =H25+H28 -> 0 | I31: =I25+I28 -> 0 | ... O31: =O25+O28 -> 0 | P31: =C31=(D31+E31) -> TRUE | Q31: =E31=SUM(F31:O31) -> TRUE
A32: nowe zadania wieloletnie | B32: =B26+B29 -> 12 | C32: =C26+C29 -> 101955668 | D32: =D26+D29 -> 48703595 | E32: =E26+E29 -> 53252073 | F32: =F26+F29 -> 0 | G32: =G26+G29 -> 20377818 | H32: =H26+H29 -> 20079446 | I32: =I26+I29 -> 7844749.3 | ... O32: =O26+O29 -> 0 | P32: =C32=(D32+E32) -> TRUE | Q32: =E32=SUM(F32:O32) -> TRUE
A33: RAZEM listy, z tego: | B33: =B20+B30 -> 132 | C33: =C20+C30 -> 6.6806499e+08 | D33: =D20+D30 -> 3.1162888e+08 | E33: =E20+E30 -> 3.564361e+08 | F33: =F20+F30 -> 29152842 | G33: =G20+G30 -> 2.2235664e+08 | H33: =H20+H30 -> 77780229 | I33: =I20+I30 -> 22196333 | ... O33: =O20+O30 -> 0 | P33: =C33=(D33+E33) -> TRUE | Q33: =E33=SUM(F33:O33) -> TRUE
A34: kontynuowane zadania wieloletnie | B34: =B21 -> 32 | C34: =C21 -> 2.4704003e+08 | D34: =D21 -> 1.1894728e+08 | E34: =E21 -> 1.2809274e+08 | F34: =F21 -> 29152842 | G34: =G21 -> 57737102 | H34: =H21 -> 29815528 | I34: =I21 -> 11387270 | ... O34: =O21 -> 0 | P34: =C34=(D34+E34) -> TRUE | Q34: =E34=SUM(F34:O34) -> TRUE
A35: nowe zadania jednoroczne | B35: =B22+B31 -> 75 | C35: =C22+C31 -> 218600036 | D35: =D22+D31 -> 92591141 | E35: =E22+E31 -> 1.260089e+08 | F35: =F22+F31 -> 0 | G35: =G22+G31 -> 1.260089e+08 | H35: =H22+H31 -> 0 | I35: =I22+I31 -> 0 | ... O35: =O22+O31 -> 0 | P35: =C35=(D35+E35) -> TRUE | Q35: =E35=SUM(F35:O35) -> TRUE
A36: nowe zadania wieloletnie | B36: =B23+B32 -> 25 | C36: =C23+C32 -> 202424924 | D36: =D23+D32 -> 1.0009046e+08 | E36: =E23+E32 -> 1.0233447e+08 | F36: =F23+F32 -> 0 | G36: =G23+G32 -> 38610642 | H36: =H23+H32 -> 47964701 | I36: =I23+I32 -> 10809063 | ... O36: =O23+O32 -> 0 | P36: =C36=(D36+E36) -> TRUE | Q36: =E36=SUM(F36:O36) -> TRUE
B38: =B33=B34+B35+B36 -> TRUE | C38: =C33=C34+C35+C36 -> TRUE | D38: =D33=D34+D35+D36 -> TRUE | E38: =E33=E34+E35+E36 -> TRUE | F38: =F33=F34+F35+F36 -> TRUE | G38: =G33=G34+G35+G36 -> TRUE | H38: =H33=H34+H35+H36 -> TRUE | I38: =I33=I34+I35+I36 -> TRUE | ... O38: =O33=O34+O35+O36 -> TRUE
B39: =B21=B34 -> TRUE | C39: =C21=C34 -> TRUE | D39: =D21=D34 -> TRUE | E39: =E21=E34 -> TRUE | F39: =F21=F34 -> TRUE | G39: =G21=G34 -> TRUE | H39: =H21=H34 -> TRUE | I39: =I21=I34 -> TRUE | ... O39: =O21=O34 -> TRUE
B40: =B14+B18+B25+B28=B35 -> TRUE | C40: =C14+C18+C25+C28=C35 -> TRUE | D40: =D14+D18+D25+D28=D35 -> TRUE | E40: =E14+E18+E25+E28=E35 -> TRUE | F40: =F14+F18+F25+F28=F35 -> TRUE | G40: =G14+G18+G25+G28=G35 -> TRUE | H40: =H14+H18+H25+H28=H35 -> TRUE | I40: =I14+I18+I25+I28=I35 -> TRUE | ... O40: =O14+O18+O25+O28=O35 -> TRUE
B41: =B15+B19+B26+B29=B36 -> TRUE | C41: =C15+C19+C26+C29=C36 -> TRUE | D41: =D15+D19+D26+D29=D36 -> TRUE | E41: =E15+E19+E26+E29=E36 -> TRUE | F41: =F15+F19+F26+F29=F36 -> TRUE | G41: =G15+G19+G26+G29=G36 -> TRUE | H41: =H15+H19+H26+H29=H36 -> TRUE | I41: =I15+I19+I26+I29=I36 -> TRUE | ... O41: =O15+O19+O26+O29=O36 -> TRUE
B42: =B12=B13+B14+B15 -> TRUE | C42: =C12=C13+C14+C15 -> TRUE | D42: =D12=D13+D14+D15 -> TRUE | E42: =E12=E13+E14+E15 -> TRUE | F42: =F12=F13+F14+F15 -> TRUE | G42: =G12=G13+G14+G15 -> TRUE | H42: =H12=H13+H14+H15 -> TRUE | I42: =I12=I13+I14+I15 -> TRUE | ... O42: =O12=O13+O14+O15 -> TRUE
B43: =B16=B17+B18+B19 -> TRUE | C43: =C16=C17+C18+C19 -> TRUE | D43: =D16=D17+D18+D19 -> TRUE | E43: =E16=E17+E18+E19 -> TRUE | F43: =F16=F17+F18+F19 -> TRUE | G43: =G16=G17+G18+G19 -> TRUE | H43: =H16=H17+H18+H19 -> TRUE | I43: =I16=I17+I18+I19 -> TRUE | ... O43: =O16=O17+O18+O19 -> TRUE
B44: =B20=B21+B22+B23 -> TRUE | C44: =C20=C21+C22+C23 -> TRUE | D44: =D20=D21+D22+D23 -> TRUE | E44: =E20=E21+E22+E23 -> TRUE | F44: =F20=F21+F22+F23 -> TRUE | G44: =G20=G21+G22+G23 -> TRUE | H44: =H20=H21+H22+H23 -> TRUE | I44: =I20=I21+I22+I23 -> TRUE | ... O44: =O20=O21+O22+O23 -> TRUE
B45: =B24=B25+B26 -> TRUE | C45: =C24=C25+C26 -> TRUE | D45: =D24=D25+D26 -> TRUE | E45: =E24=E25+E26 -> TRUE | F45: =F24=F25+F26 -> TRUE | G45: =G24=G25+G26 -> TRUE | H45: =H24=H25+H26 -> TRUE | I45: =I24=I25+I26 -> TRUE | ... O45: =O24=O25+O26 -> TRUE
...

Sheet pow podst
A1: L.p. | B1: Nr ewid. | C1: Zadanie nowe/kontynuowane/wieloletnie [N/K/W] | D1: Jednostka Samorządu Terytorialnego | E1: TERC | F1: Nazwa zadania | G1: Rodzaj zadania | H1: Długość odcinka (w km) | I1: Okres realizacji zadania | J1: Ogółem wartość projektu (w zł) | K1: Wnioskowana kwota dofinansowania (w zł) | L1: Deklarowana kwota środków własnych (w zł) | M1: % dofinansowania | N1: Kwota dofinansowania w podziale na lata
N2: 2019 | O2: 2020 | P2: 2021 | Q2: 2022 | R2: 2023 | S2: 2024 | T2: 2025 | U2: 2026 | V2: 2027 | W2: 2028 | X2: spr-lata | Y2: spr-procent | Z2: spr-dof | AA2: spr-montaż
A3: 1 | B3: 121/19 | C3: K | D3: POWIAT CIESZYŃSKI | E3: 2403 | F3: Rozbudowa drogi powiatowej 2602S - ul. Góreckiej w Skoczowie na odcinku ok. 1,2 km (od przejazdu kolejowego do drogi ekspresowej S52) z rozbiórką mostu nad Bajerką i budową nowego obiektu inżynierskiego | G3: B | H3: 1.178 | I3: październik 2019 - listopad 2020 | J3: 9006527 | K3: 6304568.9 | L3: 2701958.1 | M3: 0.7 | N3: 32501.7 | O3: 6272067.2 | X3: =K3=SUM(N3:W3) -> TRUE | Y3: =ROUND(K3/J3,4) -> 0.7 | Z3: =Y3=M3 -> TRUE | AA3: =J3=K3+L3 -> TRUE
A4: 2 | B4: 152/19 | C4: K | D4: POWIAT CZĘSTOCHOWSKI | E4: 2404 | F4: Przebudowa ciągu dróg powiatowych nr 1070 S Kłomnice-Kruszyna, nr 1025 S Kruszyna-Borowno i nr 1019 S Borowno-Witkowice, gmina Kłomnice, Kruszyna i Mykanów | G4: P | H4: 15.569 | I4: wrzesień 2019 - sierpień 2022 | J4: 32963000 | K4: 18129650 | L4: 14833350 | M4: 0.55 | N4: 1226775 | O4: 5375700 | P4: 5763587.5 | Q4: 5763587.5 | X4: =K4=SUM(N4:W4) -> TRUE | Y4: =ROUND(K4/J4,4) -> 0.55 | Z4: =Y4=M4 -> TRUE | AA4: =J4=K4+L4 -> TRUE
A5: 3 | B5: 184/19 | C5: K | D5: MIASTO ZABRZE | E5: 2478011 | F5: Rozbudowa skrzyżowania ul. Roosevelta z ul. Piłsudskiego - budowa ronda, przebudowa ulicy Piłsudskiego od skrzyżowania z ul. Roosevelta do wiaduktu kolejowego, budowa doświetlenia przejścia dla pieszych w ciągu ul. 3-go Maja na wysokości ul. Lutra, Padlewskiego, Floriana, Bohaterów Warszawskich, Sądowej, Franklina Roosevelta | G5: BP | H5: 1.234 | I5: styczeń 2019 - październik 2020 | J5: 22532526 | K5: 11266263 | L5: 11266263 | M5: 0.5 | N5: 4958308 | O5: 6307955 | X5: =K5=SUM(N5:W5) -> TRUE | Y5: =ROUND(K5/J5,4) -> 0.5 | Z5: =Y5=M5 -> TRUE | AA5: =J5=K5+L5 -> TRUE
A6: 4 | B6: 165/19 | C6: K | D6: MIASTO MYSŁOWICE | E6: 2470011 | F6: Przebudowa ul. Laryskiej w Mysłowicach - I etap | G6: P | H6: 3.5 | I6: październik 2019 - lipiec 2021 | J6: 9520197 | K6: 7616157.6 | L6: 1904039.4 | M6: 0.8 | N6: 228484.8 | O6: 3579594.4 | P6: 3808078.4 | X6: =K6=SUM(N6:W6) -> TRUE | Y6: =ROUND(K6/J6,4) -> 0.8 | Z6: =Y6=M6 -> TRUE | AA6: =J6=K6+L6 -> TRUE
A7: 5 | B7: 171/19 | C7: K | D7: POWIAT ŻYWIECKI | E7: 2417 | F7: Przebudowa drogi powiatowej nr 1415 S od km 8+216 do km 8+546 wraz z budową chodnika i kanalizacji deszczowej od km 8+471 do km 9+411 (ul. Jasnogórska) w miejscowości Ślemień, gmina Ślemień | G7: P | H7: 1.195 | I7: wrzesień 2019 - październik 2020 | J7: 1199765 | K7: 899823.75 | L7: 299941.25 | M7: 0.75 | N7: 65967.75 | O7: 833856 | X7: =K7=SUM(N7:W7) -> TRUE | Y7: =ROUND(K7/J7,4) -> 0.75 | Z7: =Y7=M7 -> TRUE | AA7: =J7=K7+L7 -> TRUE
A8: 6 | B8: 150/19 | C8: K | D8: POWIAT CZĘSTOCHOWSKI | E8: 2404 | F8: Przebudowa ciągu dróg powiatowych nr 1057 S na odc. Huta Stara A - Poczesna i nr 1056 S na odc. Mazury - Młynek, gmina Poczesna | G8: P | H8: 3.35 | I8: sierpień 2019 - sierpień 2022 | J8: 7600000 | K8: 4180000 | L8: 3420000 | M8: 0.55 | N8: 606100 | O8: 1324400 | P8: 1324400 | Q8: 925100 | X8: =K8=SUM(N8:W8) -> TRUE | Y8: =ROUND(K8/J8,4) -> 0.55 | Z8: =Y8=M8 -> TRUE | AA8: =J8=K8+L8 -> TRUE
A9: 7 | B9: 146/19 | C9: K | D9: MIASTO CZĘSTOCHOWA | E9: 2464011 | F9: Przebudowa ulicy Łódzkiej w Częstochowie | G9: P | H9: 0.906 | I9: kwiecień 2019 - lipiec 2020 | J9: 3058768 | K9: 1529384 | L9: 1529384 | M9: 0.5 | N9: 1161282.5 | O9: 368101.5 | X9: =K9=SUM(N9:W9) -> TRUE | Y9: =ROUND(K9/J9,4) -> 0.5 | Z9: =Y9=M9 -> TRUE | AA9: =J9=K9+L9 -> TRUE
A10: 8 | B10: 20/19 | C10: K | D10: POWIAT MYSZKOWSKI | E10: 2409 | F10: Przebudowa drogi powiatowej nr 1012 S na odcinku ok. 1000,0 od m. Gęzyn gmina Poraj w kierunku m. Koziegłowy, na odcinku o długości 950,0 m od ul. Jasnej w Poraju oraz przebudowa mostu nad rz. Warta w ciągu DP 1012S w m. Poraj ul. Jastrzębska | G10: P | H10: 1.981 | I10: lipiec 2019 - listopad 2020 | J10: 4314889 | K10: 2588933.4 | L10: 1725955.6 | M10: 0.6 | N10: 517786.8 | O10: 2071146.6 | X10: =K10=SUM(N10:W10) -> TRUE | Y10: =ROUND(K10/J10,4) -> 0.6 | Z10: =Y10=M10 -> TRUE | AA10: =J10=K10+L10 -> TRUE
A11: 9 | B11: 54/19 | C11: K | D11: MIASTO JAWORZNO | E11: 2468011 | F11: Przebudowa ul. 11 Listopada 6801 S wraz ze skrzyżowaniem z ul. Grunwaldzką 6801 S oraz budową łącznika do DK79 w Jaworznie | G11: BP | H11: 0.802 | I11: czerwiec 2019 - październik 2020 | J11: 7505000 | K11: 3752500 | L11: 3752500 | M11: 0.5 | N11: 3252500 | O11: 500000 | X11: =K11=SUM(N11:W11) -> TRUE | Y11: =ROUND(K11/J11,4) -> 0.5 | Z11: =Y11=M11 -> TRUE | AA11: =J11=K11+L11 -> TRUE
A12: 10 | B12: 141/19 | C12: K | D12: POWIAT TARNOGÓRSKI | E12: 2413 | F12: Budowa ścieżki rowerowej na odcinku Laryszów - Miedary (nr drogi 3218S) w gminie Zbrosławice | G12: P | H12: 1.512 | I12: sierpień 2019 - listopad 2020 | J12: 1927672 | K12: 963836 | L12: 963836 | M12: 0.5 | N12: 340000 | O12: 623836 | X12: =K12=SUM(N12:W12) -> TRUE | Y12: =ROUND(K12/J12,4) -> 0.5 | Z12: =Y12=M12 -> TRUE | AA12: =J12=K12+L12 -> TRUE
A13: 11 | B13: 57/19 | C13: K | D13: POWIAT MIKOŁOWSKI | E13: 2408 | F13: Przebudowa ul. Żorskiej w Orzeszu - etap II | G13: P | H13: 2.77 | I13: wrzesień 2019 - październik 2021 | J13: 9628812 | K13: 5295846.6 | L13: 4332965.4 | M13: 0.55 | N13: 27500 | O13: 2634173.3 | P13: 2634173.3 | X13: =K13=SUM(N13:W13) -> TRUE | Y13: =ROUND(K13/J13,4) -> 0.55 | Z13: =Y13=M13 -> TRUE | AA13: =J13=K13+L13 -> TRUE
A14: 12 | B14: 18/19 | C14: K | D14: POWIAT MYSZKOWSKI | E14: 2409 | F14: Przebudowa drogi powiatowej nr 2311 S na odcinku 2 430 m od ronda w m. Mzyki do DW789 | G14: P | H14: 2.43 | I14: lipiec 2019 - listopad 2020 | J14: 4076792 | K14: 2446075.2 | L14: 1630716.8 | M14: 0.6 | N14: 489214.8 | O14: 1956860.4 | X14: =K14=SUM(N14:W14) -> TRUE | Y14: =ROUND(K14/J14,4) -> 0.6 | Z14: =Y14=M14 -> TRUE | AA14: =J14=K14+L14 -> TRUE
A15: 13 | B15: 177/19 | C15: K | D15: MIASTO CHORZÓW | E15: 2463011 | F15: Przebudowa ulicy 3 Maja w Chorzowie | G15: P | H15: 2.133 | I15: sierpień 2019 - czerwiec 2022 | J15: 28426154 | K15: 14213077 | L15: 14213077 | M15: 0.5 | N15: 1855000 | O15: 6000000 | P15: 4395000 | Q15: 1963077 | X15: =K15=SUM(N15:W15) -> TRUE | Y15: =ROUND(K15/J15,4) -> 0.5 | Z15: =Y15=M15 -> TRUE | AA15: =J15=K15+L15 -> TRUE
A16: 14 | B16: 19/19 | C16: K | D16: POWIAT MYSZKOWSKI | E16: 2409 | F16: Przebudowa drogi powiatowej nr 1715 S w m. Myszków (Nierada) w km 0+043,57 do km 0+537,00 łącznie z robotami na przepuście i przebudową mostu | G16: P | H16: 0.516 | I16: lipiec 2019 - listopad 2020 | J16: 3603715 | K16: 2162229 | L16: 1441486 | M16: 0.6 | N16: 432445.8 | O16: 1729783.2 | X16: =K16=SUM(N16:W16) -> TRUE | Y16: =ROUND(K16/J16,4) -> 0.6 | Z16: =Y16=M16 -> TRUE | AA16: =J16=K16+L16 -> TRUE
A17: 15* | B17: 182/19 | C17: K | D17: MIASTO GLIWICE | E17: 2466011 | F17: Budowa południowej części obwodnicy miasta, rozbudowa układu drogowego pomiędzy ul. Bojkowską i ul. Pszczyńską w Gliwicach wraz z infrastrukturą towarzyszącą. Etap II | G17: B | H17: 1.61 | I17: marzec 2019 - sierpień 2020 | J17: 41351528 | K17: 11616208 | L17: 29735320 | M17: 0.5 | N17: 7866362 | O17: 3749845.7 | X17: =K17=SUM(N17:W17) -> TRUE | Y17: =ROUND(K17/J17,4) -> 0.2809 | Z17: =Y17=M17 -> FALSE | AA17: =J17=K17+L17 -> TRUE
A18: 16 | B18: 210/19 | C18: W | D18: MIASTO JAWORZNO | E18: 2468011 | F18: Przebudowa ul. Martyniaków 6809 S w Jaworznie | G18: P | H18: 1.92 | I18: styczeń 2020 - październik 2022 | J18: 10000000 | K18: =ROUND(J18*M18,2) -> 5000000 | L18: =J18-K18 -> 5000000 | M18: 0.5 | N18: 0 | O18: 500000 | P18: 2000000 | Q18: 2500000 | X18: =K18=SUM(N18:W18) -> TRUE | Y18: =ROUND(K18/J18,4) -> 0.5 | Z18: =Y18=M18 -> TRUE | AA18: =J18=K18+L18 -> TRUE
A19: 17 | B19: 267/19 | C19: N | D19: POWIAT BIELSKI | E19: 2402 | F19: Przebudowa drogi powiatowej nr 4490S w Zasolu Bielańskim na odcinku 1734 m wraz z przebudową skrzyżowania z drogą powiatową nr 4491S na rondo i przebudową drogi 4491 S na łącznej długości 58 m | G19: P | H19: 1.792 | I19: czerwiec 2020 - maj 2021 | J19: 6805128 | K19: =ROUND(J19*M19,2) -> 3742820.4 | L19: =J19-K19 -> 3062307.6 | M19: 0.55 | N19: 0 | O19: 3742820.4 | X19: =K19=SUM(N19:W19) -> TRUE | Y19: =ROUND(K19/J19,4) -> 0.55 | Z19: =Y19=M19 -> TRUE | AA19: =J19=K19+L19 -> TRUE
A20: 18 | B20: 262/19 | C20: W | D20: MIASTO JASTRZĘBIE - ZDRÓJ | E20: 2467011 | F20: Rozbudowa odcinka al. Piłsudskiego wraz ze skrzyżowaniem oraz budowa wiaduktu w Jastrzębiu - Zdroju | G20: B | H20: 0.596 | I20: maj 2020 - wrzesień 2021 | J20: 25420149 | K20: =ROUND(J20*M20,2) -> 12710074 | L20: =J20-K20 -> 12710074 | M20: 0.5 | N20: 0 | O20: 2750000 | P20: 9960074.5 | X20: =K20=SUM(N20:W20) -> TRUE | Y20: =ROUND(K20/J20,4) -> 0.5 | Z20: =Y20=M20 -> TRUE | AA20: =J20=K20+L20 -> TRUE
A21: 19 | B21: 240/19 | C21: W | D21: POWIAT PSZCZYŃSKI | E21: 2410 | F21: Przebudowa dróg powiatowych 4149S tj. ul. Szkolnej w Porębie i ul. Porębskiej w Radostowicach | G21: P | H21: 2.237 | I21: marzec2020 - sierpień 2021 | J21: 8253594 | K21: =ROUND(J21*M21,2) -> 4539476.7 | L21: =J21-K21 -> 3714117.3 | M21: 0.55 | N21: 0 | O21: 3135000 | P21: 1404476.7 | X21: =K21=SUM(N21:W21) -> TRUE | Y21: =ROUND(K21/J21,4) -> 0.55 | Z21: =Y21=M21 -> TRUE | AA21: =J21=K21+L21 -> TRUE
A22: 20 | B22: 328/19 | C22: W | D22: POWIAT RACIBORSKI | E22: 2411 | F22: Rozbudowa odcinka drogi powiatowej nr 3504S w Kornicach na odcinku od początku skrzyżowania z DP 3525S do km 2+386 i przebudowa na odcinku od km 1+966 do km 1+589 | G22: B | H22: 0.773 | I22: luty 2020 - czerwiec 2021 | J22: 7713504 | K22: =ROUND(J22*M22,2) -> 4242427.2 | L22: =J22-K22 -> 3471076.8 | M22: 0.55 | N22: 0 | O22: 2750000 | P22: 1492427.2 | X22: =K22=SUM(N22:W22) -> TRUE | Y22: =ROUND(K22/J22,4) -> 0.55 | Z22: =Y22=M22 -> TRUE | AA22: =J22=K22+L22 -> TRUE
A23: 21 | B23: 218/19 | C23: N | D23: POWIAT GLIWICKI | E23: 2405 | F23: Przebudowa drogi powiatowej Nr 2985S ul. Powstańców Śląskich w Pyskowicach | G23: P | H23: 0.627 | I23: marzec 2020-październik 2020 | J23: 1493834 | K23: =ROUND(J23*M23,2) -> 896300.4 | L23: =J23-K23 -> 597533.6 | M23: 0.6 | N23: 0 | O23: 896300.4 | X23: =K23=SUM(N23:W23) -> TRUE | Y23: =ROUND(K23/J23,4) -> 0.6 | Z23: =Y23=M23 -> TRUE | AA23: =J23=K23+L23 -> TRUE
A24: 22 | B24: 217/19 | C24: N | D24: POWIAT GLIWICKI | E24: 2405 | F24: Rozbudowa i przebudowa drogi powiatowej Nr 2982 S ul. Szpitalna w Knurowie | G24: P | H24: 0.594 | I24: marzec 2020-październik 2020 | J24: 5028827 | K24: =ROUND(J24*M24,2) -> 3017296.2 | L24: =J24-K24 -> 2011530.8 | M24: 0.6 | N24: 0 | O24: 3017296.2 | X24: =K24=SUM(N24:W24) -> TRUE | Y24: =ROUND(K24/J24,4) -> 0.6 | Z24: =Y24=M24 -> TRUE | AA24: =J24=K24+L24 -> TRUE
A25: 23 | B25: 225/19 | C25: N | D25: POWIAT ZAWIERCIAŃSKI | E25: 2416 | F25: Przebudowa drogi powiatowej nr 1726S i 1730S na odcinku od skrzyżowania ulicy Leśnej z ulicą Piłsudskiego (rondo) do drogi krajowej nr 78 w miejscowości Zawiercie - Kromołów | G25: P | H25: 4.47 | I25: kwiecień 2020 - październik 2020 | J25: 8491041 | K25: =ROUNDDOWN(J25*M25,0) -> 6792832 | L25: =J25-K25 -> 1698209 | M25: 0.8 | O25: =K25 -> 6792832 | X25: =K25=SUM(N25:W25) -> TRUE | Y25: =ROUND(K25/J25,4) -> 0.8 | Z25: =Y25=M25 -> TRUE | AA25: =J25=K25+L25 -> TRUE
A26: 24 | B26: 238/19 | C26: N | D26: POWIAT WODZISŁAWSKI | E26: 2415 | F26: Przebudowa drogi powiatowej 5024S (ul. Traugutta) w Pszowie | G26: P | H26: 0.872 | I26: czerwiec 2020 - maj 2021 | J26: 6096564 | K26: =ROUND(J26*M26,2) -> 3048282 | L26: =J26-K26 -> 3048282 | M26: 0.5 | N26: 0 | O26: 3048282 | X26: =K26=SUM(N26:W26) -> TRUE | Y26: =ROUND(K26/J26,4) -> 0.5 | Z26: =Y26=M26 -> TRUE | AA26: =J26=K26+L26 -> TRUE
A27: 25 | B27: 258/19 | C27: N | D27: POWIAT CIESZYŃSKI | E27: 2403 | F27: Rozbudowa drogi powiatowej 2621 S - ul. Długiej w Hażlachu na odcinku od lasu Brzezie w kierunku centrum Hażlacha (do istniejącego chodnika) | G27: B | H27: 0.986 | I27: czerwiec 2020 - listopad 2020 | J27: 4357911 | K27: =ROUND(J27*M27,2) -> 2396851 | L27: =J27-K27 -> 1961060 | M27: 0.55 | N27: 0 | O27: 2396851 | X27: =K27=SUM(N27:W27) -> TRUE | Y27: =ROUND(K27/J27,4) -> 0.55 | Z27: =Y27=M27 -> TRUE | AA27: =J27=K27+L27 -> TRUE
A28: 26 | B28: 268/19 | C28: N | D28: POWIAT BIELSKI | E28: 2402 | F28: Przebudowa drogi powiatowej nr 4453 S ul. Prusa w Czechowicach-Dziedzicach wraz z rozbudową skrzyżowania z drogą gminną nr 350012 S (ul. Barlickiego) | G28: P | H28: 1.029 | I28: lipiec 2020-czerwiec 2021 | J28: 8001543 | K28: =ROUND(J28*M28,2) -> 4400848.7 | L28: =J28-K28 -> 3600694.3 | M28: 0.55 | N28: 0 | O28: 4400848.7 | X28: =K28=SUM(N28:W28) -> TRUE | Y28: =ROUND(K28/J28,4) -> 0.55 | Z28: =Y28=M28 -> TRUE | AA28: =J28=K28+L28 -> TRUE
A29: 27 | B29: 226/19 | C29: N | D29: POWIAT ZAWIERCIAŃSKI | E29: 2416 | F29: Przebudowa drogi powiatowej nr 1765S od km 0+000 - skrzyżowanie ul. 17-go Stycznia z drogą wojewódzką 794 w Pilicy do km 4+560 w Kocikowej oraz od km 4+560 do km 5+505 w Kocikowej | G29: P | H29: 5.505 | I29: kwiecień 2020 - październik 2020 | J29: 3456000 | K29: =ROUNDDOWN(J29*M29,0) -> 2764800 | L29: =J29-K29 -> 691200 | M29: 0.8 | O29: =K29 -> 2764800 | X29: =K29=SUM(N29:W29) -> TRUE | Y29: =ROUND(K29/J29,4) -> 0.8 | Z29: =Y29=M29 -> TRUE | AA29: =J29=K29+L29 -> TRUE
A30: 28 | B30: 286/19 | C30: N | D30: POWIAT TARNOGÓRSKI | E30: 2413 | F30: Rozbudowa ul. Powstańców Śląskich w Tarnowskich Górach | G30: B | H30: 0.701 | I30: czerwiec 2020 - maj 2021 | J30: 6968000 | K30: =ROUND(J30*M30,2) -> 3484000 | L30: =J30-K30 -> 3484000 | M30: 0.5 | N30: 0 | O30: 3484000 | X30: =K30=SUM(N30:W30) -> TRUE | Y30: =ROUND(K30/J30,4) -> 0.5 | Z30: =Y30=M30 -> TRUE | AA30: =J30=K30+L30 -> TRUE
A31: 29 | B31: 204/19 | C31: N | D31: POWIAT MYSZKOWSKI | E31: 2409 | F31: Przebudowa drogi powiatowej nr 3804 S na odcinku Myszków ul. Pińczycka do Stara Huta ul. Myszkowska | G31: P | H31: 2.271 | I31: marzec 2020 - listopad 2020 | J31: 2100412 | K31: 1575309 | L31: 525103 | M31: 0.75 | O31: 1575309 | X31: =K31=SUM(N31:W31) -> TRUE | Y31: =ROUND(K31/J31,4) -> 0.75 | Z31: =Y31=M31 -> TRUE | AA31: =J31=K31+L31 -> TRUE
A32: 30 | B32: 294/19 | C32: N | D32: POWIAT ŻYWIECKI | E32: 2417 | F32: Przebudowa odcinka drogi powiatowej nr 1455 S Pietrzykowice - Lipowa - Ostre - Twardorzeczka - Leśna w km od 4+774 do km 6+071 w miejscowości Lipowa | G32: P | H32: 1.297 | I32: styczeń 2020 - listopad 2020 | J32: 2673522 | K32: 1871465 | L32: 802057 | M32: 0.7 | O32: 1871465 | X32: =K32=SUM(N32:W32) -> TRUE | Y32: =ROUND(K32/J32,4) -> 0.7 | Z32: =Y32=M32 -> TRUE | AA32: =J32=K32+L32 -> TRUE
A33: 31 | B33: 257/19 | C33: N | D33: POWIAT CIESZYŃSKI | E33: 2403 | F33: Remont drogi powiatowej 2602 S Skoczów - Brenna (ul. Górecka w Brennej) na odc. ok. 1 km | G33: R | H33: 0.986 | I33: maj 2020 - październik 2020 | J33: 1202046 | K33: =ROUND(J33*M33,2) -> 661125.3 | L33: =J33-K33 -> 540920.7 | M33: 0.55 | N33: 0 | O33: 661125.3 | X33: =K33=SUM(N33:W33) -> TRUE | Y33: =ROUND(K33/J33,4) -> 0.55 | Z33: =Y33=M33 -> TRUE | AA33: =J33=K33+L33 -> TRUE
A34: 32 | B34: 316/19 | C34: N | D34: MIASTO CZĘSTOCHOWA | E34: 2464011 | F34: Przebudowa ulicy Korczaka w Częstochowie | G34: P | H34: 0.26 | I34: marzec 2020 - listopad 2020 | J34: 2199653 | K34: =ROUND(J34*M34,2) -> 1099826.5 | L34: =J34-K34 -> 1099826.5 | M34: 0.5 | N34: 0 | O34: 1099826.5 | X34: =K34=SUM(N34:W34) -> TRUE | Y34: =ROUND(K34/J34,4) -> 0.5 | Z34: =Y34=M34 -> TRUE | AA34: =J34=K34+L34 -> TRUE
A35: 33 | B35: 310/19 | C35: W | D35: MIASTO MYSŁOWICE | E35: 2470011 | F35: Przebudowa ul. 3 Maja w Mysłowicach od ul. Laryskiej do ul. Dzierżonia i Orła Białego | G35: P | H35: 0.833 | I35: kwiecień 2020 - sierpień 2021 | J35: 10441417 | K35: =ROUND(J35*M35,2) -> 5220708.5 | L35: =J35-K35 -> 5220708.5 | M35: 0.5 | N35: 0 | O35: 1566212.5 | P35: 3654496 | X35: =K35=SUM(N35:W35) -> TRUE | Y35: =ROUND(K35/J35,4) -> 0.5 | Z35: =Y35=M35 -> TRUE | AA35: =J35=K35+L35 -> TRUE
A36: 34 | B36: 237/19 | C36: N | D36: POWIAT WODZISŁAWSKI | E36: 2415 | F36: Przebudowa drogi powiatowej nr 5024S (ul. Bohaterów Warszawy) w Rydułtowach wraz z remontem chodnika | G36: P | H36: 1.189 | I36: kwiecień 2020 - październik 2020 | J36: 3855685 | K36: =ROUND(J36*M36,2) -> 1927842.5 | L36: =J36-K36 -> 1927842.5 | M36: 0.5 | N36: 0 | O36: 1927842.5 | X36: =K36=SUM(N36:W36) -> TRUE | Y36: =ROUND(K36/J36,4) -> 0.5 | Z36: =Y36=M36 -> TRUE | AA36: =J36=K36+L36 -> TRUE
A37: 35* | B37: 249/19 | C37: N | D37: POWIAT BIERUŃSKO-LĘDZIŃSKI | E37: 2414 | F37: Przebudowa drogi powiatowej 5923S, ul. Dzikowej w Lędzinach w km od 2+534 do 2+927 | G37: P | H37: 0.393 | I37: kwiecień 2020 - czerwiec 2020 | J37: 966000 | K37: 183000 | L37: =J37-K37 -> 783000 | M37: 0.5 | N37: 0 | O37: 183000 | X37: =K37=SUM(N37:W37) -> TRUE | Y37: =ROUND(K37/J37,4) -> 0.1894 | Z37: =Y37=M37 -> FALSE | AA37: =J37=K37+L37 -> TRUE
A38: RAZEM, z tego: | H38: =SUM(H3:H37) -> 70.017 | I38: x | J38: =SUM(J3:J37) -> 312240175 | K38: =SUM(K3:K37) -> 1.6253984e+08 | L38: =SUM(L3:L37) -> 1.4970034e+08 | M38: x | N38: =SUM(N3:N37) -> 23060229 | O38: =SUM(O3:O37) -> 91891131 | P38: =SUM(P3:P37) -> 36436714 | Q38: =SUM(Q3:Q37) -> 11151764 | R38: =SUM(R3:R37) -> 0 | S38: =SUM(S3:S37) -> 0 | T38: =SUM(T3:T37) -> 0 | U38: =SUM(U3:U37) -> 0 | ... W38: =SUM(W3:W37) -> 0 | X38: =K38=SUM(N38:W38) -> TRUE | Y38: =ROUND(K38/J38,4) -> 0.5206 | Z38: x | AA38: =J38=K38+L38 -> TRUE
A39: kontynuowane zadania wieloletnie | H39: =SUMIF($C$3:$C$37,"K",H3:H37) -> 40.686 | I39: x | J39: =SUMIF($C$3:$C$37,"K",J3:J37) -> 186715345 | K39: =SUMIF($C$3:$C$37,"K",K3:K37) -> 92964552 | L39: =SUMIF($C$3:$C$37,"K",L3:L37) -> 93750793 | M39: x | N39: =SUMIF($C$3:$C$37,"K",N3:N37) -> 23060229 | O39: =SUMIF($C$3:$C$37,"K",O3:O37) -> 43327319 | P39: =SUMIF($C$3:$C$37,"K",P3:P37) -> 17925239 | Q39: =SUMIF($C$3:$C$37,"K",Q3:Q37) -> 8651764.5 | R39: =SUMIF($C$3:$C$37,"K",R3:R37) -> 0 | S39: =SUMIF($C$3:$C$37,"K",S3:S37) -> 0 | T39: =SUMIF($C$3:$C$37,"K",T3:T37) -> 0 | U39: =SUMIF($C$3:$C$37,"K",U3:U37) -> 0 | ... W39: =SUMIF($C$3:$C$37,"K",W3:W37) -> 0 | X39: =K39=SUM(N39:W39) -> TRUE | Y39: =ROUND(K39/J39,4) -> 0.4979 | Z39: x | AA39: =J39=K39+L39 -> TRUE
A40: nowe zadania jednoroczne | H40: =SUMIF($C$3:$C$37,"N",H3:H37) -> 22.972 | I40: x | J40: =SUMIF($C$3:$C$37,"N",J3:J37) -> 63696166 | K40: =SUMIF($C$3:$C$37,"N",K3:K37) -> 37862599 | L40: =SUMIF($C$3:$C$37,"N",L3:L37) -> 25833567 | M40: x | N40: =SUMIF($C$3:$C$37,"N",N3:N37) -> 0 | O40: =SUMIF($C$3:$C$37,"N",O3:O37) -> 37862599 | P40: =SUMIF($C$3:$C$37,"N",P3:P37) -> 0 | Q40: =SUMIF($C$3:$C$37,"N",Q3:Q37) -> 0 | R40: =SUMIF($C$3:$C$37,"N",R3:R37) -> 0 | S40: =SUMIF($C$3:$C$37,"N",S3:S37) -> 0 | T40: =SUMIF($C$3:$C$37,"N",T3:T37) -> 0 | U40: =SUMIF($C$3:$C$37,"N",U3:U37) -> 0 | ... W40: =SUMIF($C$3:$C$37,"N",W3:W37) -> 0 | X40: =K40=SUM(N40:W40) -> TRUE | Y40: =ROUND(K40/J40,4) -> 0.5944 | Z40: x | AA40: =J40=K40+L40 -> TRUE
...

Sheet gm podst
A1: L.p. | B1: Nr ewid. | C1: Zadanie nowe/kontynuowane/wieloletnie [N/K/W] | D1: Jednostka Samorządu Terytorialnego | E1: TERC | F1: Powiat | G1: Nazwa zadania | H1: Rodzaj zadania | I1: Długość odcinka (w km) | J1: Okres realizacji zadania | K1: Ogółem wartość projektu (w zł) | L1: Wnioskowana kwota dofinansowania (w zł) | M1: Deklarowana kwota środków własnych (w zł) | N1: % dofinansowania | O1: Kwota dofinansowania w podziale na lata
O2: 2019 | P2: 2020 | Q2: 2021 | R2: 2022 | S2: 2023 | T2: 2024 | U2: 2025 | V2: 2026 | W2: 2027 | X2: 2028 | Y2: spr-lata | Z2: spr-procent | AA2: spr-dof | AB2: spr-montaż
A3: 1 | B3: 133/19 | C3: K | D3: GMINA MIKOŁÓW | E3: 2408021 | F3: mikołowski | G3: System transportu niskoemisyjnego - przebudowa węzła ulic Prusa - Miarki w kierunku Rybnicka, Wyzwolenia w Mikołowie | H3: P | I3: 0.442 | J3: październik 2019 - czerwiec 2021 | K3: 5423429 | L3: 2711714.5 | M3: 2711714.5 | N3: 0.5 | O3: 200000 | P3: 592173 | Q3: 1919541.5 | Y3: =L3=SUM(O3:X3) -> TRUE | Z3: =ROUND(L3/K3,4) -> 0.5 | AA3: =Z3=N3 -> TRUE | AB3: =K3=L3+M3 -> TRUE
A4: 2 | B4: 21/19 | C4: K | D4: GMINA MIEDŹNO | E4: 2406042 | F4: kłobucki | G4: Rozbudowa drogi gminnej nr 656026S ul. Dębowa, nr 656026S ul. Sosnowa, nr 656025S ul. Ogrodowa, nr 656025S ul. Polna w miejscowości Miedźno | H4: B | I4: 5.335 | J4: wrzesień 2019 - czerwiec 2022 | K4: 9964511 | L4: 6975157.7 | M4: 2989353.3 | N4: 0.7 | O4: 173907.3 | P4: 2001731.9 | Q4: 2579091.9 | R4: 2220426.6 | Y4: =L4=SUM(O4:X4) -> TRUE | Z4: =ROUND(L4/K4,4) -> 0.7 | AA4: =Z4=N4 -> TRUE | AB4: =K4=L4+M4 -> TRUE
A5: 3 | B5: 70/19 | C5: K | D5: GMINA RYDUŁTOWY | E5: 2415031 | F5: wodzisławski | G5: Rozbudowa ulicy Ofiar Terroru (460076S) wraz z przebudową ulicy Adama Mickiewicza (460001S) oraz przebudowa ulicy Świętego Jacka (460115S) w Rydułtowach | H5: BP | I5: 1.159 | J5: marzec 2019 - czerwiec 2021 | K5: 5603138 | L5: 3081725.9 | M5: 2521412.1 | N5: 0.55 | O5: 397597.2 | P5: 1342064.4 | Q5: 1342064.4 | Y5: =L5=SUM(O5:X5) -> TRUE | Z5: =ROUND(L5/K5,4) -> 0.55 | AA5: =Z5=N5 -> TRUE | AB5: =K5=L5+M5 -> TRUE
A6: 4 | B6: 153/19 | C6: K | D6: GMINA GODÓW | E6: 2415052 | F6: wodzisławski | G6: Przebudowa dróg gminnych w jednym ciągu nr 605 019S, 605 023S ul. Graniczna i Poprzeczna w Gminie Godów (sołectwa Skrbeńsko i Gołkowice) o łącznej długości 1758 mb. | H6: P | I6: 1.758 | J6: październik 2019 - listopad 2021 | K6: 5745399 | L6: 4021779.3 | M6: 1723619.7 | N6: 0.7 | O6: 14000 | P6: 686000 | Q6: 3321779.3 | Y6: =L6=SUM(O6:X6) -> TRUE | Z6: =ROUND(L6/K6,4) -> 0.7 | AA6: =Z6=N6 -> TRUE | AB6: =K6=L6+M6 -> TRUE
A7: 5 | B7: 91/19 | C7: K | D7: GMINA PORĄBKA | E7: 2402082 | F7: bielski | G7: Przebudowa drogi gminnej publicznej nr 594 273 S ul. Szkolna w Bujakowie wraz z budową chodnika dla pieszych - etap 2 w km od 0+241 do km 0+663 | H7: P | I7: 0.422 | J7: październik 2019 - listopad 2022 | K7: 2268350 | L7: 1134175 | M7: 1134175 | N7: 0.5 | O7: 28057.5 | P7: 50000 | Q7: 541038.5 | R7: 515079 | Y7: =L7=SUM(O7:X7) -> TRUE | Z7: =ROUND(L7/K7,4) -> 0.5 | AA7: =Z7=N7 -> TRUE | AB7: =K7=L7+M7 -> TRUE
A8: 6 | B8: 82/19 | C8: K | D8: GMINA ZAWIERCIE | E8: 2416021 | F8: zawierciański | G8: Przebudowa odcinka ulicy Polskiej od skrzyżowania z ulicą Łośnicką oraz remont kapitalny chodników na odcinku od skrzyżowania z ul. Przechodnią do skrzyżowania z ul. Sienkiewicza | H8: P | I8: 1.091 | J8: październik 2019 - listopad 2020 | K8: 3394330 | L8: 1697165 | M8: 1697165 | N8: 0.5 | O8: 195000 | P8: 1502165 | Y8: =L8=SUM(O8:X8) -> TRUE | Z8: =ROUND(L8/K8,4) -> 0.5 | AA8: =Z8=N8 -> TRUE | AB8: =K8=L8+M8 -> TRUE
A9: 7 | B9: 179/19 | C9: K | D9: GMINA RACIBÓRZ | E9: 2411011 | F9: raciborski | G9: Przebudowa ul. Bojanowskiej - drogi publicznej nr 290 013 S na odcinku o długości 0,79 km oraz budowa nawierzchni drogi gminnej - ul. Chorwacka - etap I o długości projektowanej jezdni 0,53 km | H9: BP | I9: 1.317 | J9: czerwiec 2019 - październik 2021 | K9: =L9+M9 -> 3400729.7 | L9: 1700364.8 | M9: 1700364.8 | N9: 0.5 | O9: 150000 | P9: 1124143.3 | Q9: 426221.5 | Y9: =L9=SUM(O9:X9) -> TRUE | Z9: =ROUND(L9/K9,4) -> 0.5 | AA9: =Z9=N9 -> TRUE | AB9: =K9=L9+M9 -> TRUE
A10: 8 | B10: 90/19 | C10: K | D10: GMINA PORĄBKA | E10: 2402082 | F10: bielski | G10: Przebudowa odcinka drogi gminnej publicznej nr 594142S ul. Zielona w Czańcu od km 0+000 do km 0+946 | H10: P | I10: 0.946 | J10: październik 2019 - listopad 2021 | K10: 1175687 | L10: 587843.5 | M10: 587843.5 | N10: 0.5 | O10: 25000 | P10: 268922 | Q10: 293921.5 | Y10: =L10=SUM(O10:X10) -> TRUE | Z10: =ROUND(L10/K10,4) -> 0.5 | AA10: =Z10=N10 -> TRUE | AB10: =K10=L10+M10 -> TRUE
A11: 9 | B11: 145/19 | C11: K | D11: MIASTO CZĘSTOCHOWA | E11: 2464011 | F11: Częstochowa | G11: Rozbudowa ul. Artyleryjskiej i ul. Kościelnej w Częstochowie na odcinku od ul. Matejki do przedłużenia ulicy Jagiellońskiej do ul. Kościelnej | H11: B | I11: 1.106 | J11: czerwiec 2019 - listopad 2020 | K11: =L11+M11 -> 4367854.8 | L11: 2183927 | M11: 2183927.8 | N11: 0.5 | O11: 1675000 | P11: 508927 | Y11: =L11=SUM(O11:X11) -> TRUE | Z11: =ROUND(L11/K11,4) -> 0.5 | AA11: =Z11=N11 -> TRUE | AB11: =K11=L11+M11 -> TRUE
A12: 10 | B12: 80/19 | C12: K | D12: GMINA ZAWIERCIE | E12: 2416021 | F12: zawierciański | G12: Przebudowa jezdni wraz z chodnikiem ulicy Wyszyńskiego w Zawierciu - odcinek "A" od skrzyżowania z drogą powiatową ul. 3-go Maja km 0+000,00 do km 0+518,10 | H12: P | I12: 0.518 | J12: październik 2019 - listopad 2020 | K12: 793282 | L12: 396641 | M12: 396641 | N12: 0.5 | O12: 83565 | P12: 313076 | Y12: =L12=SUM(O12:X12) -> TRUE | Z12: =ROUND(L12/K12,4) -> 0.5 | AA12: =Z12=N12 -> TRUE | AB12: =K12=L12+M12 -> TRUE
A13: 11 | B13: 72/19 | C13: K | D13: GMINA MYSZKÓW | E13: 2409011 | F13: myszkowski | G13: Budowa drogi w ul. Klonowej i Sadowej wraz z kanalizacją deszczową i sanitarną oraz przebudowa oświetlenia ulicznego w Myszkowie na odcinku 1098 mb | H13: B | I13: 1.098 | J13: luty 2019 - październik 2020 | K13: 4393871.7 | L13: 2636323 | M13: 1757548.7 | N13: 0.6 | O13: 1993488.6 | P13: 642834.43 | Y13: =L13=SUM(O13:X13) -> TRUE | Z13: =ROUND(L13/K13,4) -> 0.6 | AA13: =Z13=N13 -> FALSE | AB13: =K13=L13+M13 -> TRUE
A14: 12 | B14: 79/19 | C14: K | D14: GMINA GORZYCE | E14: 2415062 | F14: wodzisławski | G14: Przebudowa drogi gminnej nr 510168S ulicy Wiejskiej w Bełsznicy na dł. 223 m. | H14: P | I14: 0.223 | J14: wrzesień 2019 - wrzesień 2020 | K14: 800124 | L14: 440068.2 | M14: 360055.8 | N14: 0.55 | O14: 88000 | P14: 352068.2 | Y14: =L14=SUM(O14:X14) -> TRUE | Z14: =ROUND(L14/K14,4) -> 0.55 | AA14: =Z14=N14 -> TRUE | AB14: =K14=L14+M14 -> TRUE
A15: 13 | B15: 167/19 | C15: K | D15: GMINA LYSKI | E15: 2412042 | F15: rybnicki | G15: Przebudowa drogi gminnej ulicy Jankowickiej w Zwonowicach | H15: P | I15: 0.82 | J15: październik 2019 - październik 2021 | K15: 2327823 | L15: 1280302.7 | M15: 1047520.3 | N15: 0.55 | O15: 11000 | P15: 550000 | Q15: 719302.65 | Y15: =L15=SUM(O15:X15) -> TRUE | Z15: =ROUND(L15/K15,4) -> 0.55 | AA15: =Z15=N15 -> TRUE | AB15: =K15=L15+M15 -> TRUE
A16: 14 | B16: 47/19 | C16: K | D16: GMINA MIASTECZKO ŚLĄSKIE | E16: 2413021 | F16: tarnogórski | G16: Budowa ulicy Ceramicznej w Miasteczku Śląskim | H16: B | I16: 0.627 | J16: październik 2019 - czerwiec 2021 | K16: 2086556 | L16: 1043278 | M16: 1043278 | N16: 0.5 | O16: 1500 | P16: 294450 | Q16: 747328 | Y16: =L16=SUM(O16:X16) -> TRUE | Z16: =ROUND(L16/K16,4) -> 0.5 | AA16: =Z16=N16 -> TRUE | AB16: =K16=L16+M16 -> TRUE
A17: 15 | B17: 13/19 | C17: K | D17: GMINA SIEWIERZ | E17: 2401073 | F17: będziński | G17: Budowa drogi gminnej dojazdowej łączącej ul. Parkową z ul. Polną w Siewierzu | H17: B | I17: 0.179 | J17: wrzesień 2019 - październik 2020 | K17: 787942 | L17: 393971 | M17: 393971 | N17: 0.5 | O17: 25000 | P17: 368971 | Y17: =L17=SUM(O17:X17) -> TRUE | Z17: =ROUND(L17/K17,4) -> 0.5 | AA17: =Z17=N17 -> TRUE | AB17: =K17=L17+M17 -> TRUE
A18: 16 | B18: 181/19 | C18: K | D18: MIASTO GLIWICE | E18: 2466011 | F18: Gliwice | G18: Budowa ul. Kozłowskiej w Gliwicach (od istniejącej ul. Kozłowskiej o nawierzchni asfaltobetonowej do cieku wodnego) | H18: B | I18: 0.46 | J18: październik 2019 - październik 2020 | K18: 4631900 | L18: 2315950 | M18: 2315950 | N18: 0.5 | O18: 500000 | P18: 1815950 | Y18: =L18=SUM(O18:X18) -> TRUE | Z18: =ROUND(L18/K18,4) -> 0.5 | AA18: =Z18=N18 -> TRUE | AB18: =K18=L18+M18 -> TRUE
A19: 17 | B19: 176/19 | C19: K | D19: GMINA CZECHOWICE-DZIEDZICE | E19: 2402043 | F19: bielski | G19: Przebudowa ul. Asnyka w Czechowicach-Dziedzicach | H19: P | I19: 0.54 | J19: sierpień 2019 - wrzesień 2020 | K19: 3159755 | L19: 2527804 | M19: 631951 | N19: 0.8 | O19: 531497.6 | P19: 1996306.4 | Y19: =L19=SUM(O19:X19) -> TRUE | Z19: =ROUND(L19/K19,4) -> 0.8 | AA19: =Z19=N19 -> TRUE | AB19: =K19=L19+M19 -> TRUE
A20: 18 | B20: 298/19 | C20: N | D20: GMINA ZAWIERCIE | E20: 2416021 | F20: zawierciański | G20: Budowa drogi do Strefy Aktywności Gospodarczej w Zawierciu - Etap IV - odcinek od km. 4+983,50, rondo na skrzyżowaniu z DW 796 | H20: B | I20: 0.164 | J20: styczeń 2020 - listopad 2020 | K20: 3870450 | L20: =ROUND(K20*N20,2) -> 1935225 | M20: =K20-L20 -> 1935225 | N20: 0.5 | O20: 0 | P20: 1935225 | Y20: =L20=SUM(O20:X20) -> TRUE | Z20: =ROUND(L20/K20,4) -> 0.5 | AA20: =Z20=N20 -> TRUE | AB20: =K20=L20+M20 -> TRUE
A21: 19 | B21: 338/19 | C21: N | D21: MIASTO SIEMIANOWICE ŚLĄSKIE | E21: 2474011 | F21: Siemienowice Śląskie | G21: Budowa drogi gminnej łączącej ul. Konopnickiej i ul. Matejki z ul. Stara Katowicka w Siemianowicach Śląskich | H21: B | I21: 0.404 | J21: maj 2020 - wrzesień 2020 | K21: 3800895 | L21: 2850671 | M21: 950224 | N21: 0.75 | P21: 2850671 | Y21: =L21=SUM(O21:X21) -> TRUE | Z21: =ROUND(L21/K21,4) -> 0.75 | AA21: =Z21=N21 -> TRUE | AB21: =K21=L21+M21 -> TRUE
A22: 20 | B22: 263/19 | C22: N | D22: GMINA WĘGIERSKA GÓRKA | E22: 2417152 | F22: żywiecki | G22: Przebudowa drogi gminnej nr 596054S w Węgierskiej Górce poprawiającej skomunikowanie dróg powiatowych | H22: P | I22: 1.289 | J22: kwiecień 2020 - listopad 2020 | K22: 2043942 | L22: =ROUND(K22*N22,2) -> 1226365.2 | M22: =K22-L22 -> 817576.8 | N22: 0.6 | O22: 0 | P22: 1226365.2 | Y22: =L22=SUM(O22:X22) -> TRUE | Z22: =ROUND(L22/K22,4) -> 0.6 | AA22: =Z22=N22 -> TRUE | AB22: =K22=L22+M22 -> TRUE
A23: 21 | B23: 259/19 | C23: W | D23: GMINA TARNOWSKIE GÓRY | E23: 2413041 | F23: tarnogórski | G23: Rozbudowa ulic Sobieskiego i Opolskiej w Tarnowskich Górach | H23: B | I23: 0.614 | J23: kwiecień 2020 - listopad 2021 | K23: 7663897 | L23: =ROUND(K23*N23,2) -> 3831948.5 | M23: =K23-L23 -> 3831948.5 | N23: 0.5 | O23: 0 | P23: 363326 | Q23: 3468622.5 | Y23: =L23=SUM(O23:X23) -> TRUE | Z23: =ROUND(L23/K23,4) -> 0.5 | AA23: =Z23=N23 -> TRUE | AB23: =K23=L23+M23 -> TRUE
A24: 22 | B24: 246/19 | C24: W | D24: GMINA PSZÓW | E24: 2415011 | F24: wodzisławski | G24: Remont ulicy Żużlowej w Pszowie | H24: R | I24: 1.332 | J24: styczeń 2020 - grudzień 2022 | K24: 2142985 | L24: =ROUND(K24*N24,2) -> 1392940.2 | M24: =K24-L24 -> 750044.75 | N24: 0.65 | O24: 0 | P24: 464313.2 | Q24: 464313.2 | R24: 464313.85 | Y24: =L24=SUM(O24:X24) -> TRUE | Z24: =ROUND(L24/K24,4) -> 0.65 | AA24: =Z24=N24 -> TRUE | AB24: =K24=L24+M24 -> TRUE
A25: 23 | B25: 304/19 | C25: N | D25: GMINA PANKI | E25: 2406062 | F25: kłobucki | G25: Przebudowa drogi nr 693 016S w Praszczykach w Gminie Panki wraz z budową oświetlenia | H25: P | I25: 0.41 | J25: styczeń 2020 - listopad 2020 | K25: 600000 | L25: =ROUND(K25*N25,2) -> 300000 | M25: =K25-L25 -> 300000 | N25: 0.5 | O25: 0 | P25: 300000 | Y25: =L25=SUM(O25:X25) -> TRUE | Z25: =ROUND(L25/K25,4) -> 0.5 | AA25: =Z25=N25 -> TRUE | AB25: =K25=L25+M25 -> TRUE
A26: 24 | B26: 323/19 | C26: N | D26: GMINA KRZEPICE | E26: 2406023 | F26: kłobucki | G26: Budowa dróg gminnych nr 639025S ul. Prusa i nr 639021S ul. Orzeszkowej w Krzepicach | H26: B | I26: 0.33 | J26: lipiec 2020 - czerwiec 2021 | K26: 714638 | L26: =ROUND(K26*N26,2) -> 500246.6 | M26: =K26-L26 -> 214391.4 | N26: 0.7 | O26: 0 | P26: 500246.6 | Y26: =L26=SUM(O26:X26) -> TRUE | Z26: =ROUND(L26/K26,4) -> 0.7 | AA26: =Z26=N26 -> TRUE | AB26: =K26=L26+M26 -> TRUE
A27: 25 | B27: 215/19 | C27: N | D27: GMINA PRZYSTAJŃ | E27: 2406082 | F27: kłobucki | G27: Przebudowa drogi gminnej nr 678 002 S w miejscowości Kuźnica Stara | H27: P | I27: 1.182 | J27: styczeń 2020 - październik 2020 | K27: 1950000 | L27: =ROUND(K27*N27,2) -> 975000 | M27: =K27-L27 -> 975000 | N27: 0.5 | O27: 0 | P27: 975000 | Y27: =L27=SUM(O27:X27) -> TRUE | Z27: =ROUND(L27/K27,4) -> 0.5 | AA27: =Z27=N27 -> TRUE | AB27: =K27=L27+M27 -> TRUE
A28: 26 | B28: 244/19 | C28: N | D28: GMINA ŁODYGOWICE | E28: 2417082 | F28: żywiecki | G28: Remont ul. Turystycznej w Biernej i Zarzeczu (Gmina Łodygowice) | H28: R | I28: 1.19 | J28: marzec 2020 - wrzesień 2020 | K28: 748629 | L28: =ROUND(K28*N28,2) -> 449177.4 | M28: =K28-L28 -> 299451.6 | N28: 0.6 | O28: 0 | P28: 449177.4 | Y28: =L28=SUM(O28:X28) -> TRUE | Z28: =ROUND(L28/K28,4) -> 0.6 | AA28: =Z28=N28 -> TRUE | AB28: =K28=L28+M28 -> TRUE
A29: 27 | B29: 292/19 | C29: N | D29: MIASTO BYTOM | E29: 2462011 | F29: Bytom | G29: Przebudowa ulicy Narutowicza w Bytomiu | H29: P | I29: 0.7 | J29: kwiecień 2020 - listopad 2020 | K29: 1930507 | L29: 1447880 | M29: 482627 | N29: 0.75 | P29: 1447880 | Y29: =L29=SUM(O29:X29) -> TRUE | Z29: =ROUND(L29/K29,4) -> 0.75 | AA29: =Z29=N29 -> TRUE | AB29: =K29=L29+M29 -> TRUE
A30: 28 | B30: 327/19 | C30: N | D30: GMINA SKOCZÓW | E30: 2403103 | F30: cieszyński | G30: Remont drogi gminnej ul. Żebroka w Skoczowie | H30: R | I30: 0.521 | J30: styczeń 2020 - grudzień 2020 | K30: 2399059 | L30: 1799294 | M30: 599765 | N30: 0.75 | P30: 1799294 | Y30: =L30=SUM(O30:X30) -> TRUE | Z30: =ROUND(L30/K30,4) -> 0.75 | AA30: =Z30=N30 -> TRUE | AB30: =K30=L30+M30 -> TRUE
A31: 29 | B31: 233/19 | C31: N | D31: GMINA BORONÓW | E31: 2407022 | F31: lubliniecki | G31: Budowa i odwodnienie ulicy Wiśniowej | H31: B | I31: 0.326 | J31: maj 2020 - wrzesień 2020 | K31: 653547 | L31: =ROUND(K31*N31,2) -> 326773.5 | M31: =K31-L31 -> 326773.5 | N31: 0.5 | O31: 0 | P31: 326773.5 | Y31: =L31=SUM(O31:X31) -> TRUE | Z31: =ROUND(L31/K31,4) -> 0.5 | AA31: =Z31=N31 -> TRUE | AB31: =K31=L31+M31 -> TRUE
A32: 30 | B32: 260/19 | C32: W | D32: GMINA MSZANA | E32: 2415092 | F32: wodzisławski | G32: Przebudowa dróg gminnych ul. Ks.Tuskera (nr 663003S) i ul. Mickiewicza (nr 663001S) w miejscowości Mszana wraz z przebudową skrzyżowania z drogą powiatową 5021S - ul. 1 Maja | H32: P | I32: 0.651 | J32: kwiecień 2020 - grudzień 2021 | K32: 3209912 | L32: =ROUND(K32*N32,2) -> 1604956 | M32: =K32-L32 -> 1604956 | N32: 0.5 | O32: 0 | P32: 600000 | Q32: 1004956 | Y32: =L32=SUM(O32:X32) -> TRUE | Z32: =ROUND(L32/K32,4) -> 0.5 | AA32: =Z32=N32 -> TRUE | AB32: =K32=L32+M32 -> TRUE
A33: 31 | B33: 253/19 | C33: N | D33: GMINA HAŻLACH | E33: 2403082 | F33: cieszyński | G33: Przebudowa dróg gminnych - ulic Truskawkowej, Miodowej i Prostej w Kończycach Wielkich | H33: P | I33: 0.617 | J33: październik 2020 - wrzesień 2021 | K33: 2141400 | L33: =ROUND(K33*N33,2) -> 1177770 | M33: =K33-L33 -> 963630 | N33: 0.55 | O33: 0 | P33: 1177770 | Y33: =L33=SUM(O33:X33) -> TRUE | Z33: =ROUND(L33/K33,4) -> 0.55 | AA33: =Z33=N33 -> TRUE | AB33: =K33=L33+M33 -> TRUE
A34: 32 | B34: 314/19 | C34: N | D34: GMINA BIERUŃ | E34: 2414011 | F34: bieruńsko-lędziński | G34: Budowa bocznych dróg ul. Barańcowej w Bieruniu - ul. Stanisława Ligonia i ul. Józefa Lompy | H34: B | I34: 0.659 | J34: kwiecień 2020 - marzec 2021 | K34: 1591489 | L34: =ROUND(K34*N34,2) -> 795744.5 | M34: =K34-L34 -> 795744.5 | N34: 0.5 | O34: 0 | P34: 795744.5 | Y34: =L34=SUM(O34:X34) -> TRUE | Z34: =ROUND(L34/K34,4) -> 0.5 | AA34: =Z34=N34 -> TRUE | AB34: =K34=L34+M34 -> TRUE
A35: 33 | B35: 265/19 | C35: N | D35: GMINA GORZYCE | E35: 2415062 | F35: wodzisławski | G35: Przebudowa drogi gminnej ul. Bełsznickiej w Czyżowicach | H35: P | I35: 0.661 | J35: luty 2020 - październik 2020 | K35: 1927690 | L35: =ROUND(K35*N35,2) -> 1060229.5 | M35: =K35-L35 -> 867460.5 | N35: 0.55 | O35: 0 | P35: 1060229.5 | Y35: =L35=SUM(O35:X35) -> TRUE | Z35: =ROUND(L35/K35,4) -> 0.55 | AA35: =Z35=N35 -> TRUE | AB35: =K35=L35+M35 -> TRUE
A36: 34 | B36: 211/19 | C36: N | D36: GMINA KOCHANOWICE | E36: 2407052 | F36: lubliniecki | G36: Przebudowa ul. Słonecznej w Kochanowicach | H36: P | I36: 0.603 | J36: styczeń 2020 - czerwiec 2020 | K36: 896816 | L36: =ROUND(K36*N36,2) -> 538089.6 | M36: =K36-L36 -> 358726.4 | N36: 0.6 | O36: 0 | P36: 538089.6 | Y36: =L36=SUM(O36:X36) -> TRUE | Z36: =ROUND(L36/K36,4) -> 0.6 | AA36: =Z36=N36 -> TRUE | AB36: =K36=L36+M36 -> TRUE
A37: 35 | B37: 291/19 | C37: N | D37: MIASTO BYTOM | E37: 2462011 | F37: Bytom | G37: Przebudowa drogi do budynków 105 a, b, e przy ul. Siemianowickiej | H37: P | I37: 0.135 | J37: kwiecień 2020 - listopad 2020 | K37: 916315 | L37: 687236 | M37: 229079 | N37: 0.75 | P37: 687236 | Y37: =L37=SUM(O37:X37) -> TRUE | Z37: =ROUND(L37/K37,4) -> 0.75 | AA37: =Z37=N37 -> TRUE | AB37: =K37=L37+M37 -> TRUE
A38: 36 | B38: 339/19 | C38: N | D38: GMINA KONIECPOL | E38: 2404063 | F38: częstochowski | G38: Przebudowa ulicy Wąskiej w Koniecpolu | H38: P | I38: 0.645 | J38: kwiecień 2020 - wrzesień 2020 | K38: 1005988 | L38: 754491 | M38: 251497 | N38: 0.75 | P38: 754491 | Y38: =L38=SUM(O38:X38) -> TRUE | Z38: =ROUND(L38/K38,4) -> 0.75 | AA38: =Z38=N38 -> TRUE | AB38: =K38=L38+M38 -> TRUE
A39: 37 | B39: 318/19 | C39: N | D39: GMINA MSTÓW | E39: 2404102 | F39: częstochowski | G39: Przebudowa drogi w ulicy Ośmiu Błogosławieństw w miejscowości Siedlec, Gmina Mstów | H39: P | I39: 0.364 | J39: styczeń 2020 - listopad 2020 | K39: 1078500 | L39: =ROUND(K39*N39,2) -> 593175 | M39: =K39-L39 -> 485325 | N39: 0.55 | O39: 0 | P39: 593175 | Y39: =L39=SUM(O39:X39) -> TRUE | Z39: =ROUND(L39/K39,4) -> 0.55 | AA39: =Z39=N39 -> TRUE | AB39: =K39=L39+M39 -> TRUE
A40: 38 | B40: 229/19 | C40: N | D40: GMINA OPATÓW | E40: 2406052 | F40: kłobucki | G40: Przebudowa odcinka drogi gminnej nr 664 001S - ul. Szkolna w miejscowości Waleńczów, gmina Opatów | H40: P | I40: 0.41 | J40: lipiec 2020 - październik 2020 | K40: 370805 | L40: =ROUND(K40*N40,2) -> 259563.5 | M40: =K40-L40 -> 111241.5 | N40: 0.7 | O40: 0 | P40: 259563.5 | Y40: =L40=SUM(O40:X40) -> TRUE | Z40: =ROUND(L40/K40,4) -> 0.7 | AA40: =Z40=N40 -> TRUE | AB40: =K40=L40+M40 -> TRUE
...

Sheet pow rez
A1: L.p. | B1: Nr ewid. | C1: Zadanie nowe/wieloletnie [N/W] | D1: Jednostka Samorządu Terytorialnego | E1: TERC | F1: Nazwa zadania | G1: Rodzaj zadania | H1: Długość odcinka (w km) | I1: Okres realizacji zadania | J1: Ogółem wartość projektu (w zł) | K1: Wnioskowana kwota dofinansowania (w zł) | L1: Deklarowana kwota środków własnych (w zł) | M1: % dofinansowania | N1: Kwota dofinansowania w podziale na lata
N2: 2019 | O2: 2020 | P2: 2021 | Q2: 2022 | R2: 2023 | S2: 2024 | T2: 2025 | U2: 2026 | V2: 2027 | W2: 2028 | X2: spr-lata | Y2: spr-procent | Z2: spr-dof | AA2: spr-montaż
A3: 1 | B3: 329/19 | C3: W | D3: POWIAT RACIBORSKI | E3: 2411 | F3: Przebudowa drogi powiatowej nr 3517S w Tworkowie od skrzyżowania z ulicą Zamkową do przejazdu kolejowego oraz remont drogi powiatowej nr 3516S pomiędzy skrzyżowaniami z DK 45 w Tworkowie i przebudowa drogi powiatowej nr 3536S w Górkach Śląskich od skrzyżowania z ul. Rudzką do końca działki drogowej nr 257/3 od strony DW 919 | G3: P | H3: 3.926 | I3: luty 2020 - maj 2021 | J3: 8822283 | K3: =ROUND(J3*M3,2) -> 4852255.7 | L3: =J3-K3 -> 3970027.3 | M3: 0.55 | N3: 0 | O3: 3190000 | P3: 1662255.7 | X3: =K3=SUM(N3:W3) -> TRUE | Y3: =ROUND(K3/J3,4) -> 0.55 | Z3: =Y3=M3 -> TRUE | AA3: =J3=K3+L3 -> TRUE
A4: 2 | B4: 306/19 | C4: W | D4: MIASTO CHORZÓW | E4: 2463011 | F4: Przebudowa ulicy Hajduckiej oraz fragmentu Alei Bojowników o Wolność i Demokrację w Chorzowie | G4: P | H4: 1.183 | I4: styczeń 2020 - listopad 2021 | J4: 7132128 | K4: =ROUND(J4*M4,2) -> 3566064 | L4: =J4-K4 -> 3566064 | M4: 0.5 | N4: 0 | O4: 1750000 | P4: 1816064 | X4: =K4=SUM(N4:W4) -> TRUE | Y4: =ROUND(K4/J4,4) -> 0.5 | Z4: =Y4=M4 -> TRUE | AA4: =J4=K4+L4 -> TRUE
A5: 3 | B5: 270/19 | C5: W | D5: MIASTO SOSNOWIEC | E5: 2475011 | F5: Przebudowa ul. Ostrogórskiej na odcinku od skrzyżowania z ul. Jagiellońską do skrzyżowania z ul. 1 Maja w ramach zadania inwestycyjnego "Przebudowa ul. Ostrogórskiej w Sosnowcu" | G5: P | H5: 0.636 | I5: marzec 2020 - czerwiec 2021 | J5: 10179273 | K5: =ROUND(J5*M5,2) -> 5089636.5 | L5: =J5-K5 -> 5089636.5 | M5: 0.5 | N5: 0 | O5: 3053782 | P5: 2035854.5 | X5: =K5=SUM(N5:W5) -> TRUE | Y5: =ROUND(K5/J5,4) -> 0.5 | Z5: =Y5=M5 -> TRUE | AA5: =J5=K5+L5 -> TRUE
A6: 4 | B6: 285/19 | C6: N | D6: POWIAT TARNOGÓRSKI | E6: 2413 | F6: Przebudowa pasa drogowego DP3210S i 3207S ul. Główna w Zendku | G6: P | H6: 2.465 | I6: czerwiec 2020 - maj 2021 | J6: 5876000 | K6: =ROUND(J6*M6,2) -> 2938000 | L6: =J6-K6 -> 2938000 | M6: 0.5 | N6: 0 | O6: 2938000 | X6: =K6=SUM(N6:W6) -> TRUE | Y6: =ROUND(K6/J6,4) -> 0.5 | Z6: =Y6=M6 -> TRUE | AA6: =J6=K6+L6 -> TRUE
A7: 5 | B7: 266/19 | C7: N | D7: POWIAT BĘDZIŃSKI | E7: 2401 | F7: Przebudowa drogi powiatowej 4722 S - ul. Sielecka w Będzinie | G7: P | H7: 0.459 | I7: marzec 2020 - październik 2020 | J7: 3000000 | K7: =ROUND(J7*M7,2) -> 1650000 | L7: =J7-K7 -> 1350000 | M7: 0.55 | N7: 0 | O7: 1650000 | X7: =K7=SUM(N7:W7) -> TRUE | Y7: =ROUND(K7/J7,4) -> 0.55 | Z7: =Y7=M7 -> TRUE | AA7: =J7=K7+L7 -> TRUE
A8: 6 | B8: 324/19 | C8: N | D8: POWIAT CZĘSTOCHOWSKI | E8: 2404 | F8: Przebudowa drogi powiatowej nr 1037 S na odc. Siedlec - Srocko, gmina Mstów | G8: P | H8: 3.029 | I8: październik 2020 - wrzesień 2021 | J8: 6150000 | K8: =ROUND(J8*M8,2) -> 3075000 | L8: =J8-K8 -> 3075000 | M8: 0.5 | N8: 0 | O8: 3075000 | X8: =K8=SUM(N8:W8) -> TRUE | Y8: =ROUND(K8/J8,4) -> 0.5 | Z8: =Y8=M8 -> TRUE | AA8: =J8=K8+L8 -> TRUE
A9: 7 | B9: 271/19 | C9: N | D9: MIASTO SOSNOWIEC | E9: 2475011 | F9: Przebudowa ul. Kukułek w Sosnowcu, droga klasy L, kategoria drogi - droga powiatowa | G9: P | H9: 1.688 | I9: marzec 2020 - luty 2021 | J9: 9182604 | K9: =ROUND(J9*M9,2) -> 4591302 | L9: =J9-K9 -> 4591302 | M9: 0.5 | N9: 0 | O9: 4591302 | X9: =K9=SUM(N9:W9) -> TRUE | Y9: =ROUND(K9/J9,4) -> 0.5 | Z9: =Y9=M9 -> TRUE | AA9: =J9=K9+L9 -> TRUE
