Workbook

Sheet 24 - śląskie
A1: Lista zmieniona nr 6 zadań rekomendowanych do dofinansowania w ramach Funduszu Dróg Samorządowych - autokorekta
F2: ZATWIERDZAM Dorota Wójtowicz z up. WOJEWODY ŚLĄSKIEGO -podpisano cyfrowo- Katowice, 15 grudnia 2020 r.
A4: Dofinansowanie przyznane w naborze: na rok 2020
A6: Województwo: Śląskie
A11: Podsumowanie naboru:
A12: Kategoria drogi - rodzaj listy | B12: Liczba zadań | C12: Wartość zadań ogółem | D12: Deklarowana kwota środków własnych | E12: Kwota dofinasowania ogółem | F12: Kwota dofinansowania w podziale na lata
F13: 2019 | G13: 2020 | H13: 2021 | I13: 2022 | J13: 2023 | K13: 2024 | L13: 2025 | M13: 2026 | N13: 2027 | O13: 2028
A14: powiatowe - lista podstawowa, z tego: | B14: =COUNTA('pow podst'!K3:K47) -> 43 | C14: =SUM('pow podst'!J3:J47) -> 3.0010355e+08 | D14: =SUM('pow podst'!L3:L47) -> 1.4420612e+08 | E14: =SUM('pow podst'!K3:K47) -> 1.5589744e+08 | F14: =SUM('pow podst'!N3:N47) -> 22374807 | G14: =SUM('pow podst'!O3:O47) -> 89791578 | H14: =SUM('pow podst'!P3:P47) -> 34207739 | I14: =SUM('pow podst'!Q3:Q47) -> 9523311.5 | J14: =SUM('pow podst'!R3:R47) -> 0 | K14: =SUM('pow podst'!S3:S47) -> 0 | L14: =SUM('pow podst'!T3:T47) -> 0 | M14: =SUM('pow podst'!U3:U47) -> 0 | ... O14: =SUM('pow podst'!W3:W47) -> 0 | P14: =C14=(D14+E14) -> TRUE | Q14: =E14=SUM(F14:O14) -> TRUE
A15: kontynuowane zadania wieloletnie | B15: =COUNTIF('pow podst'!C3:C47,"K") -> 15 | C15: =SUMIF('pow podst'!C3:C47,"K",'pow podst'!J3:J47) -> 1.7226077e+08 | D15: =SUMIF('pow podst'!C3:C47,"K",'pow podst'!L3:L47) -> 85379688 | E15: =SUMIF('pow podst'!C3:C47,"K",'pow podst'!K3:K47) -> 86881081 | F15: =SUMIF('pow podst'!$C$3:$C$47,"K",'pow podst'!N3:N47) -> 22374807 | G15: =SUMIF('pow podst'!$C$3:$C$47,"K",'pow podst'!O3:O47) -> 39821033 | H15: =SUMIF('pow podst'!$C$3:$C$47,"K",'pow podst'!P3:P47) -> 16682845 | I15: =SUMIF('pow podst'!$C$3:$C$47,"K",'pow podst'!Q3:Q47) -> 8002396.5 | J15: =SUMIF('pow podst'!$C$3:$C$47,"K",'pow podst'!R3:R47) -> 0 | K15: =SUMIF('pow podst'!$C$3:$C$47,"K",'pow podst'!S3:S47) -> 0 | L15: =SUMIF('pow podst'!$C$3:$C$47,"K",'pow podst'!T3:T47) -> 0 | M15: =SUMIF('pow podst'!$C$3:$C$47,"K",'pow podst'!U3:U47) -> 0 | ... O15: =SUMIF('pow podst'!$C$3:$C$47,"K",'pow podst'!W3:W47) -> 0 | P15: =C15=(D15+E15) -> TRUE | Q15: =E15=SUM(F15:O15) -> TRUE
A16: nowe zadania jednoroczne | B16: =COUNTIF('pow podst'!C3:C47,"N") -> 20 | C16: =SUMIF('pow podst'!C3:C47,"N",'pow podst'!J3:J47) -> 58984204 | D16: =SUMIF('pow podst'!C3:C47,"N",'pow podst'!L3:L47) -> 25329517 | E16: =SUMIF('pow podst'!C3:C47,"N",'pow podst'!K3:K47) -> 33654687 | F16: =SUMIF('pow podst'!$C$3:$C$47,"N",'pow podst'!N3:N47) -> 0 | G16: =SUMIF('pow podst'!$C$3:$C$47,"N",'pow podst'!O3:O47) -> 33654687 | H16: =SUMIF('pow podst'!$C$3:$C$47,"N",'pow podst'!P3:P47) -> 0 | I16: =SUMIF('pow podst'!$C$3:$C$47,"N",'pow podst'!Q3:Q47) -> 0 | J16: =SUMIF('pow podst'!$C$3:$C$47,"N",'pow podst'!R3:R47) -> 0 | K16: =SUMIF('pow podst'!$C$3:$C$47,"N",'pow podst'!S3:S47) -> 0 | L16: =SUMIF('pow podst'!$C$3:$C$47,"N",'pow podst'!T3:T47) -> 0 | M16: =SUMIF('pow podst'!$C$3:$C$47,"N",'pow podst'!U3:U47) -> 0 | ... O16: =SUMIF('pow podst'!$C$3:$C$47,"N",'pow podst'!W3:W47) -> 0 | P16: =C16=(D16+E16) -> TRUE | Q16: =E16=SUM(F16:O16) -> TRUE
A17: nowe zadania wieloletnie | B17: =COUNTIF('pow podst'!C3:C47,"W") -> 8 | C17: =SUMIF('pow podst'!C18:C47,"W",'pow podst'!J18:J47) -> 68858578 | D17: =SUMIF('pow podst'!C18:C47,"W",'pow podst'!L18:L47) -> 33496911 | E17: =SUMIF('pow podst'!C18:C47,"W",'pow podst'!K18:K47) -> 35361667 | F17: =SUMIF('pow podst'!$C$3:$C$47,"W",'pow podst'!N3:N47) -> 0 | G17: =SUMIF('pow podst'!$C$3:$C$47,"W",'pow podst'!O3:O47) -> 16315858 | H17: =SUMIF('pow podst'!$C$3:$C$47,"W",'pow podst'!P3:P47) -> 17524894 | I17: =SUMIF('pow podst'!$C$3:$C$47,"W",'pow podst'!Q3:Q47) -> 1520915 | J17: =SUMIF('pow podst'!$C$3:$C$47,"W",'pow podst'!R3:R47) -> 0 | K17: =SUMIF('pow podst'!$C$3:$C$47,"W",'pow podst'!S3:S47) -> 0 | L17: =SUMIF('pow podst'!$C$3:$C$47,"W",'pow podst'!T3:T47) -> 0 | M17: =SUMIF('pow podst'!$C$3:$C$47,"W",'pow podst'!U3:U47) -> 0 | ... O17: =SUMIF('pow podst'!$C$3:$C$47,"W",'pow podst'!W3:W47) -> 0 | P17: =C17=(D17+E17) -> TRUE | Q17: =E17=SUM(F17:O17) -> TRUE
A18: gminne - lista podstawowa, z tego: | B18: =COUNTA('gm podst'!L3:L86) -> 79 | C18: =SUM('gm podst'!K3:K86) -> 1.8989197e+08 | D18: =SUM('gm podst'!M3:M86) -> 84886262 | E18: =SUM('gm podst'!L3:L86) -> 1.0500571e+08 | F18: =SUM('gm podst'!O3:O86) -> 6092613.2 | G18: =SUM('gm podst'!P3:P86) -> 70997675 | H18: =SUM('gm podst'!Q3:Q86) -> 23527923 | I18: =SUM('gm podst'!R3:R86) -> 4387494.4 | J18: =SUM('gm podst'!S3:S86) -> 0 | K18: =SUM('gm podst'!T3:T86) -> 0 | L18: =SUM('gm podst'!U3:U86) -> 0 | M18: =SUM('gm podst'!V3:V86) -> 0 | ... O18: =SUM('gm podst'!X3:X86) -> 0 | P18: =C18=(D18+E18) -> TRUE | Q18: =E18=SUM(F18:O18) -> TRUE
A19: kontynuowane zadania wieloletnie | B19: =COUNTIF('gm podst'!C3:C86,"K") -> 17 | C19: =SUMIF('gm podst'!C3:C86,"K",'gm podst'!K3:K86) -> 57466910 | D19: =SUMIF('gm podst'!C3:C86,"K",'gm podst'!M3:M86) -> 24148159 | E19: =SUMIF('gm podst'!C3:C86,"K",'gm podst'!L3:L86) -> 33318752 | F19: =SUMIF('gm podst'!$C$3:$C$86,"K",'gm podst'!O3:O86) -> 6092613.2 | G19: =SUMIF('gm podst'!$C$3:$C$86,"K",'gm podst'!P3:P86) -> 13680587 | H19: =SUMIF('gm podst'!$C$3:$C$86,"K",'gm podst'!Q3:Q86) -> 11168313 | I19: =SUMIF('gm podst'!$C$3:$C$86,"K",'gm podst'!R3:R86) -> 2377238.2 | J19: =SUMIF('gm podst'!$C$3:$C$86,"K",'gm podst'!S3:S86) -> 0 | K19: =SUMIF('gm podst'!$C$3:$C$86,"K",'gm podst'!T3:T86) -> 0 | L19: =SUMIF('gm podst'!$C$3:$C$86,"K",'gm podst'!U3:U86) -> 0 | M19: =SUMIF('gm podst'!$C$3:$C$86,"K",'gm podst'!V3:V86) -> 0 | ... O19: =SUMIF('gm podst'!$C$3:$C$86,"K",'gm podst'!X3:X86) -> 0 | P19: =C19=(D19+E19) -> TRUE | Q19: =E19=SUM(F19:O19) -> TRUE
A20: nowe zadania jednoroczne | B20: =COUNTIF('gm podst'!C3:C86,"N") -> 49 | C20: =SUMIF('gm podst'!C3:C86,"N",'gm podst'!K3:K86) -> 78353091 | D20: =SUMIF('gm podst'!C3:C86,"N",'gm podst'!M3:M86) -> 33500290 | E20: =SUMIF('gm podst'!C3:C86,"N",'gm podst'!L3:L86) -> 44852801 | F20: =SUMIF('gm podst'!$C$3:$C$86,"N",'gm podst'!O3:O86) -> 0 | G20: =SUMIF('gm podst'!$C$3:$C$86,"N",'gm podst'!P3:P86) -> 44852801 | H20: =SUMIF('gm podst'!$C$3:$C$86,"N",'gm podst'!Q3:Q86) -> 0 | I20: =SUMIF('gm podst'!$C$3:$C$86,"N",'gm podst'!R3:R86) -> 0 | J20: =SUMIF('gm podst'!$C$3:$C$86,"N",'gm podst'!S3:S86) -> 0 | K20: =SUMIF('gm podst'!$C$3:$C$86,"N",'gm podst'!T3:T86) -> 0 | L20: =SUMIF('gm podst'!$C$3:$C$86,"N",'gm podst'!U3:U86) -> 0 | M20: =SUMIF('gm podst'!$C$3:$C$86,"N",'gm podst'!V3:V86) -> 0 | ... O20: =SUMIF('gm podst'!$C$3:$C$86,"N",'gm podst'!X3:X86) -> 0 | P20: =C20=(D20+E20) -> TRUE | Q20: =E20=SUM(F20:O20) -> TRUE
A21: nowe zadania wieloletnie | B21: =COUNTIF('gm podst'!C3:C86,"W") -> 13 | C21: =SUMIF('gm podst'!C3:C86,"W",'gm podst'!K3:K86) -> 54071966 | D21: =SUMIF('gm podst'!C3:C86,"W",'gm podst'!M3:M86) -> 27237813 | E21: =SUMIF('gm podst'!C3:C86,"W",'gm podst'!L3:L86) -> 26834153 | F21: =SUMIF('gm podst'!$C$3:$C$86,"W",'gm podst'!O3:O86) -> 0 | G21: =SUMIF('gm podst'!$C$3:$C$86,"W",'gm podst'!P3:P86) -> 12464287 | H21: =SUMIF('gm podst'!$C$3:$C$86,"W",'gm podst'!Q3:Q86) -> 12359610 | I21: =SUMIF('gm podst'!$C$3:$C$86,"W",'gm podst'!R3:R86) -> 2010256.2 | J21: =SUMIF('gm podst'!$C$3:$C$86,"W",'gm podst'!S3:S86) -> 0 | K21: =SUMIF('gm podst'!$C$3:$C$86,"W",'gm podst'!T3:T86) -> 0 | L21: =SUMIF('gm podst'!$C$3:$C$86,"W",'gm podst'!U3:U86) -> 0 | M21: =SUMIF('gm podst'!$C$3:$C$86,"W",'gm podst'!V3:V86) -> 0 | ... O21: =SUMIF('gm podst'!$C$3:$C$86,"W",'gm podst'!X3:X86) -> 0 | P21: =C21=(D21+E21) -> TRUE | Q21: =E21=SUM(F21:O21) -> TRUE
A22: RAZEM listy podstawowe, z tego: | B22: =B14+B18 -> 122 | C22: =C14+C18 -> 4.8999552e+08 | D22: =D14+D18 -> 2.2909238e+08 | E22: =E14+E18 -> 2.6090314e+08 | F22: =F14+F18 -> 28467420 | G22: =G14+G18 -> 1.6078925e+08 | H22: =H14+H18 -> 57735662 | I22: =I14+I18 -> 13910806 | ... O22: =O14+O18 -> 0 | P22: =C22=(D22+E22) -> TRUE | Q22: =E22=SUM(F22:O22) -> TRUE
A23: kontynuowane zadania wieloletnie | B23: =B15+B19 -> 32 | C23: =C15+C19 -> 2.2972768e+08 | D23: =D15+D19 -> 1.0952785e+08 | E23: =E15+E19 -> 1.2019983e+08 | F23: =F15+F19 -> 28467420 | G23: =G15+G19 -> 53501620 | H23: =H15+H19 -> 27851158 | I23: =I15+I19 -> 10379635 | ... O23: =O15+O19 -> 0 | P23: =C23=(D23+E23) -> TRUE | Q23: =E23=SUM(F23:O23) -> TRUE
A24: nowe zadania jednoroczne | B24: =B16+B20 -> 69 | C24: =C16+C20 -> 1.373373e+08 | D24: =D16+D20 -> 58829807 | E24: =E16+E20 -> 78507488 | F24: =F16+F20 -> 0 | G24: =G16+G20 -> 78507488 | H24: =H16+H20 -> 0 | I24: =I16+I20 -> 0 | ... O24: =O16+O20 -> 0 | P24: =C24=(D24+E24) -> TRUE | Q24: =E24=SUM(F24:O24) -> TRUE
A25: nowe zadania wieloletnie | B25: =B17+B21 -> 21 | C25: =C17+C21 -> 1.2293054e+08 | D25: =D17+D21 -> 60734724 | E25: =E17+E21 -> 62195820 | F25: =F17+F21 -> 0 | G25: =G17+G21 -> 28780145 | H25: =H17+H21 -> 29884504 | I25: =I17+I21 -> 3531171.2 | ... O25: =O17+O21 -> 0 | P25: =C25=(D25+E25) -> TRUE | Q25: =E25=SUM(F25:O25) -> TRUE
A26: powiatowe - lista rezerwowa | B26: =COUNTA('pow rez'!K3:K12) -> 0 | C26: =SUM('pow rez'!J3:J12) -> 0 | D26: =SUM('pow rez'!L3:L12) -> 0 | E26: =SUM('pow rez'!K3:K12) -> 0 | F26: =SUM('pow rez'!N3:N12) -> 0 | G26: =SUM('pow rez'!O3:O12) -> 0 | H26: =SUM('pow rez'!P3:P12) -> 0 | I26: =SUM('pow rez'!Q3:Q12) -> 0 | J26: =SUM('pow rez'!R3:R12) -> 0 | K26: =SUM('pow rez'!S3:S12) -> 0 | L26: =SUM('pow rez'!T3:T12) -> 0 | M26: =SUM('pow rez'!U3:U12) -> 0 | ... O26: =SUM('pow rez'!W3:W12) -> 0 | P26: =C26=(D26+E26) -> TRUE | Q26: =E26=SUM(F26:O26) -> TRUE
A27: nowe zadania jednoroczne | B27: =COUNTIF('pow rez'!C3:C12,"N") -> 0 | C27: =SUMIF('pow rez'!C3:C12,"N",'pow rez'!J3:J12) -> 0 | D27: =SUMIF('pow rez'!C3:C12,"N",'pow rez'!L3:L12) -> 0 | E27: =SUMIF('pow rez'!C3:C12,"N",'pow rez'!K3:K12) -> 0 | F27: =SUMIF('pow rez'!$C$3:$C$12,"N",'pow rez'!N3:N12) -> 0 | G27: =SUMIF('pow rez'!$C$3:$C$12,"N",'pow rez'!O3:O12) -> 0 | H27: =SUMIF('pow rez'!$C$3:$C$12,"N",'pow rez'!P3:P12) -> 0 | I27: =SUMIF('pow rez'!$C$3:$C$12,"N",'pow rez'!Q3:Q12) -> 0 | J27: =SUMIF('pow rez'!$C$3:$C$12,"N",'pow rez'!R3:R12) -> 0 | K27: =SUMIF('pow rez'!$C$3:$C$12,"N",'pow rez'!S3:S12) -> 0 | L27: =SUMIF('pow rez'!$C$3:$C$12,"N",'pow rez'!T3:T12) -> 0 | M27: =SUMIF('pow rez'!$C$3:$C$12,"N",'pow rez'!U3:U12) -> 0 | ... O27: =SUMIF('pow rez'!$C$3:$C$12,"N",'pow rez'!W3:W12) -> 0 | P27: =C27=(D27+E27) -> TRUE | Q27: =E27=SUM(F27:O27) -> TRUE
A28: nowe zadania wieloletnie | B28: =COUNTIF('pow rez'!C3:C12,"W") -> 0 | C28: =SUMIF('pow rez'!C3:C12,"W",'pow rez'!J3:J12) -> 0 | D28: =SUMIF('pow rez'!C3:C12,"W",'pow rez'!L3:L12) -> 0 | E28: =SUMIF('pow rez'!C3:C12,"W",'pow rez'!K3:K12) -> 0 | F28: =SUMIF('pow rez'!$C$3:$C$12,"W",'pow rez'!N3:N12) -> 0 | G28: =SUMIF('pow rez'!$C$3:$C$12,"W",'pow rez'!O3:O12) -> 0 | H28: =SUMIF('pow rez'!$C$3:$C$12,"W",'pow rez'!P3:P12) -> 0 | I28: =SUMIF('pow rez'!$C$3:$C$12,"W",'pow rez'!Q3:Q12) -> 0 | J28: =SUMIF('pow rez'!$C$3:$C$12,"W",'pow rez'!R3:R12) -> 0 | K28: =SUMIF('pow rez'!$C$3:$C$12,"W",'pow rez'!S3:S12) -> 0 | L28: =SUMIF('pow rez'!$C$3:$C$12,"W",'pow rez'!T3:T12) -> 0 | M28: =SUMIF('pow rez'!$C$3:$C$12,"W",'pow rez'!U3:U12) -> 0 | ... O28: =SUMIF('pow rez'!$C$3:$C$12,"W",'pow rez'!W3:W12) -> 0 | P28: =C28=(D28+E28) -> TRUE | Q28: =E28=SUM(F28:O28) -> TRUE
A29: gminne - lista rezerwowa | B29: =COUNTA('gm rez'!L3:L20) -> 0 | C29: =SUM('gm rez'!K3:K20) -> 0 | D29: =SUM('gm rez'!M3:M20) -> 0 | E29: =SUM('gm rez'!L3:L20) -> 0 | F29: =SUM('gm rez'!O3:O20) -> 0 | G29: =SUM('gm rez'!P3:P20) -> 0 | H29: =SUM('gm rez'!Q3:Q20) -> 0 | I29: =SUM('gm rez'!R3:R20) -> 0 | J29: =SUM('gm rez'!S3:S20) -> 0 | K29: =SUM('gm rez'!T3:T20) -> 0 | L29: =SUM('gm rez'!U3:U20) -> 0 | M29: =SUM('gm rez'!V3:V20) -> 0 | ... O29: =SUM('gm rez'!X3:X20) -> 0 | P29: =C29=(D29+E29) -> TRUE | Q29: =E29=SUM(F29:O29) -> TRUE
A30: nowe zadania jednoroczne | B30: =COUNTIF('gm rez'!C3:C20,"N") -> 0 | C30: =SUMIF('gm rez'!C3:C20,"N",'gm rez'!K3:K20) -> 0 | D30: =SUMIF('gm rez'!C3:C20,"N",'gm rez'!M3:M20) -> 0 | E30: =SUMIF('gm rez'!C3:C20,"N",'gm rez'!L3:L20) -> 0 | F30: =SUMIF('gm rez'!C3:C20,"N",'gm rez'!O3:O20) -> 0 | G30: =SUMIF('gm rez'!C3:C20,"N",'gm rez'!P3:P20) -> 0 | H30: =SUMIF('gm rez'!C3:C20,"N",'gm rez'!Q3:Q20) -> 0 | I30: =SUMIF('gm rez'!D3:D20,"N",'gm rez'!R3:R20) -> 0 | J30: =SUMIF('gm rez'!E3:E20,"N",'gm rez'!S3:S20) -> 0 | K30: =SUMIF('gm rez'!F3:F20,"N",'gm rez'!T3:T20) -> 0 | L30: =SUMIF('gm rez'!G3:G20,"N",'gm rez'!U3:U20) -> 0 | M30: =SUMIF('gm rez'!H3:H20,"N",'gm rez'!V3:V20) -> 0 | N30: =SUMIF('gm rez'!I3:I20,"N",'gm rez'!W3:W20) -> 0 | O30: =SUMIF('gm rez'!J3:J20,"N",'gm rez'!X3:X20) -> 0 | P30: =C30=(D30+E30) -> TRUE | Q30: =E30=SUM(F30:O30) -> TRUE
A31: nowe zadania wieloletnie | B31: =COUNTIF('gm rez'!C3:C20,"W") -> 0 | C31: =SUMIF('gm rez'!C3:C20,"W",'gm rez'!K3:K20) -> 0 | D31: =SUMIF('gm rez'!C3:C20,"W",'gm rez'!M3:M20) -> 0 | E31: =SUMIF('gm rez'!C3:C20,"W",'gm rez'!L3:L20) -> 0 | F31: =SUMIF('gm rez'!C3:C20,"W",'gm rez'!O3:O20) -> 0 | G31: =SUMIF('gm rez'!C3:C20,"W",'gm rez'!P3:P20) -> 0 | H31: =SUMIF('gm rez'!C3:C20,"W",'gm rez'!Q3:Q20) -> 0 | I31: =SUMIF('gm rez'!C3:C20,"W",'gm rez'!R3:R20) -> 0 | J31: =SUMIF('gm rez'!E3:E20,"W",'gm rez'!S3:S20) -> 0 | K31: =SUMIF('gm rez'!F3:F20,"W",'gm rez'!T3:T20) -> 0 | L31: =SUMIF('gm rez'!G3:G20,"W",'gm rez'!U3:U20) -> 0 | M31: =SUMIF('gm rez'!H3:H20,"W",'gm rez'!V3:V20) -> 0 | N31: =SUMIF('gm rez'!I3:I20,"W",'gm rez'!W3:W20) -> 0 | O31: =SUMIF('gm rez'!J3:J20,"W",'gm rez'!X3:X20) -> 0 | P31: =C31=(D31+E31) -> TRUE | Q31: =E31=SUM(F31:O31) -> TRUE
A32: RAZEM listy rezerwowe, z tego: | B32: =B26+B29 -> 0 | C32: =C26+C29 -> 0 | D32: =D26+D29 -> 0 | E32: =E26+E29 -> 0 | F32: =F26+F29 -> 0 | G32: =G26+G29 -> 0 | H32: =H26+H29 -> 0 | I32: =I26+I29 -> 0 | ... O32: =O26+O29 -> 0 | P32: =C32=(D32+E32) -> TRUE | Q32: =E32=SUM(F32:O32) -> TRUE
A33: nowe zadania jednoroczne | B33: =B27+B30 -> 0 | C33: =C27+C30 -> 0 | D33: =D27+D30 -> 0 | E33: =E27+E30 -> 0 | F33: =F27+F30 -> 0 | G33: =G27+G30 -> 0 | H33: =H27+H30 -> 0 | I33: =I27+I30 -> 0 | ... O33: =O27+O30 -> 0 | P33: =C33=(D33+E33) -> TRUE | Q33: =E33=SUM(F33:O33) -> TRUE
A34: nowe zadania wieloletnie | B34: =B28+B31 -> 0 | C34: =C28+C31 -> 0 | D34: =D28+D31 -> 0 | E34: =E28+E31 -> 0 | F34: =F28+F31 -> 0 | G34: =G28+G31 -> 0 | H34: =H28+H31 -> 0 | I34: =I28+I31 -> 0 | ... O34: =O28+O31 -> 0 | P34: =C34=(D34+E34) -> TRUE | Q34: =E34=SUM(F34:O34) -> TRUE
A35: RAZEM listy, z tego: | B35: =B22+B32 -> 122 | C35: =C22+C32 -> 4.8999552e+08 | D35: =D22+D32 -> 2.2909238e+08 | E35: =E22+E32 -> 2.6090314e+08 | F35: =F22+F32 -> 28467420 | G35: =G22+G32 -> 1.6078925e+08 | H35: =H22+H32 -> 57735662 | I35: =I22+I32 -> 13910806 | ... O35: =O22+O32 -> 0 | P35: =C35=(D35+E35) -> TRUE | Q35: =E35=SUM(F35:O35) -> TRUE
A36: kontynuowane zadania wieloletnie | B36: =B23 -> 32 | C36: =C23 -> 2.2972768e+08 | D36: =D23 -> 1.0952785e+08 | E36: =E23 -> 1.2019983e+08 | F36: =F23 -> 28467420 | G36: =G23 -> 53501620 | H36: =H23 -> 27851158 | I36: =I23 -> 10379635 | ... O36: =O23 -> 0 | P36: =C36=(D36+E36) -> TRUE | Q36: =E36=SUM(F36:O36) -> TRUE
A37: nowe zadania jednoroczne | B37: =B24+B33 -> 69 | C37: =C24+C33 -> 1.373373e+08 | D37: =D24+D33 -> 58829807 | E37: =E24+E33 -> 78507488 | F37: =F24+F33 -> 0 | G37: =G24+G33 -> 78507488 | H37: =H24+H33 -> 0 | I37: =I24+I33 -> 0 | ... O37: =O24+O33 -> 0 | P37: =C37=(D37+E37) -> TRUE | Q37: =E37=SUM(F37:O37) -> TRUE
A38: nowe zadania wieloletnie | B38: =B25+B34 -> 21 | C38: =C25+C34 -> 1.2293054e+08 | D38: =D25+D34 -> 60734724 | E38: =E25+E34 -> 62195820 | F38: =F25+F34 -> 0 | G38: =G25+G34 -> 28780145 | H38: =H25+H34 -> 29884504 | I38: =I25+I34 -> 3531171.2 | ... O38: =O25+O34 -> 0 | P38: =C38=(D38+E38) -> TRUE | Q38: =E38=SUM(F38:O38) -> TRUE
B40: =B35=B36+B37+B38 -> TRUE | C40: =C35=C36+C37+C38 -> TRUE | D40: =D35=D36+D37+D38 -> TRUE | E40: =E35=E36+E37+E38 -> TRUE | F40: =F35=F36+F37+F38 -> TRUE | G40: =G35=G36+G37+G38 -> TRUE | H40: =H35=H36+H37+H38 -> TRUE | I40: =I35=I36+I37+I38 -> TRUE | ... O40: =O35=O36+O37+O38 -> TRUE
B41: =B23=B36 -> TRUE | C41: =C23=C36 -> TRUE | D41: =D23=D36 -> TRUE | E41: =E23=E36 -> TRUE | F41: =F23=F36 -> TRUE | G41: =G23=G36 -> TRUE | H41: =H23=H36 -> TRUE | I41: =I23=I36 -> TRUE | ... O41: =O23=O36 -> TRUE
B42: =B16+B20+B27+B30=B37 -> TRUE | C42: =C16+C20+C27+C30=C37 -> TRUE | D42: =D16+D20+D27+D30=D37 -> TRUE | E42: =E16+E20+E27+E30=E37 -> TRUE | F42: =F16+F20+F27+F30=F37 -> TRUE | G42: =G16+G20+G27+G30=G37 -> TRUE | H42: =H16+H20+H27+H30=H37 -> TRUE | I42: =I16+I20+I27+I30=I37 -> TRUE | ... O42: =O16+O20+O27+O30=O37 -> TRUE
B43: =B17+B21+B28+B31=B38 -> TRUE | C43: =C17+C21+C28+C31=C38 -> TRUE | D43: =D17+D21+D28+D31=D38 -> TRUE | E43: =E17+E21+E28+E31=E38 -> TRUE | F43: =F17+F21+F28+F31=F38 -> TRUE | G43: =G17+G21+G28+G31=G38 -> TRUE | H43: =H17+H21+H28+H31=H38 -> TRUE | I43: =I17+I21+I28+I31=I38 -> TRUE | ... O43: =O17+O21+O28+O31=O38 -> TRUE
B44: =B14=B15+B16+B17 -> TRUE | C44: =C14=C15+C16+C17 -> TRUE | D44: =D14=D15+D16+D17 -> TRUE | E44: =E14=E15+E16+E17 -> TRUE | F44: =F14=F15+F16+F17 -> TRUE | G44: =G14=G15+G16+G17 -> TRUE | H44: =H14=H15+H16+H17 -> TRUE | I44: =I14=I15+I16+I17 -> TRUE | ... O44: =O14=O15+O16+O17 -> TRUE
B45: =B18=B19+B20+B21 -> TRUE | C45: =C18=C19+C20+C21 -> TRUE | D45: =D18=D19+D20+D21 -> TRUE | E45: =E18=E19+E20+E21 -> TRUE | F45: =F18=F19+F20+F21 -> TRUE | G45: =G18=G19+G20+G21 -> TRUE | H45: =H18=H19+H20+H21 -> TRUE | I45: =I18=I19+I20+I21 -> TRUE | ... O45: =O18=O19+O20+O21 -> TRUE
B46: =B22=B23+B24+B25 -> TRUE | C46: =C22=C23+C24+C25 -> TRUE | D46: =D22=D23+D24+D25 -> TRUE | E46: =E22=E23+E24+E25 -> TRUE | F46: =F22=F23+F24+F25 -> TRUE | G46: =G22=G23+G24+G25 -> TRUE | H46: =H22=H23+H24+H25 -> TRUE | I46: =I22=I23+I24+I25 -> TRUE | ... O46: =O22=O23+O24+O25 -> TRUE
B47: =B26=B27+B28 -> TRUE | C47: =C26=C27+C28 -> TRUE | D47: =D26=D27+D28 -> TRUE | E47: =E26=E27+E28 -> TRUE | F47: =F26=F27+F28 -> TRUE | G47: =G26=G27+G28 -> TRUE | H47: =H26=H27+H28 -> TRUE | I47: =I26=I27+I28 -> TRUE | ... O47: =O26=O27+O28 -> TRUE
B48: =B29=B30+B31 -> TRUE | C48: =C29=C30+C31 -> TRUE | D48: =D29=D30+D31 -> TRUE | E48: =E29=E30+E31 -> TRUE | F48: =F29=F30+F31 -> TRUE | G48: =G29=G30+G31 -> TRUE | H48: =H29=H30+H31 -> TRUE | I48: =I29=I30+I31 -> TRUE | ... O48: =O29=O30+O31 -> TRUE
B49: =B32=+B33+B34 -> TRUE | C49: =C32=+C33+C34 -> TRUE | D49: =D32=+D33+D34 -> TRUE | E49: =E32=+E33+E34 -> TRUE | F49: =F32=+F33+F34 -> TRUE | G49: =G32=+G33+G34 -> TRUE | H49: =H32=+H33+H34 -> TRUE | I49: =I32=+I33+I34 -> TRUE | ... O49: =O32=+O33+O34 -> TRUE

Sheet pow podst
A1: L.p. | B1: Nr ewid. | C1: Zadanie nowe/kontynuowane/wieloletnie [N/K/W] | D1: Jednostka Samorządu Terytorialnego | E1: TERC | F1: Nazwa zadania | G1: Rodzaj zadania | H1: Długość odcinka (w km) | I1: Okres realizacji zadania | J1: Ogółem wartość projektu (w zł) | K1: Wnioskowana kwota dofinansowania (w zł) | L1: Deklarowana kwota środków własnych (w zł) | M1: % dofinansowania | N1: Kwota dofinansowania w podziale na lata
N2: 2019 | O2: 2020 | P2: 2021 | Q2: 2022 | R2: 2023 | S2: 2024 | T2: 2025 | U2: 2026 | V2: 2027 | W2: 2028 | X2: spr-lata | Y2: spr-procent | Z2: spr-dof | AA2: spr-montaż
A3: 1 | B3: 121/19 | C3: K | D3: POWIAT CIESZYŃSKI | E3: 2403 | F3: Rozbudowa drogi powiatowej 2602S - ul. Góreckiej w Skoczowie na odcinku ok. 1,2 km (od przejazdu kolejowego do drogi ekspresowej S52) z rozbiórką mostu nad Bajerką i budową nowego obiektu inżynierskiego | G3: B | H3: 1.178 | I3: październik 2019 - listopad 2020 | J3: 8834716.5 | K3: =O3+N3 -> 6184301 | L3: 2650415.5 | M3: 0.7 | N3: 32501.7 | O3: 6151799.3 | X3: =K3=SUM(N3:W3) -> TRUE | Y3: =ROUND(K3/J3,4) -> 0.7 | Z3: =Y3=M3 -> TRUE | AA3: =J3=K3+L3 -> TRUE
A4: 2 | B4: 152/19 | C4: K | D4: POWIAT CZĘSTOCHOWSKI | E4: 2404 | F4: Przebudowa ciągu dróg powiatowych nr 1070 S Kłomnice-Kruszyna, nr 1025 S Kruszyna-Borowno i nr 1019 S Borowno-Witkowice, gmina Kłomnice, Kruszyna i Mykanów | G4: P | H4: 15.569 | I4: wrzesień 2019 - sierpień 2022 | J4: 29242720 | K4: 16083496 | L4: 13159224 | M4: =K4/J4 -> 0.55 | N4: 1226775 | O4: 4629929 | P4: 5112572.5 | Q4: 5114219.5 | X4: =K4=SUM(N4:W4) -> TRUE | Y4: =ROUND(K4/J4,4) -> 0.55 | Z4: =Y4=M4 -> FALSE | AA4: =J4=K4+L4 -> TRUE
A5: 3 | B5: 184/19 | C5: K | D5: MIASTO ZABRZE | E5: 2478011 | F5: Rozbudowa skrzyżowania ul. Roosevelta z ul. Piłsudskiego - budowa ronda, przebudowa ulicy Piłsudskiego od skrzyżowania z ul. Roosevelta do wiaduktu kolejowego, budowa doświetlenia przejścia dla pieszych w ciągu ul. 3-go Maja na wysokości ul. Lutra, Padlewskiego, Floriana, Bohaterów Warszawskich, Sądowej, Franklina Roosevelta | G5: BP | H5: 1.234 | I5: styczeń 2019 - październik 2020 | J5: 16309819 | K5: 8154909 | L5: 8154910 | M5: 0.5 | N5: 4958308 | O5: 3196601 | X5: =K5=SUM(N5:W5) -> TRUE | Y5: =ROUND(K5/J5,4) -> 0.5 | Z5: =Y5=M5 -> TRUE | AA5: =J5=K5+L5 -> TRUE
A6: 4 | B6: 165/19 | C6: K | D6: MIASTO MYSŁOWICE | E6: 2470011 | F6: Przebudowa ul. Laryskiej w Mysłowicach - I etap | G6: P | H6: 3.5 | I6: październik 2019 - lipiec 2021 | J6: 16509042 | K6: 7616157.6 | L6: 8892884.1 | M6: 0.46 | N6: 228484.8 | O6: 3579594.4 | P6: 3808078.4 | X6: =K6=SUM(N6:W6) -> TRUE | Y6: =ROUND(K6/J6,4) -> 0.4613 | Z6: =Y6=M6 -> FALSE | AA6: =J6=K6+L6 -> TRUE
A7: 5 | B7: 171/19 | C7: K | D7: POWIAT ŻYWIECKI | E7: 2417 | F7: Przebudowa drogi powiatowej nr 1415 S od km 8+216 do km 8+546 wraz z budową chodnika i kanalizacji deszczowej od km 8+471 do km 9+411 (ul. Jasnogórska) w miejscowości Ślemień, gmina Ślemień | G7: P | H7: 1.195 | I7: wrzesień 2019 - październik 2020 | J7: 966392.75 | K7: 724794.56 | L7: 241598.19 | M7: 0.75 | N7: 65967.75 | O7: 658826.81 | X7: =K7=SUM(N7:W7) -> TRUE | Y7: =ROUND(K7/J7,4) -> 0.75 | Z7: =Y7=M7 -> TRUE | AA7: =J7=K7+L7 -> TRUE
A8: 6 | B8: 150/19 | C8: K | D8: POWIAT CZĘSTOCHOWSKI | E8: 2404 | F8: Przebudowa ciągu dróg powiatowych nr 1057 S na odc. Huta Stara A - Poczesna i nr 1056 S na odc. Mazury - Młynek, gmina Poczesna | G8: P | H8: 3.35 | I8: sierpień 2019 - sierpień 2022 | J8: 7600000 | K8: 4180000 | L8: 3420000 | M8: =K8/J8 -> 0.55 | N8: 606100 | O8: 1324400 | P8: 1324400 | Q8: 925100 | X8: =K8=SUM(N8:W8) -> TRUE | Y8: =ROUND(K8/J8,4) -> 0.55 | Z8: =Y8=M8 -> TRUE | AA8: =J8=K8+L8 -> TRUE
A9: 7 | B9: 146/19 | C9: K | D9: MIASTO CZĘSTOCHOWA | E9: 2464011 | F9: Przebudowa ulicy Łódzkiej w Częstochowie | G9: P | H9: 0.906 | I9: kwiecień 2019 - lipiec 2020 | J9: 3058768 | K9: 1529384 | L9: 1529384 | M9: =K9/J9 -> 0.5 | N9: 1161282.5 | O9: 368101.5 | X9: =K9=SUM(N9:W9) -> TRUE | Y9: =ROUND(K9/J9,4) -> 0.5 | Z9: =Y9=M9 -> TRUE | AA9: =J9=K9+L9 -> TRUE
A10: 8 | B10: 20/19 | C10: K | D10: POWIAT MYSZKOWSKI | E10: 2409 | F10: Przebudowa drogi powiatowej nr 1012 S na odcinku ok. 1000,0 od m. Gęzyn gmina Poraj w kierunku m. Koziegłowy, na odcinku o długości 950,0 m od ul. Jasnej w Poraju oraz przebudowa mostu nad rz. Warta w ciągu DP 1012S w m. Poraj ul. Jastrzębska | G10: P | H10: 1.981 | I10: lipiec 2019 - listopad 2020 | J10: 3176142 | K10: 1905684.8 | L10: 1270457.2 | M10: 0.6 | N10: 517786.8 | O10: 1387898 | X10: =K10=SUM(N10:W10) -> TRUE | Y10: =ROUND(K10/J10,4) -> 0.6 | Z10: =Y10=M10 -> TRUE | AA10: =J10=K10+L10 -> TRUE
A11: 9 | B11: 54/19 | C11: K | D11: MIASTO JAWORZNO | E11: 2468011 | F11: Przebudowa ul. 11 Listopada 6801 S wraz ze skrzyżowaniem z ul. Grunwaldzką 6801 S oraz budową łącznika do DK79 w Jaworznie | G11: BP | H11: 0.802 | I11: czerwiec 2019 - październik 2020 | J11: 5134155.5 | K11: 2567077.8 | L11: 2567077.8 | M11: 0.5 | N11: 2567077.8 | O11: 0 | X11: =K11=SUM(N11:W11) -> TRUE | Y11: =ROUND(K11/J11,4) -> 0.5 | Z11: =Y11=M11 -> TRUE | AA11: =J11=K11+L11 -> TRUE
A12: 10 | B12: 141/19 | C12: K | D12: POWIAT TARNOGÓRSKI | E12: 2413 | F12: Budowa ścieżki rowerowej na odcinku Laryszów - Miedary (nr drogi 3218S) w gminie Zbrosławice | G12: P | H12: 1.512 | I12: sierpień 2019 - listopad 2020 | J12: 1475637.5 | K12: 737818.73 | L12: 737818.73 | M12: 0.5 | N12: 340000 | O12: 397818.73 | P12: 0 | X12: =K12=SUM(N12:W12) -> TRUE | Y12: =ROUND(K12/J12,4) -> 0.5 | Z12: =Y12=M12 -> TRUE | AA12: =J12=K12+L12 -> TRUE
A13: 11 | B13: 57/19 | C13: K | D13: POWIAT MIKOŁOWSKI | E13: 2408 | F13: Przebudowa ul. Żorskiej w Orzeszu - etap II | G13: P | H13: 2.77 | I13: wrzesień 2019 - październik 2021 | J13: 7478342.8 | K13: 4113088 | L13: 3365254.8 | M13: =K13/J13 -> 0.54999993 | N13: 27500 | O13: 2042794 | P13: 2042794 | X13: =K13=SUM(N13:W13) -> TRUE | Y13: =ROUND(K13/J13,4) -> 0.55 | Z13: =Y13=M13 -> FALSE | AA13: =J13=K13+L13 -> TRUE
A14: 12 | B14: 18/19 | C14: K | D14: POWIAT MYSZKOWSKI | E14: 2409 | F14: Przebudowa drogi powiatowej nr 2311 S na odcinku 2 430 m od ronda w m. Mzyki do DW789 | G14: P | H14: 2.43 | I14: lipiec 2019 - listopad 2020 | J14: 2550639.6 | K14: 1530383.8 | L14: 1020255.9 | M14: 0.6 | N14: 489214.8 | O14: 1041169 | P14: 0 | X14: =K14=SUM(N14:W14) -> TRUE | Y14: =ROUND(K14/J14,4) -> 0.6 | Z14: =Y14=M14 -> TRUE | AA14: =J14=K14+L14 -> TRUE
A15: 13 | B15: 177/19 | C15: K | D15: MIASTO CHORZÓW | E15: 2463011 | F15: Przebudowa ulicy 3 Maja w Chorzowie | G15: P | H15: 2.133 | I15: sierpień 2019 - czerwiec 2022 | J15: 24781778 | K15: 12390889 | L15: 12390889 | M15: 0.5 | N15: 1855000 | O15: 4177811.8 | P15: 4395000 | Q15: 1963077 | X15: =K15=SUM(N15:W15) -> TRUE | Y15: =ROUND(K15/J15,4) -> 0.5 | Z15: =Y15=M15 -> TRUE | AA15: =J15=K15+L15 -> TRUE
A16: 14 | B16: 19/19 | C16: K | D16: POWIAT MYSZKOWSKI | E16: 2409 | F16: Przebudowa drogi powiatowej nr 1715 S w m. Myszków (Nierada) w km 0+043,57 do km 0+537,00 łącznie z robotami na przepuście i przebudową mostu | G16: P | H16: 0.516 | I16: lipiec 2019 - listopad 2020 | J16: 3014169.5 | K16: 1808501.7 | L16: 1205667.8 | M16: 0.6 | N16: 432445.8 | O16: 1376055.9 | P16: 0 | Q16: 0 | X16: =K16=SUM(N16:W16) -> TRUE | Y16: =ROUND(K16/J16,4) -> 0.6 | Z16: =Y16=M16 -> TRUE | AA16: =J16=K16+L16 -> TRUE
A17: 15* | B17: 182/19 | C17: K | D17: MIASTO GLIWICE | E17: 2466011 | F17: Budowa południowej części obwodnicy miasta, rozbudowa układu drogowego pomiędzy ul. Bojkowską i ul. Pszczyńską w Gliwicach wraz z infrastrukturą towarzyszącą. Etap II | G17: B | H17: 1.61 | I17: marzec 2019 - listopad 2020 | J17: 42128446 | K17: 17354595 | L17: =J17-K17 -> 24773851 | M17: 0.5 | N17: 7866362 | O17: 9488233.1 | X17: =K17=SUM(N17:W17) -> TRUE | Y17: =ROUND(K17/J17,4) -> 0.4119 | Z17: =Y17=M17 -> FALSE | AA17: =J17=K17+L17 -> TRUE
A18: 16 | B18: 210/19 | C18: W | D18: MIASTO JAWORZNO | E18: 2468011 | F18: Przebudowa ul. Martyniaków 6809 S w Jaworznie | G18: P | H18: 1.92 | I18: styczeń 2020 - październik 2022 | J18: 7841830.9 | K18: 3920915 | L18: 3920915.9 | M18: 0.5 | N18: 0 | O18: 500000 | P18: 1900000 | Q18: 1520915 | X18: =K18=SUM(N18:W18) -> TRUE | Y18: 0.5 | Z18: =Y18=M18 -> TRUE | AA18: =J18=K18+L18 -> TRUE
A19: 17 | B19: 267/19 | C19: N | D19: POWIAT BIELSKI | E19: 2402 | F19: Przebudowa drogi powiatowej nr 4490S w Zasolu Bielańskim na odcinku 1734 m wraz z przebudową skrzyżowania z drogą powiatową nr 4491S na rondo i przebudową drogi 4491 S na łącznej długości 58 m | G19: P | H19: 1.792 | I19: sierpień 2020 - lipiec 2021 | J19: 3800608.5 | K19: 2090334 | L19: 1710274.4 | M19: 0.55 | N19: 0 | O19: 2090334 | X19: =K19=SUM(N19:W19) -> TRUE | Y19: =ROUND(K19/J19,4) -> 0.55 | Z19: =Y19=M19 -> TRUE | AA19: =J19=K19+L19 -> TRUE
A20: 18 | B20: 262/19 | C20: W | D20: MIASTO JASTRZĘBIE - ZDRÓJ | E20: 2467011 | F20: Rozbudowa odcinka al. Piłsudskiego wraz ze skrzyżowaniem oraz budowa wiaduktu w Jastrzębiu - Zdroju | G20: B | H20: 0.596 | I20: sierpień 2020 - październik 2022 | J20: 18369221 | K20: 9184610.7 | L20: 9184610.6 | M20: 0.5 | N20: 0 | O20: 2700000 | P20: 6484610.7 | X20: =K20=SUM(N20:W20) -> TRUE | Y20: =ROUND(K20/J20,4) -> 0.5 | Z20: =Y20=M20 -> TRUE | AA20: =J20=K20+L20 -> TRUE
A21: 19 | B21: 240/19 | C21: W | D21: POWIAT PSZCZYŃSKI | E21: 2410 | F21: Przebudowa dróg powiatowych 4149S tj. ul. Szkolnej w Porębie i ul. Porębskiej w Radostowicach | G21: P | H21: 2.237 | I21: czerwiec 2020 - maj 2022 | J21: 5498316.8 | K21: 3024074.3 | L21: 2474242.6 | M21: =K21/J21 -> 0.55 | N21: 0 | O21: 3024074.3 | P21: 0 | X21: =K21=SUM(N21:W21) -> TRUE | Y21: =ROUND(K21/J21,4) -> 0.55 | Z21: =Y21=M21 -> FALSE | AA21: =J21=K21+L21 -> TRUE
A22: 20 | B22: 328/19 | C22: W | D22: POWIAT RACIBORSKI | E22: 2411 | F22: Rozbudowa odcinka drogi powiatowej nr 3504S w Kornicach na odcinku od początku skrzyżowania z DP 3525S do km 2+386 i przebudowa na odcinku od km 1+966 do km 1+589 | G22: B | H22: 0.773 | I22: lipiec 2020 - listopad 2021 | J22: 7752500.5 | K22: =O22+P22 -> 4242427.2 | L22: =J22-K22 -> 3510073.3 | M22: 0.55 | N22: 0 | O22: 2750000 | P22: 1492427.2 | X22: =K22=SUM(N22:W22) -> TRUE | Y22: =ROUND(K22/J22,4) -> 0.5472 | Z22: =Y22=M22 -> FALSE | AA22: =J22=K22+L22 -> TRUE
A23: 21 | B23: 218/19 | C23: N | D23: POWIAT GLIWICKI | E23: 2405 | F23: Przebudowa drogi powiatowej Nr 2985S ul. Powstańców Śląskich w Pyskowicach | G23: P | H23: 0.627 | I23: październik 2020-lipiec 2021 | J23: 1145038.2 | K23: 687022.93 | L23: 458015.3 | M23: 0.6 | N23: 0 | O23: =K23 -> 687022.93 | X23: =K23=SUM(N23:W23) -> TRUE | Y23: =ROUND(K23/J23,4) -> 0.6 | Z23: =Y23=M23 -> TRUE | AA23: =J23=K23+L23 -> TRUE
A24: 22 | B24: 217/19 | C24: N | D24: POWIAT GLIWICKI | E24: 2405 | F24: Rozbudowa i przebudowa drogi powiatowej Nr 2982 S ul. Szpitalna w Knurowie | G24: P | H24: 0.594 | I24: październik 2020-lipiec 2021 | J24: 2596669.2 | K24: 1558001.5 | L24: 1038667.7 | M24: 0.6 | N24: 0 | O24: =K24 -> 1558001.5 | X24: =K24=SUM(N24:W24) -> TRUE | Y24: =ROUND(K24/J24,4) -> 0.6 | Z24: =Y24=M24 -> TRUE | AA24: =J24=K24+L24 -> TRUE
A25: 23 | B25: 225/19 | C25: N | D25: POWIAT ZAWIERCIAŃSKI | E25: 2416 | F25: Przebudowa drogi powiatowej nr 1726S i 1730S na odcinku od skrzyżowania ulicy Leśnej z ulicą Piłsudskiego (rondo) do drogi krajowej nr 78 w miejscowości Zawiercie - Kromołów | G25: P | H25: 4.47 | I25: kwiecień 2020 - czerwiec 2021 | J25: 4653193.5 | K25: 3722554.8 | L25: 930638.71 | M25: =K25/J25 -> 0.8 | N25: 0 | O25: =K25 -> 3722554.8 | X25: =K25=SUM(N25:W25) -> TRUE | Y25: =ROUND(K25/J25,4) -> 0.8 | Z25: =Y25=M25 -> FALSE | AA25: =J25=K25+L25 -> TRUE
A26: 24 | B26: 238/19 | C26: N | D26: POWIAT WODZISŁAWSKI | E26: 2415 | F26: Przebudowa drogi powiatowej 5024S (ul. Traugutta) w Pszowie | G26: P | H26: 0.872 | I26: lipiec 2020 - maj 2021 | J26: 3447725.6 | K26: 1723862.8 | L26: 1723862.8 | M26: 0.5 | N26: 0 | O26: =K26 -> 1723862.8 | X26: =K26=SUM(N26:W26) -> TRUE | Y26: =ROUND(K26/J26,4) -> 0.5 | Z26: =Y26=M26 -> TRUE | AA26: =J26=K26+L26 -> TRUE
A27: 25 | B27: 258/19 | C27: N | D27: POWIAT CIESZYŃSKI | E27: 2403 | F27: Rozbudowa drogi powiatowej 2621 S - ul. Długiej w Hażlachu na odcinku od lasu Brzezie w kierunku centrum Hażlacha (do istniejącego chodnika) | G27: B | H27: 0.986 | I27: czerwiec 2020 - grudzień 2020 | J27: 3249193.6 | K27: 1787056.4 | L27: 1462137.1 | M27: =K27/J27 -> 0.55 | N27: 0 | O27: 1787056.4 | X27: =K27=SUM(N27:W27) -> TRUE | Y27: =ROUND(K27/J27,4) -> 0.55 | Z27: =Y27=M27 -> FALSE | AA27: =J27=K27+L27 -> TRUE
A28: 26 | B28: 268/19 | C28: N | D28: POWIAT BIELSKI | E28: 2402 | F28: Przebudowa drogi powiatowej nr 4453 S ul. Prusa w Czechowicach-Dziedzicach wraz z rozbudową skrzyżowania z drogą gminną nr 350012 S (ul. Barlickiego) | G28: P | H28: 1.029 | I28: sierpień 2020 - lipiec 2021 | J28: 6630389.2 | K28: 3646714 | L28: 2983675.2 | M28: 0.55 | N28: 0 | O28: 3646714 | X28: =K28=SUM(N28:W28) -> TRUE | Y28: =ROUND(K28/J28,4) -> 0.55 | Z28: =Y28=M28 -> TRUE | AA28: =J28=K28+L28 -> TRUE
A29: 27 | B29: 226/19 | C29: N | D29: POWIAT ZAWIERCIAŃSKI | E29: 2416 | F29: Przebudowa drogi powiatowej nr 1765S od km 0+000 - skrzyżowanie ul. 17-go Stycznia z drogą wojewódzką 794 w Pilicy do km 4+560 w Kocikowej oraz od km 4+560 do km 5+505 w Kocikowej | G29: P | H29: 5.505 | I29: kwiecień 2020 - październik 2020 | J29: 2837482.8 | K29: 2269986.2 | L29: 567496.55 | M29: 0.8 | O29: =K29 -> 2269986.2 | X29: =K29=SUM(N29:W29) -> TRUE | Y29: =ROUND(K29/J29,4) -> 0.8 | Z29: =Y29=M29 -> TRUE | AA29: =J29=K29+L29 -> TRUE
A30: 28 | B30: 286/19 | C30: N | D30: POWIAT TARNOGÓRSKI | E30: 2413 | F30: Rozbudowa ul. Powstańców Śląskich w Tarnowskich Górach | G30: B | H30: 0.701 | I30: czerwiec 2020 - maj 2021 | J30: 5483198.9 | K30: 2741599.4 | L30: 2741599.5 | M30: 0.5 | N30: 0 | O30: =K30 -> 2741599.4 | X30: =K30=SUM(N30:W30) -> TRUE | Y30: =ROUND(K30/J30,4) -> 0.5 | Z30: =Y30=M30 -> TRUE | AA30: =J30=K30+L30 -> TRUE
A31: 29 | B31: 204/19 | C31: N | D31: POWIAT MYSZKOWSKI | E31: 2409 | F31: Przebudowa drogi powiatowej nr 3804 S na odcinku Myszków ul. Pińczycka do Stara Huta ul. Myszkowska | G31: P | H31: 2.271 | I31: marzec 2020 - listopad 2020 | J31: 1194874.9 | K31: 896156.17 | L31: 298718.73 | M31: 0.75 | O31: 896156.17 | X31: =K31=SUM(N31:W31) -> TRUE | Y31: =ROUND(K31/J31,4) -> 0.75 | Z31: =Y31=M31 -> TRUE | AA31: =J31=K31+L31 -> TRUE
A32: 30 | B32: 294/19 | C32: N | D32: POWIAT ŻYWIECKI | E32: 2417 | F32: Przebudowa odcinka drogi powiatowej nr 1455 S Pietrzykowice - Lipowa - Ostre - Twardorzeczka - Leśna w km od 4+774 do km 6+071 w miejscowości Lipowa | G32: P | H32: 1.297 | I32: styczeń 2020 - czerwiec 2021 | J32: 1762732 | K32: 1233912.4 | L32: 528819.59 | M32: 0.7 | O32: 1233912.4 | X32: =K32=SUM(N32:W32) -> TRUE | Y32: =ROUND(K32/J32,4) -> 0.7 | Z32: =Y32=M32 -> TRUE | AA32: =J32=K32+L32 -> TRUE
A33: 31 | B33: 257/19 | C33: N | D33: POWIAT CIESZYŃSKI | E33: 2403 | F33: Remont drogi powiatowej 2602 S Skoczów - Brenna (ul. Górecka w Brennej) na odc. ok. 1 km | G33: R | H33: 0.986 | I33: maj 2020 - październik 2020 | J33: =SUM(K33:L33) -> 660447.15 | K33: 363245 | L33: 297202.15 | M33: =K33/J33*100% -> 0.54999859 | N33: 0 | O33: =K33 -> 363245 | X33: =K33=SUM(N33:W33) -> TRUE | Y33: =ROUND(K33/J33,4) -> 0.55 | Z33: =Y33=M33 -> FALSE | AA33: =J33=K33+L33 -> TRUE
A34: 32 | B34: 316/19 | C34: N | D34: MIASTO CZĘSTOCHOWA | E34: 2464011 | F34: Przebudowa ulicy Korczaka w Częstochowie | G34: P | H34: 0.26 | I34: czerwiec 2020 - grudzień 2020 | J34: 1574986.9 | K34: 787493 | L34: 787493.85 | M34: 0.5 | N34: 0 | O34: 787493 | X34: =K34=SUM(N34:W34) -> TRUE | Y34: =ROUND(K34/J34,4) -> 0.5 | Z34: =Y34=M34 -> TRUE | AA34: =J34=K34+L34 -> TRUE
A35: 33 | B35: 310/19 | C35: W | D35: MIASTO MYSŁOWICE | E35: 2470011 | F35: Przebudowa ul. 3 Maja w Mysłowicach od ul. Laryskiej do ul. Dzierżonia i Orła Białego | G35: P | H35: 0.833 | I35: lipiec 2020 - listopad 2022 | J35: 10441417 | K35: =ROUND(J35*M35,2) -> 5220708.5 | L35: =J35-K35 -> 5220708.5 | M35: 0.5 | N35: 0 | O35: 1566212.5 | P35: 3654496 | X35: =K35=SUM(N35:W35) -> TRUE | Y35: =ROUND(K35/J35,4) -> 0.5 | Z35: =Y35=M35 -> TRUE | AA35: =J35=K35+L35 -> TRUE
A36: 34 | B36: 237/19 | C36: N | D36: POWIAT WODZISŁAWSKI | E36: 2415 | F36: Przebudowa drogi powiatowej nr 5024S (ul. Bohaterów Warszawy) w Rydułtowach wraz z remontem chodnika | G36: P | H36: 1.189 | I36: lipiec 2020 - listopad 2020 | J36: 2700614.8 | K36: 1350307.4 | L36: 1350307.4 | M36: =K36/J36 -> 0.5 | N36: 0 | O36: 1350307.4 | X36: =K36=SUM(N36:W36) -> TRUE | Y36: =ROUND(K36/J36,4) -> 0.5 | Z36: =Y36=M36 -> FALSE | AA36: =J36=K36+L36 -> TRUE
A37: 35 | B37: 249/19 | C37: N | D37: POWIAT BIERUŃSKO-LĘDZIŃSKI | E37: 2414 | F37: Przebudowa drogi powiatowej 5923S, ul. Dzikowej w Lędzinach w km od 2+534 do 2+927 | G37: P | H37: 0.393 | I37: czerwiec 2020 - październik 2020 | J37: 871200.22 | K37: 435600 | L37: 435600.22 | M37: 0.5 | N37: 0 | O37: 435600 | X37: =K37=SUM(N37:W37) -> TRUE | Y37: =ROUND(K37/J37,4) -> 0.5 | Z37: =Y37=M37 -> TRUE | AA37: =J37=K37+L37 -> TRUE
A38: 36 | B38: 329/19 | C38: W | D38: POWIAT RACIBORSKI (zadanie przeniesione na listę podstawową) | E38: 2411 | F38: Przebudowa drogi powiatowej nr 3517S w Tworkowie od skrzyżowania z ulicą Zamkową do przejazdu kolejowego oraz remont drogi powiatowej nr 3516S pomiędzy skrzyżowaniami z DK 45 w Tworkowie i przebudowa drogi powiatowej nr 3536S w Górkach Śląskich od skrzyżowania z ul. Rudzką do końca działki drogowej nr 257/3 od strony DW 919 | G38: P | H38: 3.926 | I38: sierpień 2020 - listopad 2021 | J38: 5825719.1 | K38: =O38+P38 -> 3204145.5 | L38: =J38-K38 -> 2621573.6 | M38: =K38/J38 -> 0.55 | N38: 0 | O38: 2740000 | P38: 464145.51 | X38: =K38=SUM(N38:W38) -> TRUE | Y38: =ROUND(K38/J38,4) -> 0.55 | Z38: =Y38=M38 -> FALSE | AA38: =J38=K38+L38 -> TRUE
A39: 37 | B39: 306/19 | C39: W | D39: MIASTO CHORZÓW (zadanie przeniesione na listę podstawową) | E39: 2463011 | F39: Przebudowa ulicy Hajduckiej oraz fragmentu Alei Bojowników o Wolność i Demokrację w Chorzowie | G39: P | H39: 1.183 | I39: kwiecień 2020 - grudzień 2021 | J39: 6491552.5 | K39: =O39+P39 -> 3245776.3 | L39: =J39-K39 -> 3245776.3 | M39: 0.5 | N39: 0 | O39: 1750000 | P39: 1495776.3 | X39: =K39=SUM(N39:W39) -> TRUE | Y39: =ROUND(K39/J39,4) -> 0.5 | Z39: =Y39=M39 -> TRUE | AA39: =J39=K39+L39 -> TRUE
A40: 38 | B40: 270/19 | C40: W | D40: MIASTO SOSNOWIEC (zadanie przeniesione na listę podstawową) | E40: 2475011 | F40: Przebudowa ul. Ostrogórskiej na odcinku od skrzyżowania z ul. Jagiellońską do skrzyżowania z ul. 1 Maja w ramach zadania inwestycyjnego "Przebudowa ul. Ostrogórskiej w Sosnowcu" | G40: P | H40: 0.636 | I40: lipiec 2020 - październik 2021 | J40: 6638019.9 | K40: 3319010 | L40: 3319010 | M40: =K40/J40 -> 0.5 | N40: 0 | O40: 1285571.2 | P40: 2033438.8 | X40: =K40=SUM(N40:W40) -> TRUE | Y40: =ROUND(K40/J40,4) -> 0.5 | Z40: =Y40=M40 -> FALSE | AA40: =J40=K40+L40 -> TRUE
A41: 39 | B41: 285/19 | C41: N | D41: POWIAT TARNOGÓRSKI (zadanie przeniesione na listę podstawową) | E41: 2413 | F41: Przebudowa pasa drogowego DP3210S i 3207S ul. Główna w Zendku | G41: P | H41: 2.465 | I41: czerwiec 2020 - maj 2021 | J41: 4203315 | K41: 2101657.5 | L41: 2101657.5 | M41: 0.5 | N41: 0 | O41: =K41 -> 2101657.5 | X41: =K41=SUM(N41:W41) -> TRUE | Y41: =ROUND(K41/J41,4) -> 0.5 | Z41: =Y41=M41 -> TRUE | AA41: =J41=K41+L41 -> TRUE
A42: 40 | B42: 266/19 | C42: N | D42: POWIAT BĘDZIŃSKI (zadanie przeniesione na listę podstawową) | E42: 2401 | F42: Przebudowa drogi powiatowej 4722 S - ul. Sielecka w Będzinie | G42: P | H42: 0.459 | I42: listopad 2020 - wrzesień 2021 | J42: 1248624.8 | K42: 686743 | L42: 561881.75 | M42: 0.55 | N42: 0 | O42: 686743 | X42: =K42=SUM(N42:W42) -> TRUE | Y42: =ROUND(K42/J42,4) -> 0.55 | Z42: =Y42=M42 -> TRUE | AA42: =J42=K42+L42 -> TRUE
A43: 41 | B43: 324/19 | C43: N | D43: POWIAT CZĘSTOCHOWSKI (zadanie przeniesione na listę podstawową) | E43: 2404 | F43: Przebudowa drogi powiatowej nr 1037 S na odc. Siedlec - Srocko, gmina Mstów | G43: P | H43: 3.029 | I43: październik 2020 - wrzesień 2021 | J43: 3901000 | K43: 1950500 | L43: 1950500 | M43: 0.5 | N43: 0 | O43: 1950500 | X43: =K43=SUM(N43:W43) -> TRUE | Y43: =ROUND(K43/J43,4) -> 0.5 | Z43: =Y43=M43 -> TRUE | AA43: =J43=K43+L43 -> TRUE
A44: 42 | B44: 271/19 | C44: N | D44: MIASTO SOSNOWIEC (zadanie przeniesione na listę podstawową) | E44: 2475011 | F44: Przebudowa ul. Kukułek w Sosnowcu, droga klasy L, kategoria drogi - droga powiatowa | G44: P | H44: 1.688 | I44: listopad 2020 - październik 2021 | J44: 5918048.2 | K44: 2959024.1 | L44: 2959024.1 | M44: 0.5 | N44: 0 | O44: =K44 -> 2959024.1 | X44: =K44=SUM(N44:W44) -> TRUE | Y44: =ROUND(K44/J44,4) -> 0.5 | Z44: =Y44=M44 -> TRUE | AA44: =J44=K44+L44 -> TRUE
A45: 43 | B45: 252/19 | D45: POWIAT MIKOŁOWSKI (rezygnacja beneficjenta z realizacji zadania) | E45: 2408 | F45: Przebudowa ciągu drogowego nr 5314S Powiat Mikołowski - ul. Rybnicka w Gostyni etap I i III | G45: P | X45: =K45=SUM(N45:W45) -> TRUE | Y45: =ROUND(K45/J45,4) -> #DIV/0! | Z45: =Y45=M45 -> #DIV/0! | AA45: =J45=K45+L45 -> TRUE
A46: 44 | B46: 231/19 | D46: POWIAT KŁOBUCKI (rezygnacja beneficjenta z realizacji zadania) | E46: 2406 | F46: Przebudowa drogi powiatowej nr 2003 S relacji Parzymiechy - Napoleon - Lipie | G46: P | X46: =K46=SUM(N46:W46) -> TRUE | Y46: =ROUND(K46/J46,4) -> #DIV/0! | Z46: =Y46=M46 -> #DIV/0! | AA46: =J46=K46+L46 -> TRUE
A47: 45 | B47: 221/19 | C47: N | D47: POWIAT RYBNICKI (zadanie przeniesione na listę podstawową) | E47: 2412 | F47: Remont odcinka drogi powiatowej nr 5614S ulica Wolności w Bełku od skrzyżowania z ulicą Bełkowską do skrzyżowania z ulicą Szymochy | G47: R | H47: 0.919 | I47: marzec 2020 - listopad 2020 | J47: 1104861 | K47: =60%*J47 -> 662916.6 | L47: =J47-K47 -> 441944.4 | M47: =K47/J47 -> 0.6 | N47: 0 | O47: =K47 -> 662916.6 | X47: =K47=SUM(N47:W47) -> TRUE | Y47: =ROUND(K47/J47,4) -> 0.6 | Z47: =Y47=M47 -> TRUE | AA47: =J47=K47+L47 -> TRUE
A48: RAZEM, z tego: | H48: =SUM(H3:H47) -> 84.322 | I48: x | J48: =SUM(J3:J47) -> 3.0010355e+08 | K48: =SUM(K3:K47) -> 1.5589744e+08 | L48: =SUM(L3:L47) -> 1.4420612e+08 | M48: x | N48: =SUM(N3:N47) -> 22374807 | O48: =SUM(O3:O47) -> 89791578 | P48: =SUM(P3:P47) -> 34207739 | Q48: =SUM(Q3:Q47) -> 9523311.5 | R48: =SUM(R3:R47) -> 0 | S48: =SUM(S3:S47) -> 0 | T48: =SUM(T3:T47) -> 0 | U48: =SUM(U3:U47) -> 0 | ... W48: =SUM(W3:W47) -> 0 | X48: =K48=SUM(N48:W48) -> TRUE | Y48: =ROUND(K48/J48,4) -> 0.5195 | Z48: x | AA48: =J48=K48+L48 -> TRUE
A49: kontynuowane zadania wieloletnie | H49: =SUMIF($C$3:$C$47,"K",H3:H47) -> 40.686 | I49: x | J49: =SUMIF($C$3:$C$47,"K",J3:J47) -> 1.7226077e+08 | K49: =SUMIF($C$3:$C$47,"K",K3:K47) -> 86881081 | L49: =SUMIF($C$3:$C$47,"K",L3:L47) -> 85379688 | M49: x | N49: =SUMIF($C$3:$C$47,"K",N3:N47) -> 22374807 | O49: =SUMIF($C$3:$C$47,"K",O3:O47) -> 39821033 | P49: =SUMIF($C$3:$C$47,"K",P3:P47) -> 16682845 | Q49: =SUMIF($C$3:$C$47,"K",Q3:Q47) -> 8002396.5 | R49: =SUMIF($C$3:$C$47,"K",R3:R47) -> 0 | S49: =SUMIF($C$3:$C$47,"K",S3:S47) -> 0 | T49: =SUMIF($C$3:$C$47,"K",T3:T47) -> 0 | U49: =SUMIF($C$3:$C$47,"K",U3:U47) -> 0 | ... W49: =SUMIF($C$3:$C$47,"K",W3:W47) -> 0 | X49: =K49=SUM(N49:W49) -> TRUE | Y49: =ROUND(K49/J49,4) -> 0.5044 | Z49: x | AA49: =J49=K49+L49 -> TRUE
A50: nowe zadania jednoroczne | H50: =SUMIF($C$3:$C$47,"N",H3:H47) -> 31.532 | I50: x | J50: =SUMIF($C$3:$C$47,"N",J3:J47) -> 58984204 | K50: =SUMIF($C$3:$C$47,"N",K3:K47) -> 33654687 | L50: =SUMIF($C$3:$C$47,"N",L3:L47) -> 25329517 | M50: x | N50: =SUMIF($C$3:$C$47,"N",N3:N47) -> 0 | O50: =SUMIF($C$3:$C$47,"N",O3:O47) -> 33654687 | P50: =SUMIF($C$3:$C$47,"N",P3:P47) -> 0 | Q50: =SUMIF($C$3:$C$47,"N",Q3:Q47) -> 0 | R50: =SUMIF($C$3:$C$47,"N",R3:R47) -> 0 | S50: =SUMIF($C$3:$C$47,"N",S3:S47) -> 0 | T50: =SUMIF($C$3:$C$47,"N",T3:T47) -> 0 | U50: =SUMIF($C$3:$C$47,"N",U3:U47) -> 0 | ... W50: =SUMIF($C$3:$C$47,"N",W3:W47) -> 0 | X50: =K50=SUM(N50:W50) -> TRUE | Y50: =ROUND(K50/J50,4) -> 0.5706 | Z50: x | AA50: =J50=K50+L50 -> TRUE
A51: nowe zadania wieloletnie | H51: =SUMIF($C$3:$C$47,"W",H3:H47) -> 12.104 | I51: x | J51: =SUMIF($C$3:$C$47,"W",J3:J47) -> 68858578 | K51: =SUMIF($C$3:$C$47,"W",K3:K47) -> 35361667 | L51: =SUMIF($C$18:$C$47,"W",L18:L47) -> 33496911 | M51: x | N51: =SUMIF($C$3:$C$47,"W",N3:N47) -> 0 | O51: =SUMIF($C$3:$C$47,"W",O3:O47) -> 16315858 | P51: =SUMIF($C$3:$C$47,"W",P3:P47) -> 17524894 | Q51: =SUMIF($C$3:$C$47,"W",Q3:Q47) -> 1520915 | R51: =SUMIF($C$3:$C$47,"W",R3:R47) -> 0 | S51: =SUMIF($C$3:$C$47,"W",S3:S47) -> 0 | T51: =SUMIF($C$3:$C$47,"W",T3:T47) -> 0 | U51: =SUMIF($C$3:$C$47,"W",U3:U47) -> 0 | ... W51: =SUMIF($C$3:$C$47,"W",W3:W47) -> 0 | X51: =K51=SUM(N51:W51) -> TRUE | Y51: =ROUND(K51/J51,4) -> 0.5135 | Z51: x | AA51: =J51=K51+L51 -> TRUE
A53: B - budowa (rozbudowa), P - przebudowa, R - remont
A54: kolorem czerwonym oznaczono zadania wieloletnie
A55: N - nowe zadanie jednoroczne, K - kontynuowane zadanie wieloletnie z wcześniejszego naboru, W - nowe zadanie wieloletnie
A56: * Kwota dofinansowania zmniejszona do limitu dostępnych środków Funduszu Dróg Samorządowych w 2021 r.; zwiększenie dofinansowania możliwe w przypadku wystąpienia oszczędności. W przypadku braku oszczędności w Funduszu, realizacja zadania będzie wymagała zabezpieczenia wkładu własnego wnioskodawcy w większej wysokości.
A57: ** Kwota dofinansowania zmniejszona do limitu dostępnych środków Funduszu Dróg Samorządowych 2020 r; zwiększenie dofinansowania możliwe w przypadku wystąpienia oszczędności. W przypadku braku oszczędności w Funduszu, realizacja zadania będzie wymagała zabezpieczenia wkładu własnego wnioskodawcy w większej wysokości.

Sheet gm podst
A1: L.p. | B1: Nr ewid. | C1: Zadanie nowe/kontynuowane/wieloletnie [N/K/W] | D1: Jednostka Samorządu Terytorialnego | E1: TERC | F1: Powiat | G1: Nazwa zadania | H1: Rodzaj zadania | I1: Długość odcinka (w km) | J1: Okres realizacji zadania | K1: Ogółem wartość projektu (w zł) | L1: Wnioskowana kwota dofinansowania (w zł) | M1: Deklarowana kwota środków własnych (w zł) | N1: % dofinansowania | O1: Kwota dofinansowania w podziale na lata
O2: 2019 | P2: 2020 | Q2: 2021 | R2: 2022 | S2: 2023 | T2: 2024 | U2: 2025 | V2: 2026 | W2: 2027 | X2: 2028 | Y2: spr-lata | Z2: spr-procent | AA2: spr-dof | AB2: spr-montaż
A3: 1 | B3: 133/19 | C3: K | D3: GMINA MIKOŁÓW | E3: 2408021 | F3: mikołowski | G3: System transportu niskoemisyjnego - przebudowa węzła ulic Prusa - Miarki w kierunku Rybnicka, Wyzwolenia w Mikołowie | H3: P | I3: 0.442 | J3: październik 2019 - czerwiec 2021 | K3: 5710088.2 | L3: 2711714.5 | M3: 2998373.7 | N3: =L3/K3 -> 0.47489888 | O3: 200000 | P3: 592173 | Q3: 1919541.5 | Y3: =L3=SUM(O3:X3) -> TRUE | Z3: =ROUND(L3/K3,4) -> 0.4749 | AA3: =Z3=N3 -> FALSE | AB3: =K3=L3+M3 -> TRUE
A4: 2 | B4: 21/19 | C4: K | D4: GMINA MIEDŹNO | E4: 2406042 | F4: kłobucki | G4: Rozbudowa drogi gminnej nr 656026S ul. Dębowa, nr 656026S ul. Sosnowa, nr 656025S ul. Ogrodowa, nr 656025S ul. Polna w miejscowości Miedźno | H4: B | I4: 5.335 | J4: wrzesień 2019 - czerwiec 2022 | K4: 9676011.5 | L4: 6773208 | M4: 2902803.5 | N4: 0.7 | O4: 173907.3 | P4: 2001731.9 | Q4: 2579091.9 | R4: 2018476.9 | Y4: =L4=SUM(O4:X4) -> TRUE | Z4: =ROUND(L4/K4,4) -> 0.7 | AA4: =Z4=N4 -> TRUE | AB4: =K4=L4+M4 -> TRUE
A5: 3 | B5: 70/19 | C5: K | D5: GMINA RYDUŁTOWY | E5: 2415031 | F5: wodzisławski | G5: Rozbudowa ulicy Ofiar Terroru (460076S) wraz z przebudową ulicy Adama Mickiewicza (460001S) oraz przebudowa ulicy Świętego Jacka (460115S) w Rydułtowach | H5: BP | I5: 1.159 | J5: marzec 2019 - czerwiec 2021 | K5: 5186688.8 | L5: 2852678.8 | M5: 2334010 | N5: =L5/K5 -> 0.55 | O5: 397597.2 | P5: 1342064.4 | Q5: 1113017.3 | Y5: =L5=SUM(O5:X5) -> TRUE | Z5: =ROUND(L5/K5,4) -> 0.55 | AA5: =Z5=N5 -> FALSE | AB5: =K5=L5+M5 -> TRUE
A6: 4 | B6: 153/19 | C6: K | D6: GMINA GODÓW | E6: 2415052 | F6: wodzisławski | G6: Przebudowa dróg gminnych w jednym ciągu nr 605 019S, 605 023S ul. Graniczna i Poprzeczna w Gminie Godów (sołectwa Skrbeńsko i Gołkowice) o łącznej długości 1758 mb. | H6: P | I6: 1.758 | J6: październik 2019 - czerwiec 2022 | K6: 5760400 | L6: 4021779.3 | M6: 1738620.7 | N6: 0.7 | O6: 14000 | P6: 686000 | Q6: 3321779.3 | Y6: =L6=SUM(O6:X6) -> TRUE | Z6: =ROUND(L6/K6,4) -> 0.6982 | AA6: =Z6=N6 -> FALSE | AB6: =K6=L6+M6 -> TRUE
A7: 5 | B7: 91/19 | C7: K | D7: GMINA PORĄBKA | E7: 2402082 | F7: bielski | G7: Przebudowa drogi gminnej publicznej nr 594 273 S ul. Szkolna w Bujakowie wraz z budową chodnika dla pieszych - etap 2 w km od 0+241 do km 0+663 | H7: P | I7: 0.422 | J7: październik 2019 - listopad 2022 | K7: 1955714.4 | L7: 977857.22 | M7: 977857.23 | N7: 0.5 | O7: 28057.5 | P7: 50000 | Q7: 541038.5 | R7: 358761.22 | Y7: =L7=SUM(O7:X7) -> TRUE | Z7: =ROUND(L7/K7,4) -> 0.5 | AA7: =Z7=N7 -> TRUE | AB7: =K7=L7+M7 -> TRUE
A8: 6 | B8: 82/19 | C8: K | D8: GMINA ZAWIERCIE | E8: 2416021 | F8: zawierciański | G8: Przebudowa odcinka ulicy Polskiej od skrzyżowania z ulicą Łośnicką oraz remont kapitalny chodników na odcinku od skrzyżowania z ul. Przechodnią do skrzyżowania z ul. Sienkiewicza | H8: P | I8: 1.091 | J8: październik 2019 - listopad 2020 | K8: 3132226.3 | L8: 1566113 | M8: 1566113.3 | N8: =L8/K8 -> 0.49999996 | O8: 195000 | P8: 1371113 | Y8: =L8=SUM(O8:X8) -> TRUE | Z8: =ROUND(L8/K8,4) -> 0.5 | AA8: =Z8=N8 -> FALSE | AB8: =K8=L8+M8 -> TRUE
A9: 7 | B9: 179/19 | C9: K | D9: GMINA RACIBÓRZ | E9: 2411011 | F9: raciborski | G9: Przebudowa ul. Bojanowskiej - drogi publicznej nr 290 013 S na odcinku o długości 0,79 km oraz budowa nawierzchni drogi gminnej - ul. Chorwacka - etap I o długości projektowanej jezdni 0,53 km | H9: BP | I9: 1.317 | J9: czerwiec 2019 - październik 2021 | K9: 3400729.7 | L9: 1700364.8 | M9: 1700364.8 | N9: =L9/K9 -> 0.5 | O9: 150000 | P9: 1124143.3 | Q9: 426221.5 | Y9: =L9=SUM(O9:X9) -> TRUE | Z9: =ROUND(L9/K9,4) -> 0.5 | AA9: =Z9=N9 -> TRUE | AB9: =K9=L9+M9 -> TRUE
A10: 8 | B10: 90/19 | C10: K | D10: GMINA PORĄBKA | E10: 2402082 | F10: bielski | G10: Przebudowa odcinka drogi gminnej publicznej nr 594142S ul. Zielona w Czańcu od km 0+000 do km 0+946 | H10: P | I10: 0.946 | J10: październik 2019 - listopad 2021 | K10: 784092.93 | L10: 392046.46 | M10: 392046.47 | N10: 0.5 | O10: 25000 | P10: 268922 | Q10: 98124.46 | Y10: =L10=SUM(O10:X10) -> TRUE | Z10: =ROUND(L10/K10,4) -> 0.5 | AA10: =Z10=N10 -> TRUE | AB10: =K10=L10+M10 -> TRUE
A11: 9 | B11: 145/19 | C11: K | D11: MIASTO CZĘSTOCHOWA | E11: 2464011 | F11: Częstochowa | G11: Rozbudowa ul. Artyleryjskiej i ul. Kościelnej w Częstochowie na odcinku od ul. Matejki do przedłużenia ulicy Jagiellońskiej do ul. Kościelnej | H11: B | I11: 1.106 | J11: czerwiec 2019 - listopad 2020 | K11: 4367854.8 | L11: 2183927 | M11: 2183927.8 | N11: 0.5 | O11: 1675000 | P11: 508927 | Y11: =L11=SUM(O11:X11) -> TRUE | Z11: =ROUND(L11/K11,4) -> 0.5 | AA11: =Z11=N11 -> TRUE | AB11: =K11=L11+M11 -> TRUE
A12: 10 | B12: 80/19 | C12: K | D12: GMINA ZAWIERCIE | E12: 2416021 | F12: zawierciański | G12: Przebudowa jezdni wraz z chodnikiem ulicy Wyszyńskiego w Zawierciu - odcinek "A" od skrzyżowania z drogą powiatową ul. 3-go Maja km 0+000,00 do km 0+518,10 | H12: P | I12: 0.518 | J12: październik 2019 - listopad 2020 | K12: 642387.26 | L12: 321193 | M12: 321194.26 | N12: 0.5 | O12: 83565 | P12: 237628 | Y12: =L12=SUM(O12:X12) -> TRUE | Z12: =ROUND(L12/K12,4) -> 0.5 | AA12: =Z12=N12 -> TRUE | AB12: =K12=L12+M12 -> TRUE
A13: 11 | B13: 72/19 | C13: K | D13: GMINA MYSZKÓW | E13: 2409011 | F13: myszkowski | G13: Budowa drogi w ul. Klonowej i Sadowej wraz z kanalizacją deszczową i sanitarną oraz przebudowa oświetlenia ulicznego w Myszkowie na odcinku 1098 mb | H13: B | I13: 1.098 | J13: luty 2019 - październik 2020 | K13: 4393871.7 | L13: 2636323 | M13: 1757548.7 | N13: 0.6 | O13: 1993488.6 | P13: 642834.43 | Y13: =L13=SUM(O13:X13) -> TRUE | Z13: =ROUND(L13/K13,4) -> 0.6 | AA13: =Z13=N13 -> TRUE | AB13: =K13=L13+M13 -> TRUE
A14: 12 | B14: 79/19 | C14: K | D14: GMINA GORZYCE | E14: 2415062 | F14: wodzisławski | G14: Przebudowa drogi gminnej nr 510168S ulicy Wiejskiej w Bełsznicy na dł. 223 m. | H14: P | I14: 0.223 | J14: wrzesień 2019 - wrzesień 2020 | K14: 434571.07 | L14: 239014.08 | M14: 195556.99 | N14: 0.55 | O14: 88000 | P14: 151014.08 | Y14: =L14=SUM(O14:X14) -> TRUE | Z14: =ROUND(L14/K14,4) -> 0.55 | AA14: =Z14=N14 -> TRUE | AB14: =K14=L14+M14 -> TRUE
A15: 13 | B15: 167/19 | C15: K | D15: GMINA LYSKI | E15: 2412042 | F15: rybnicki | G15: Przebudowa drogi gminnej ulicy Jankowickiej w Zwonowicach | H15: P | I15: 0.82 | J15: październik 2019 - październik 2021 | K15: 2170941.1 | L15: 1194017 | M15: 976924.07 | N15: 0.55 | O15: 11000 | P15: 550000 | Q15: 633017 | Y15: =L15=SUM(O15:X15) -> TRUE | Z15: =ROUND(L15/K15,4) -> 0.55 | AA15: =Z15=N15 -> TRUE | AB15: =K15=L15+M15 -> TRUE
A16: 14 | B16: 47/19 | C16: K | D16: GMINA MIASTECZKO ŚLĄSKIE | E16: 2413021 | F16: tarnogórski | G16: Budowa ulicy Ceramicznej w Miasteczku Śląskim | H16: B | I16: 0.627 | J16: październik 2019 - czerwiec 2021 | K16: 1660061.7 | L16: 830030.86 | M16: 830030.86 | N16: 0.5 | O16: 1500 | P16: 292049.11 | Q16: 536481.75 | Y16: =L16=SUM(O16:X16) -> TRUE | Z16: =ROUND(L16/K16,4) -> 0.5 | AA16: =Z16=N16 -> TRUE | AB16: =K16=L16+M16 -> TRUE
A17: 15 | B17: 13/19 | C17: K | D17: GMINA SIEWIERZ | E17: 2401073 | F17: będziński | G17: Budowa drogi gminnej dojazdowej łączącej ul. Parkową z ul. Polną w Siewierzu | H17: B | I17: 0.179 | J17: wrzesień 2019 - październik 2020 | K17: 978231.23 | L17: 393971 | M17: 584260.23 | N17: 0.4 | O17: 25000 | P17: 368971 | Y17: =L17=SUM(O17:X17) -> TRUE | Z17: =ROUND(L17/K17,4) -> 0.4027 | AA17: =Z17=N17 -> FALSE | AB17: =K17=L17+M17 -> TRUE
A18: 16 | B18: 181/19 | C18: K | D18: MIASTO GLIWICE | E18: 2466011 | F18: Gliwice | G18: Budowa ul. Kozłowskiej w Gliwicach (od istniejącej ul. Kozłowskiej o nawierzchni asfaltobetonowej do cieku wodnego) | H18: B | I18: 0.46 | J18: październik 2019 - listopad 2020 | K18: 3993419.4 | L18: 1996709.7 | M18: 1996709.7 | N18: =L18/K18 -> 0.5 | O18: 500000 | P18: 1496709.7 | Y18: =L18=SUM(O18:X18) -> TRUE | Z18: =ROUND(L18/K18,4) -> 0.5 | AA18: =Z18=N18 -> FALSE | AB18: =K18=L18+M18 -> TRUE
A19: 17 | B19: 176/19 | C19: K | D19: GMINA CZECHOWICE-DZIEDZICE | E19: 2402043 | F19: bielski | G19: Przebudowa ul. Asnyka w Czechowicach-Dziedzicach | H19: P | I19: 0.54 | J19: sierpień 2019 - wrzesień 2020 | K19: 3219620.4 | L19: 2527804 | M19: 691816.4 | N19: 0.78512486 | O19: 531497.6 | P19: 1996306.4 | Y19: =L19=SUM(O19:X19) -> TRUE | Z19: =ROUND(L19/K19,4) -> 0.7851 | AA19: =Z19=N19 -> FALSE | AB19: =K19=L19+M19 -> TRUE
A20: 18 | B20: 298/19 | C20: N | D20: GMINA ZAWIERCIE | E20: 2416021 | F20: zawierciański | G20: Budowa drogi do Strefy Aktywności Gospodarczej w Zawierciu - Etap IV - odcinek od km. 4+983,50, rondo na skrzyżowaniu z DW 796 | H20: B | I20: 0.164 | J20: maj 2020 - kwiecień 2021 | K20: 2167493 | L20: 1083746.5 | M20: 1083746.5 | N20: 0.5 | O20: 0 | P20: 1083746.5 | Y20: =L20=SUM(O20:X20) -> TRUE | Z20: =ROUND(L20/K20,4) -> 0.5 | AA20: =Z20=N20 -> TRUE | AB20: =K20=L20+M20 -> TRUE
A21: 19 | B21: 338/19 | C21: N | D21: MIASTO SIEMIANOWICE ŚLĄSKIE | E21: 2474011 | F21: Siemienowice Śląskie | G21: Budowa drogi gminnej łączącej ul. Konopnickiej i ul. Matejki z ul. Stara Katowicka w Siemianowicach Śląskich | H21: B | I21: 0.404 | J21: lipiec 2020 - kwiecień 2021 | K21: 2589354.9 | L21: 1942016.1 | M21: 647338.72 | N21: =L21/K21 -> 0.75 | O21: 0 | P21: =L21 -> 1942016.1 | Y21: =L21=SUM(O21:X21) -> TRUE | Z21: =ROUND(L21/K21,4) -> 0.75 | AA21: =Z21=N21 -> FALSE | AB21: =K21=L21+M21 -> TRUE
A22: 20 | B22: 263/19 | C22: N | D22: GMINA WĘGIERSKA GÓRKA | E22: 2417152 | F22: żywiecki | G22: Przebudowa drogi gminnej nr 596054S w Węgierskiej Górce poprawiającej skomunikowanie dróg powiatowych | H22: P | I22: 1.289 | J22: czerwiec 2020 - grudzień 2020 | K22: 1277184.8 | L22: 766310.86 | M22: 510873.91 | N22: 0.6 | O22: 0 | P22: 766310.86 | Y22: =L22=SUM(O22:X22) -> TRUE | Z22: =ROUND(L22/K22,4) -> 0.6 | AA22: =Z22=N22 -> TRUE | AB22: =K22=L22+M22 -> TRUE
A23: 21 | B23: 259/19 | C23: W | D23: GMINA TARNOWSKIE GÓRY | E23: 2413041 | F23: tarnogórski | G23: Rozbudowa ulic Sobieskiego i Opolskiej w Tarnowskich Górach | H23: B | I23: 0.614 | J23: czerwiec 2020 - listopad 2021 | K23: 4775987.6 | L23: 2387993.8 | M23: 2387993.8 | N23: 0.5 | O23: 0 | P23: 220090.87 | Q23: 2167903 | Y23: =L23=SUM(O23:X23) -> TRUE | Z23: =ROUND(L23/K23,4) -> 0.5 | AA23: =Z23=N23 -> TRUE | AB23: =K23=L23+M23 -> TRUE
A24: 22 | B24: 246/19 | C24: W | D24: GMINA PSZÓW | E24: 2415011 | F24: wodzisławski | G24: Remont ulicy Żużlowej w Pszowie | H24: R | I24: 1.332 | J24: styczeń 2020 - grudzień 2022 | K24: 1312088.7 | L24: 852857.68 | M24: 459231.06 | N24: =L24/K24 -> 0.65 | O24: 0 | P24: 297556.31 | Q24: 278915.17 | R24: 276386.2 | Y24: =L24=SUM(O24:X24) -> TRUE | Z24: =ROUND(L24/K24,4) -> 0.65 | AA24: =Z24=N24 -> FALSE | AB24: =K24=L24+M24 -> TRUE
A25: 23 | B25: 304/19 | C25: N | D25: GMINA PANKI | E25: 2406062 | F25: kłobucki | G25: Budowa drogi nr 693 016S w Praszczykach w Gminie Panki wraz z budową oświetlenia | H25: B | I25: 0.41 | J25: styczeń 2020 - listopad 2020 | K25: 594000 | L25: 297000 | M25: 297000 | N25: 0.5 | O25: 0 | P25: 297000 | Y25: =L25=SUM(O25:X25) -> TRUE | Z25: =ROUND(L25/K25,4) -> 0.5 | AA25: =Z25=N25 -> TRUE | AB25: =K25=L25+M25 -> TRUE
A26: 24 | B26: 323/19 | C26: N | D26: GMINA KRZEPICE | E26: 2406023 | F26: kłobucki | G26: Budowa dróg gminnych nr 639025S ul. Prusa i nr 639021S ul. Orzeszkowej w Krzepicach | H26: B | I26: 0.33 | J26: lipiec 2020 - czerwiec 2021 | K26: 452812.83 | L26: 316968.98 | M26: 135843.85 | N26: =L26/K26 -> 0.7 | O26: 0 | P26: 316968.98 | Y26: =L26=SUM(O26:X26) -> TRUE | Z26: =ROUND(L26/K26,4) -> 0.7 | AA26: =Z26=N26 -> FALSE | AB26: =K26=L26+M26 -> TRUE
A27: 25 | B27: 215/19 | C27: N | D27: GMINA PRZYSTAJŃ | E27: 2406082 | F27: kłobucki | G27: Przebudowa drogi gminnej nr 678 002 S w miejscowości Kuźnica Stara | H27: P | I27: 1.182 | J27: czerwiec 2020 - sierpień 2021 | K27: =L27+M27 -> 1370521.5 | L27: 685260 | M27: 685261.52 | N27: 0.5 | O27: 0 | P27: 685260 | Y27: =L27=SUM(O27:X27) -> TRUE | Z27: =ROUND(L27/K27,4) -> 0.5 | AA27: =Z27=N27 -> TRUE | AB27: =K27=L27+M27 -> TRUE
A28: 26 | B28: 244/19 | C28: N | D28: GMINA ŁODYGOWICE | E28: 2417082 | F28: żywiecki | G28: Remont ul. Turystycznej w Biernej i Zarzeczu (Gmina Łodygowice) | H28: R | I28: 1.19 | J28: marzec 2020 - wrzesień 2020 | K28: 676053.88 | L28: 405632.32 | M28: 270421.56 | N28: 0.6 | O28: 0 | P28: 405632.32 | Y28: =L28=SUM(O28:X28) -> TRUE | Z28: =ROUND(L28/K28,4) -> 0.6 | AA28: =Z28=N28 -> TRUE | AB28: =K28=L28+M28 -> TRUE
A29: 27 | B29: 292/19 | C29: N | D29: MIASTO BYTOM | E29: 2462011 | F29: Bytom | G29: Przebudowa ulicy Narutowicza w Bytomiu | H29: P | I29: 0.7 | J29: lipiec 2020 - listopad 2020 | K29: =L29+M29 -> 1029507.3 | L29: 772130 | M29: 257377.33 | N29: =L29/K29 -> 0.74999952 | P29: =L29 -> 772130 | Y29: =L29=SUM(O29:X29) -> TRUE | Z29: =ROUND(L29/K29,4) -> 0.75 | AA29: =Z29=N29 -> FALSE | AB29: =K29=L29+M29 -> TRUE
A30: 28 | B30: 327/19 | C30: N | D30: GMINA SKOCZÓW | E30: 2403103 | F30: cieszyński | G30: Remont drogi gminnej ul. Żebroka w Skoczowie | H30: R | I30: 0.521 | J30: czerwiec 2020 - maj 2021 | K30: =SUM(L30:M30) -> 1053961.4 | L30: 790471.02 | M30: 263490.34 | N30: =L30/K30 -> 0.75 | P30: 790471.02 | Y30: =L30=SUM(O30:X30) -> TRUE | Z30: =ROUND(L30/K30,4) -> 0.75 | AA30: =Z30=N30 -> TRUE | AB30: =K30=L30+M30 -> TRUE
A31: 29 | B31: 233/19 | C31: N | D31: GMINA BORONÓW | E31: 2407022 | F31: lubliniecki | G31: Budowa i odwodnienie ulicy Wiśniowej | H31: B | I31: 0.326 | J31: luty 2020 - październik 2020 | K31: 535608.33 | L31: 267804.16 | M31: 267804.17 | N31: 0.5 | O31: 0 | P31: 267804.16 | Y31: =L31=SUM(O31:X31) -> TRUE | Z31: =ROUND(L31/K31,4) -> 0.5 | AA31: =Z31=N31 -> TRUE | AB31: =K31=L31+M31 -> TRUE
A32: 30 | B32: 260/19 | C32: W | D32: GMINA MSZANA | E32: 2415092 | F32: wodzisławski | G32: Przebudowa dróg gminnych ul. Ks.Tuskera (nr 663003S) i ul. Mickiewicza (nr 663001S) w miejscowości Mszana wraz z przebudową skrzyżowania z drogą powiatową 5021S - ul. 1 Maja | H32: P | I32: 0.651 | J32: kwiecień 2020 - grudzień 2021 | K32: 3102041 | L32: =P32+Q32 -> 1551020.5 | M32: =K32-L32 -> 1551020.5 | N32: 0.5 | O32: 0 | P32: 551020.5 | Q32: 1000000 | Y32: =L32=SUM(O32:X32) -> TRUE | Z32: =ROUND(L32/K32,4) -> 0.5 | AA32: =Z32=N32 -> TRUE | AB32: =K32=L32+M32 -> TRUE
A33: 31 | B33: 253/19 | C33: N | D33: GMINA HAŻLACH | E33: 2403082 | F33: cieszyński | G33: Przebudowa dróg gminnych - ulic Truskawkowej, Miodowej i Prostej w Kończycach Wielkich | H33: P | I33: 0.617 | J33: październik 2020 - wrzesień 2021 | K33: 1277626 | L33: =ROUND(K33*N33,2) -> 702694.3 | M33: =K33-L33 -> 574931.7 | N33: 0.55 | O33: 0 | P33: 702694.3 | Y33: =L33=SUM(O33:X33) -> TRUE | Z33: =ROUND(L33/K33,4) -> 0.55 | AA33: =Z33=N33 -> TRUE | AB33: =K33=L33+M33 -> TRUE
A34: 32 | B34: 314/19 | C34: N | D34: GMINA BIERUŃ | E34: 2414011 | F34: bieruńsko-lędziński | G34: Budowa bocznych dróg ul. Barańcowej w Bieruniu - ul. Stanisława Ligonia i ul. Józefa Lompy | H34: B | I34: 0.659 | J34: wrzesień 2020 - sierpień 2021 | K34: 1166572.9 | L34: 583286.42 | M34: =K34-L34 -> 583286.43 | N34: 0.5 | O34: 0 | P34: 583286.42 | Y34: =L34=SUM(O34:X34) -> TRUE | Z34: =ROUND(L34/K34,4) -> 0.5 | AA34: =Z34=N34 -> TRUE | AB34: =K34=L34+M34 -> TRUE
A35: 33 | B35: 265/19 | C35: N | D35: GMINA GORZYCE | E35: 2415062 | F35: wodzisławski | G35: Przebudowa drogi gminnej ul. Bełsznickiej w Czyżowicach | H35: P | I35: 0.661 | J35: luty 2020 - październik 2020 | K35: 1151232.8 | L35: 633178.03 | M35: 518054.76 | N35: 0.55 | O35: 0 | P35: 633178.03 | Y35: =L35=SUM(O35:X35) -> TRUE | Z35: =ROUND(L35/K35,4) -> 0.55 | AA35: =Z35=N35 -> TRUE | AB35: =K35=L35+M35 -> TRUE
A36: 34 | B36: 211/19 | C36: N | D36: GMINA KOCHANOWICE | E36: 2407052 | F36: lubliniecki | G36: Przebudowa ul. Słonecznej w Kochanowicach | H36: P | I36: 0.603 | J36: styczeń 2020 - czerwiec 2020 | K36: =L36+M36 -> 857436.55 | L36: 514461.93 | M36: 342974.62 | N36: =L36/K36 -> 0.6 | O36: 0 | P36: =L36 -> 514461.93 | Y36: =L36=SUM(O36:X36) -> TRUE | Z36: =ROUND(L36/K36,4) -> 0.6 | AA36: =Z36=N36 -> TRUE | AB36: =K36=L36+M36 -> TRUE
A37: 35 | B37: 291/19 | C37: N | D37: MIASTO BYTOM | E37: 2462011 | F37: Bytom | G37: Przebudowa drogi do budynków 105 a, b, e przy ul. Siemianowickiej | H37: P | I37: 0.135 | J37: lipiec 2020 - listopad 2020 | K37: 498992.49 | L37: 374244.3 | M37: 124748.19 | N37: =L37/K37 -> 0.74999986 | O37: 0 | P37: =L37 -> 374244.3 | Y37: =L37=SUM(O37:X37) -> TRUE | Z37: =ROUND(L37/K37,4) -> 0.75 | AA37: =Z37=N37 -> FALSE | AB37: =K37=L37+M37 -> TRUE
A38: 36 | B38: 339/19 | C38: N | D38: GMINA KONIECPOL | E38: 2404063 | F38: częstochowski | G38: Przebudowa ulicy Wąskiej w Koniecpolu | H38: P | I38: 0.645 | J38: kwiecień 2020 - wrzesień 2020 | K38: =L38+M38 -> 824419.25 | L38: 618314.43 | M38: 206104.82 | N38: 0.75 | O38: 0 | P38: 618314.43 | Y38: =L38=SUM(O38:X38) -> TRUE | Z38: =ROUND(L38/K38,4) -> 0.75 | AA38: =Z38=N38 -> TRUE | AB38: =K38=L38+M38 -> TRUE
A39: 37 | B39: 318/19 | C39: N | D39: GMINA MSTÓW | E39: 2404102 | F39: częstochowski | G39: Przebudowa drogi w ulicy Ośmiu Błogosławieństw w miejscowości Siedlec, Gmina Mstów | H39: P | I39: 0.364 | J39: styczeń 2020 - listopad 2020 | K39: 675875 | L39: 371731.25 | M39: 304143.75 | N39: =L39/K39 -> 0.55 | O39: 0 | P39: 371731.25 | Y39: =L39=SUM(O39:X39) -> TRUE | Z39: =ROUND(L39/K39,4) -> 0.55 | AA39: =Z39=N39 -> TRUE | AB39: =K39=L39+M39 -> TRUE
A40: 38 | B40: 229/19 | C40: N | D40: GMINA OPATÓW | E40: 2406052 | F40: kłobucki | G40: Przebudowa odcinka drogi gminnej nr 664 001S - ul. Szkolna w miejscowości Waleńczów, gmina Opatów | H40: P | I40: 0.41 | J40: lipiec 2020 - październik 2020 | K40: =L40+M40 -> 199023.87 | L40: 139316.7 | M40: 59707.17 | N40: =L40/K40 -> 0.69999995 | O40: 0 | P40: =L40 -> 139316.7 | Y40: =L40=SUM(O40:X40) -> TRUE | Z40: =ROUND(L40/K40,4) -> 0.7 | AA40: =Z40=N40 -> FALSE | AB40: =K40=L40+M40 -> TRUE
A41: 39 | B41: 261/19 | C41: N | D41: GMINA RADZIONKÓW | E41: 2413031 | F41: tarnogórski | G41: Przebudowa ul. Gajdasa w Radzionkowie | H41: P | I41: 0.48 | J41: styczeń 2020 - listopad 2020 | K41: 970000 | L41: =ROUND(K41*N41,2) -> 485000 | M41: =K41-L41 -> 485000 | N41: 0.5 | O41: 0 | P41: 485000 | Y41: =L41=SUM(O41:X41) -> TRUE | Z41: =ROUND(L41/K41,4) -> 0.5 | AA41: =Z41=N41 -> TRUE | AB41: =K41=L41+M41 -> TRUE
A42: 40 | B42: 295/19 | C42: W | D42: GMINA KNURÓW | E42: 2405011 | F42: gliwicki | G42: Przebudowa ul. Aleja Lipowa w Knurowie - I Etap | H42: P | I42: 0.714 | J42: kwiecień 2020 - lipiec 2021 | K42: 4411451.8 | L42: 2205725.9 | M42: 2205725.9 | N42: 0.5 | O42: 0 | P42: 2105725.9 | Q42: 100000 | Y42: =L42=SUM(O42:X42) -> TRUE | Z42: =ROUND(L42/K42,4) -> 0.5 | AA42: =Z42=N42 -> TRUE | AB42: =K42=L42+M42 -> TRUE
A43: 41 | B43: 247/19 | C43: N | D43: GMINA WIELOWIEŚ | E43: 2405082 | F43: gliwicki | G43: Przebudowa drogi gminnej nr 673 021 S- ul. Parkowa w miejscowości Świbie | H43: P | I43: 0.376 | J43: lipiec 2020 - listopad 2020 | K43: 209894.12 | L43: 104947.06 | M43: 104947.06 | N43: 0.5 | O43: 0 | P43: 104947.06 | Y43: =L43=SUM(O43:X43) -> TRUE | Z43: =ROUND(L43/K43,4) -> 0.5 | AA43: =Z43=N43 -> TRUE | AB43: =K43=L43+M43 -> TRUE
A44: 42 | B44: 256/19 | C44: W | D44: GMINA RACIBÓRZ | E44: 2411011 | F44: raciborski | G44: Przebudowa ul. Czarnieckiego na odcinku projektowanej jezdni o długości 189 mb oraz przebudowa drogi - łącznik ul. Anny i Starowiejskiej na odcinku projektowanej jezdni o długości 303 mb | H44: P | I44: 0.492 | J44: maj 2020 - październik 2021 | K44: =L44+M44 -> 1268529.3 | L44: =P44+Q44 -> 634264 | M44: 634265.3 | N44: =L44/K44 -> 0.49999949 | O44: 0 | P44: 611418 | Q44: 22846 | Y44: =L44=SUM(O44:X44) -> TRUE | Z44: =ROUND(L44/K44,4) -> 0.5 | AA44: =Z44=N44 -> FALSE | AB44: =K44=L44+M44 -> TRUE
A45: 43 | B45: 303/19 | C45: N | D45: GMINA JANÓW | E45: 2404032 | F45: częstochowski | G45: Przebudowa drogi gminnej nr DG 677007S Hucisko-gmina Janów | H45: P | I45: 0.657 | J45: czerwiec 2020 - grudzień 2020 | K45: =284554.29+189702.86 -> 474257.15 | L45: =ROUND(K45*N45,2) -> 284554.29 | M45: =K45-L45 -> 189702.86 | N45: 0.6 | O45: 0 | P45: 284554.29 | Y45: =L45=SUM(O45:X45) -> TRUE | Z45: =ROUND(L45/K45,4) -> 0.6 | AA45: =Z45=N45 -> TRUE | AB45: =K45=L45+M45 -> TRUE
A46: 44 | B46: 208/19 | C46: W | D46: GMINA BUCZKOWICE | E46: 2402032 | F46: bielski | G46: Budowa mostu w ul. Topolowej z przylegającym odcinkiem drogi w Rybarzowicach oraz przebudowa ul. Rybarskiej w Godziszce i w Rybarzowicach | H46: P | I46: 0.587 | J46: czerwiec 2020 - październik 2021 | K46: =L46+M46 -> 2470592.9 | L46: 1358826.1 | M46: 1111766.8 | N46: 0.55 | O46: 0 | P46: 340000 | Q46: 1018826.1 | Y46: =L46=SUM(O46:X46) -> TRUE | Z46: =ROUND(L46/K46,4) -> 0.55 | AA46: =Z46=N46 -> TRUE | AB46: =K46=L46+M46 -> TRUE
A47: 45 | B47: 334/19 | C47: N | D47: GMINA BOBROWNIKI | E47: 2401042 | F47: będziński | G47: Przebudowa drogi na ul. Słonecznej w Sączowie | H47: P | I47: 0.475 | J47: kwiecień 2020 - listopad 2020 | K47: 267442.58 | L47: 200581.93 | M47: 66860.65 | N47: 0.75 | O47: 0 | P47: 200581.93 | Y47: =L47=SUM(O47:X47) -> TRUE | Z47: =ROUND(L47/K47,4) -> 0.75 | AA47: =Z47=N47 -> TRUE | AB47: =K47=L47+M47 -> TRUE
A48: 46 | B48: 241/19 | C48: N | D48: GMINA PILCHOWICE | E48: 2405042 | F48: gliwicki | G48: Przebudowa drogi gminnej ul. Wysokiej w Wilczy | H48: P | I48: 1.241 | J48: czerwiec 2020 - listopad 2020 | K48: 1114605.6 | L48: 835954.21 | M48: 278651.41 | N48: 0.75 | O48: 0 | P48: 835954.21 | Y48: =L48=SUM(O48:X48) -> TRUE | Z48: =ROUND(L48/K48,4) -> 0.75 | AA48: =Z48=N48 -> TRUE | AB48: =K48=L48+M48 -> TRUE
A49: 47 | B49: 201/19 | C49: N | D49: GMINA STRUMIEŃ | E49: 2403113 | F49: cieszyński | G49: Przebudowa drogi gminnej nr 611026S ulicy Zielonej w Strumieniu | H49: P | I49: 0.18 | J49: luty 2020 - październik 2020 | K49: 396767.34 | L49: 218222.03 | M49: 178545.31 | N49: =L49/K49 -> 0.54999998 | O49: 0 | P49: 218222.03 | Y49: =L49=SUM(O49:X49) -> TRUE | Z49: =ROUND(L49/K49,4) -> 0.55 | AA49: =Z49=N49 -> FALSE | AB49: =K49=L49+M49 -> TRUE
A50: 48 | B50: 282/19 | C50: N | D50: GMINA RADZIECHOWY-WIEPRZ | E50: 2417102 | F50: żywiecki | G50: Przebudowa drogi na Prawy Groń w miejscowości Brzuśnik, dz. nr 695 | H50: P | I50: 0.32 | J50: lipiec 2020 - październik 2020 | K50: 203156 | L50: =ROUND(K50*N50,2) -> 132051.4 | M50: =K50-L50 -> 71104.6 | N50: 0.65 | O50: 0 | P50: 132051.4 | Y50: =L50=SUM(O50:X50) -> TRUE | Z50: =ROUND(L50/K50,4) -> 0.65 | AA50: =Z50=N50 -> TRUE | AB50: =K50=L50+M50 -> TRUE
A51: 49 | B51: 299/19 | C51: N | D51: GMINA ZAWIERCIE | E51: 2416021 | F51: zawierciański | G51: Przebudowa ulicy gminnej Technologicznej w zakresie budowy chodnika i poszerzenia jezdni drogowej wraz z przebudową odwodnienia i przepustu oraz przebudową sieci oświetleniowej, wodociągowej i teletechnicznej oraz Remont kapitalny chodnika w ulicy Kresowej w Zawierciu (chodnik po stronie budynków z numerami nieparzystymi) odcinek od ul. Miodowej do ul. Uskok | H51: P | I51: 0.81 | J51: maj 2020 - kwiecień 2021 | K51: 952073.85 | L51: 476036.92 | M51: 476036.93 | N51: 0.5 | O51: 0 | P51: 476036.92 | Y51: =L51=SUM(O51:X51) -> TRUE | Z51: =ROUND(L51/K51,4) -> 0.5 | AA51: =Z51=N51 -> TRUE | AB51: =K51=L51+M51 -> TRUE
A52: 50 | B52: 272/19 | C52: N | D52: GMINA BOBROWNIKI | E52: 2401042 | F52: będziński | G52: Budowa drogi z odwodnieniem w kompleksie mieszkaniowym przy ulicy Bażantów w Bobrownikach | H52: B | I52: 0.38 | J52: czerwiec 2020 - listopad 2020 | K52: =SUM(L52:M52) -> 569259.83 | L52: 284629.91 | M52: 284629.92 | N52: 0.5 | O52: 0 | P52: 284629.91 | Y52: =L52=SUM(O52:X52) -> TRUE | Z52: =ROUND(L52/K52,4) -> 0.5 | AA52: =Z52=N52 -> TRUE | AB52: =K52=L52+M52 -> TRUE
A53: 51 | B53: 315/19 | C53: N | D53: GMINA BIERUŃ | E53: 2414011 | F53: bieruńsko-lędziński | G53: Przebudowa drogi wewnętrznej ul. Węglowej w miejscowości Bieruń | H53: P | I53: 0.405 | J53: wrzesień 2020 - sierpień 2021 | K53: 944242.53 | L53: 472121.26 | M53: 472121.27 | N53: 0.5 | O53: 0 | P53: 472121.26 | Y53: =L53=SUM(O53:X53) -> TRUE | Z53: =ROUND(L53/K53,4) -> 0.5 | AA53: =Z53=N53 -> TRUE | AB53: =K53=L53+M53 -> TRUE
A54: 52 | B54: 335/19 | C54: N | D54: GMINA NIEGOWA | E54: 2409032 | F54: myszkowski | G54: Rozbudowa odcinka drogi gminnej nr 680037S ul. Ogrodowa z oświetleniem ulicznym i drogi gminnej nr 680036S ul. Topolowa wraz z zatoką postojową i autobusową z oświetleniem ulicznym w miejscowości Niegowa | H54: B | I54: 0.39 | J54: marzec 2020 - październik 2020 | K54: 573667.01 | L54: 315516.86 | M54: 258150.15 | N54: 0.55 | O54: 0 | P54: 315516.86 | Y54: =L54=SUM(O54:X54) -> TRUE | Z54: =ROUND(L54/K54,4) -> 0.55 | AA54: =Z54=N54 -> TRUE | AB54: =K54=L54+M54 -> TRUE
A55: 53 | B55: 213/19 | C55: N | D55: GMINA MIEDŹNO | E55: 2406042 | F55: kłobucki | G55: Rozbudowa drogi gminnej nr 656010S - ul. Gen. Juliana Filipowicza w miejscowości Miedźno, gm. Miedźno | H55: B | I55: 0.438 | J55: kwiecień 2020 - październik 2020 | K55: 741116.82 | L55: 407614.25 | M55: =K55-L55 -> 333502.57 | N55: 0.55 | O55: 0 | P55: =L55 -> 407614.25 | Y55: =L55=SUM(O55:X55) -> TRUE | Z55: =ROUND(L55/K55,4) -> 0.55 | AA55: =Z55=N55 -> TRUE | AB55: =K55=L55+M55 -> TRUE
A56: 54 | B56: 216/19 | C56: N | D56: GMINA PRZYSTAJŃ | E56: 2406082 | F56: kłobucki | G56: Przebudowa drogi gminnej nr 678 045 S w miejscowości Kamińsko | H56: P | I56: 0.514 | J56: czerwiec 2020 - październik 2020 | K56: =L56+M56 -> 319564.52 | L56: 159782 | M56: 159782.52 | N56: 0.5 | O56: 0 | P56: 159782 | Y56: =L56=SUM(O56:X56) -> TRUE | Z56: =ROUND(L56/K56,4) -> 0.5 | AA56: =Z56=N56 -> TRUE | AB56: =K56=L56+M56 -> TRUE
A57: 55 | B57: 230/19 | C57: N | D57: GMINA OPATÓW | E57: 2406052 | F57: kłobucki | G57: Przebudowa odcinka drogi gminnej nr 664 012S - ul. Nadrzeczna w miejscowości Opatów, gmina Opatów | H57: P | I57: 0.335 | J57: lipiec 2020 -październik 2020 | K57: 189507.44 | L57: 132655.2 | M57: =K57-L57 -> 56852.24 | N57: 0.7 | O57: 0 | P57: 132655.2 | Y57: =L57=SUM(O57:X57) -> TRUE | Z57: =ROUND(L57/K57,4) -> 0.7 | AA57: =Z57=N57 -> TRUE | AB57: =K57=L57+M57 -> TRUE
A58: 56 | B58: 235/19 | D58: GMINA HERBY (rezygnacja beneficjenta z realizacji zadania) | E58: 2407042 | F58: lubliniecki | G58: Przebudowa ul. Sportowej w Lisowie | H58: P | Y58: =L58=SUM(O58:X58) -> TRUE | Z58: =ROUND(L58/K58,4) -> #DIV/0! | AA58: =Z58=N58 -> #DIV/0! | AB58: =K58=L58+M58 -> TRUE
A59: 57 | B59: 203/19 | D59: GMINA RĘDZINY (rezygnacja beneficjenta z realizacji zadania) | E59: 2404152 | F59: częstochowski | G59: Przebudowa i budowa drogi gminnej w Rudnikach ul. Wodnica - 638039 S | H59: P | Y59: =L59=SUM(O59:X59) -> TRUE | Z59: =ROUND(L59/K59,4) -> #DIV/0! | AA59: =Z59=N59 -> #DIV/0! | AB59: =K59=L59+M59 -> TRUE
A60: 58 | B60: 305/19 | C60: N | D60: GMINA PANKI | E60: 2406062 | F60: kłobucki | G60: Przebudowa drogi nr 693 023S - ul. Dworcowa w Pankach | H60: P | I60: 1.405 | J60: styczeń 2020 - listopada 2020 | K60: 2515500 | L60: 1257750 | M60: 1257750 | N60: 0.5 | O60: 0 | P60: 1257750 | Y60: =L60=SUM(O60:X60) -> TRUE | Z60: =ROUND(L60/K60,4) -> 0.5 | AA60: =Z60=N60 -> TRUE | AB60: =K60=L60+M60 -> TRUE
A61: 59 | B61: 312/19 | C61: N | D61: GMINA ŚWIERKLANY | E61: 2412052 | F61: rybnicki | G61: Przebudowa ul. Rybnickiej w Jankowicach | H61: P | I61: 0.408 | J61: maj 2020 - kwiecień 2021 | K61: 426458.15 | L61: 213229.07 | M61: 213229.08 | N61: =L61/K61 -> 0.49999999 | O61: 0 | P61: =L61 -> 213229.07 | Y61: =L61=SUM(O61:X61) -> TRUE | Z61: =ROUND(L61/K61,4) -> 0.5 | AA61: =Z61=N61 -> FALSE | AB61: =K61=L61+M61 -> TRUE
A62: 60 | B62: 311/19 | C62: N | D62: MIASTO MYSŁOWICE | E62: 2470011 | F62: Mysłowice | G62: Przebudowa ulicy Okrzei w Mysłowicach | H62: P | I62: 0.341 | J62: sierpień 2020 - lipiec 2021 | K62: =L62+M62 -> 1649681.1 | L62: 1237260.4 | M62: 412420.77 | N62: =L62/K62 -> 0.74999971 | O62: 0 | P62: =L62 -> 1237260.4 | Y62: =L62=SUM(O62:X62) -> TRUE | Z62: =ROUND(L62/K62,4) -> 0.75 | AA62: =Z62=N62 -> FALSE | AB62: =K62=L62+M62 -> TRUE
A63: 61 | B63: 337/19 | C63: N | D63: GMINA WOJKOWICE | E63: 2401031 | F63: będziński | G63: Przebudowa ul. Brzeziny (drogi gminnej 634001S) w Wojkowicach, przebudowa zjazdów, budowa chodnika i kanalizacji deszczowej | H63: P | I63: 0.694 | J63: marzec 2020 - październik 2020 | K63: 1961185 | L63: 980592.51 | M63: =K63-L63 -> 980592.52 | N63: =L63/K63 -> 0.5 | O63: 0 | P63: 980592.51 | Y63: =L63=SUM(O63:X63) -> TRUE | Z63: =ROUND(L63/K63,4) -> 0.5 | AA63: =Z63=N63 -> FALSE | AB63: =K63=L63+M63 -> TRUE
A64: 62 | B64: 296/19 | C64: N | D64: GMINA ORZESZE | E64: 2408031 | F64: mikołowski | G64: Przebudowa ul. Orzeszkowej w Orzeszu-Woszczycach | H64: P | I64: 0.21 | J64: lipiec 2020 - wrzesień 2020 | K64: =L64+M64 -> 154126.76 | L64: 77062 | M64: 77064.76 | N64: =L64/K64 -> 0.49999105 | O64: 0 | P64: 77062 | Y64: =L64=SUM(O64:X64) -> TRUE | Z64: =ROUND(L64/K64,4) -> 0.5 | AA64: =Z64=N64 -> FALSE | AB64: =K64=L64+M64 -> TRUE
A65: 63 | B65: 325/19 | C65: N | D65: GMINA POCZESNA | E65: 2404132 | F65: częstochowski | G65: Przebudowa drogi gminnej ulicy Jodłowej w Brzezinach Kolonii, gm. Poczesna | H65: P | I65: 0.396 | J65: maj 2020 - listopad 2020 | K65: =L65+M65 -> 129604.8 | L65: 64802.4 | M65: 64802.4 | N65: 0.5 | O65: 0 | P65: 64802.4 | Y65: =L65=SUM(O65:X65) -> TRUE | Z65: =ROUND(L65/K65,4) -> 0.5 | AA65: =Z65=N65 -> TRUE | AB65: =K65=L65+M65 -> TRUE
A66: 64 | B66: 281/19 | C66: N | D66: GMINA OGRODZIENIEC | E66: 2416063 | F66: zawierciański | G66: Przebudowa dróg gminnych Mostowa, Kopernika, Szkolna w Ogrodzieńcu w celu poprawy dostępności do centrum administracyjno-kulturalno-oświatowego | H66: P | I66: 0.727 | J66: czerwiec 2020 -listopad 2020 | K66: =L66+M66 -> 1406199.5 | L66: 1054649.6 | M66: 351549.88 | N66: =L66/K66 -> 0.75 | O66: 0 | P66: =L66 -> 1054649.6 | Y66: =L66=SUM(O66:X66) -> TRUE | Z66: =ROUND(L66/K66,4) -> 0.75 | AA66: =Z66=N66 -> FALSE | AB66: =K66=L66+M66 -> TRUE
A67: 65 | B67: 234/19 | C67: N | D67: GMINA LUBLINIEC | E67: 2407011 | F67: lubliniecki | G67: Przebudowa drogi gminnej ul. Kochanowskiego nr 440 049 S w Lublińcu | H67: P | I67: 1.356 | J67: lipiec 2020 - listopad 2021 | K67: =L67+M67 -> 3175368 | L67: 1587683 | M67: 1587684.9 | N67: =L67/K67 -> 0.49999969 | O67: 0 | P67: 1587683 | Y67: =L67=SUM(O67:X67) -> TRUE | Z67: =ROUND(L67/K67,4) -> 0.5 | AA67: =Z67=N67 -> FALSE | AB67: =K67=L67+M67 -> TRUE
A68: 66 | B68: 279/19 | C68: W | D68: GMINA KŁOBUCK | E68: 2406013 | F68: kłobucki | G68: Przebudowa odcinka drogi gminnej nr 470 128S w miejscowościach Biała i Kopiec - II etap | H68: P | I68: 1.785 | J68: lipiec 2020 - październik 2021 | K68: 3448536.3 | L68: 1724268.2 | M68: 1724268.2 | N68: 0.5 | O68: 0 | P68: 844057.5 | Q68: 880210.66 | Y68: =L68=SUM(O68:X68) -> TRUE | Z68: =ROUND(L68/K68,4) -> 0.5 | AA68: =Z68=N68 -> TRUE | AB68: =K68=L68+M68 -> TRUE
A69: 67 | B69: 302/19 | C69: N | D69: MIASTO ŻORY | E69: 2479011 | F69: Żory | G69: Przebudowa drogi ul. Okrężnej w Żorach | H69: P | I69: 2.788 | J69: czerwiec 2020 - czerwiec 2021 | K69: =2496604.68+832201.57 -> 3328806.2 | L69: 2496604.7 | M69: 832201.57 | N69: 0.75 | O69: 0 | P69: 2496604.7 | Y69: =L69=SUM(O69:X69) -> TRUE | Z69: =ROUND(L69/K69,4) -> 0.75 | AA69: =Z69=N69 -> TRUE | AB69: =K69=L69+M69 -> TRUE
A70: 68 | B70: 269/19 | C70: N | D70: GMINA ISTEBNA | E70: 2403092 | F70: cieszyński | G70: Rozbudowa drogi wewnętrznej Zaolzie w Istebnej - etap 2 | H70: B | I70: 0.848 | J70: sierpień 2020 - lipiec 2021 | K70: =SUM(L70+M70) -> 7201230.2 | L70: 5400922.7 | M70: 1800307.6 | N70: 0.75 | O70: 0 | P70: 5400922.7 | Y70: =L70=SUM(O70:X70) -> TRUE | Z70: =ROUND(L70/K70,4) -> 0.75 | AA70: =Z70=N70 -> TRUE | AB70: =K70=L70+M70 -> TRUE
A71: 69 | B71: 277/19 | C71: W | D71: MIASTO ZABRZE | E71: 2478011 | F71: Zabrze | G71: Budowa drogi publicznej gminnej na południe od ul. Handlowej wraz ze ścieżką rowerową, chodnikiem, zjazdami do posesji, budowa skrzyżowania typu rondo z ulicami Pyskowicką i Magazynową | H71: B | I71: 0.851 | J71: marzec 2020 - lipiec 2021 | K71: 4512936.5 | L71: =P71+Q71 -> 2256468 | M71: =K71-L71 -> 2256468.5 | N71: =L71/K71 -> 0.49999995 | O71: 0 | P71: 1203060.5 | Q71: 1053407.5 | Y71: =L71=SUM(O71:X71) -> TRUE | Z71: =ROUND(L71/K71,4) -> 0.5 | AA71: =Z71=N71 -> FALSE | AB71: =K71=L71+M71 -> TRUE
A72: 70 | B72: 236/19 | C72: N | D72: GMINA GOCZAŁKOWICE-ZDRÓJ (zadanie przeniesione na listę podstawową) | E72: 2410012 | F72: pszczyński | G72: Budowa drogi łączącej ulicę Borowinową z ulicą Zieloną w Goczałkowicach - Zdroju | H72: B | I72: 0.263 | J72: luty 2020 - grudzień 2020 | K72: 1520866.5 | L72: =ROUND(K72*N72,2) -> 760433.25 | M72: =K72-L72 -> 760433.25 | N72: 0.5 | O72: 0 | P72: 760433.25 | Y72: =L72=SUM(O72:X72) -> TRUE | Z72: =ROUND(L72/K72,4) -> 0.5 | AA72: =Z72=N72 -> TRUE | AB72: =K72=L72+M72 -> TRUE
A73: 71 | B73: 220/19 | C73: W | D73: GMINA MIKOŁÓW (zadanie przeniesione na listę podstawową) | E73: 2408021 | F73: mikołowski | G73: System transportu niskoemisyjnego - przebudowa węzła ulic Prusa - Miarki w kierunku Rybnicka, Wyzwolenia w Mikołowie - część II - etap IV | H73: P | I73: 0.099 | J73: październik 2020 - listopad 2022 | K73: 2707906 | L73: =ROUND(K73*N73,2) -> 1353953 | M73: =K73-L73 -> 1353953 | N73: 0.5 | O73: 0 | P73: 150000 | Q73: 600000 | R73: 603953 | Y73: =L73=SUM(O73:X73) -> TRUE | Z73: =ROUND(L73/K73,4) -> 0.5 | AA73: =Z73=N73 -> TRUE | AB73: =K73=L73+M73 -> TRUE
A74: 72 | B74: 251/19 | D74: MIASTO RYBNIK (rezygnacja beneficjenta z realizacji zadania) | E74: 2473011 | F74: Rybnik | G74: Przebudowa ul. Niewiadomskiej na odcinku od skrzyżowania z ul. Raciborską (DW 935) do granicy miasta | H74: P | Y74: =L74=SUM(O74:X74) -> TRUE | Z74: =ROUND(L74/K74,4) -> #DIV/0! | AA74: =Z74=N74 -> #DIV/0! | AB74: =K74=L74+M74 -> TRUE
A75: 73 | B75: 308/19 | C75: N | D75: GMINA CZELADŹ (zadanie przeniesione na listę podstawową) | E75: 2401021 | F75: będziński | G75: Budowa Obwodnicy Osiedla Piłsudskiego | H75: B | I75: 0.913 | J75: grudzień 2020 - listopad 2021 | K75: 9677154 | L75: =ROUND(K75*N75,2) -> 4838577 | M75: =K75-L75 -> 4838577 | N75: 0.5 | O75: 0 | P75: 4838577 | Y75: =L75=SUM(O75:X75) -> TRUE | Z75: =ROUND(L75/K75,4) -> 0.5 | AA75: =Z75=N75 -> TRUE | AB75: =K75=L75+M75 -> TRUE
A76: 74 | B76: 202/19 | C76: W | D76: GMINA ŻARKI (zadanie przeniesione na listę podstawową) | E76: 2409053 | F76: myszkowski | G76: Budowa i przebudowa dróg - ul. Jagodowej i Młyńskiej w Żarkach | H76: P | I76: 2.59 | J76: grudzień 2020 - czerwiec 2022 | K76: 5876000 | L76: =ROUND(K76*N76,2) -> 2938000 | M76: =K76-L76 -> 2938000 | N76: 0.5 | O76: 0 | P76: 1770000 | Q76: 1168000 | Y76: =L76=SUM(O76:X76) -> TRUE | Z76: =ROUND(L76/K76,4) -> 0.5 | AA76: =Z76=N76 -> TRUE | AB76: =K76=L76+M76 -> TRUE
A77: 75 | B77: 322/19 | C77: N | D77: GMINA KRZEPICE (zadanie przeniesione na listę podstawową) | E77: 2406023 | F77: kłobucki | G77: Budowa dróg gminnych nr 639001S ul. Generała Andersa, nr 639047S ul. Księdza Stasiewicza, nr 639048S ul. Brzozowa i nr 639049S ul. Lipowa w Krzepicach | H77: B | I77: 1.28 | J77: lipiec 2020 - czerwiec 2021 | K77: 5797410 | L77: 4058187 | M77: 1739223 | N77: =L77/K77 -> 0.7 | O77: 0 | P77: =L77 -> 4058187 | Y77: =L77=SUM(O77:X77) -> TRUE | Z77: =ROUND(L77/K77,4) -> 0.7 | AA77: =Z77=N77 -> TRUE | AB77: =K77=L77+M77 -> TRUE
A78: 76 | B78: 317/19 | C78: W | D78: MIASTO CZĘSTOCHOWA (zadanie przeniesione na listę podstawową) | E78: 2464011 | F78: Częstochowa | G78: Budowa ulicy Złotej w Częstochowie | H78: B | I78: 1.098 | J78: kwiecień 2020 - listopad 2021 | K78: 10208647 | L78: =P78+Q78 -> 5104323.5 | M78: =K78-L78 -> 5104323.5 | N78: 0.5 | O78: 0 | P78: 2318392 | Q78: 2785931.5 | Y78: =L78=SUM(O78:X78) -> TRUE | Z78: =ROUND(L78/K78,4) -> 0.5 | AA78: =Z78=N78 -> TRUE | AB78: =K78=L78+M78 -> TRUE
A79: 77 | B79: 321/19 | C79: N | D79: GMINA OLSZTYN (zadanie przeniesione na listę podstawową) | E79: 2404122 | F79: częstochowski | G79: Przebudowa drogi gminnej w Turowie - ul. Południowa, gmina Olsztyn | H79: P | I79: 1.269 | J79: czerwiec 2020 - maj 2021 | K79: 3059987 | L79: 1529993.5 | M79: 1529993.5 | N79: 0.5 | O79: 0 | P79: =L79 -> 1529993.5 | Y79: =L79=SUM(O79:X79) -> TRUE | Z79: =ROUND(L79/K79,4) -> 0.5 | AA79: =Z79=N79 -> TRUE | AB79: =K79=L79+M79 -> TRUE
A80: 78 | B80: 278/19 | D80: GMINA OŻAROWICE (rezygnacja beneficjenta z realizacji zadania) | E80: 2413062 | F80: tarnogórski | G80: Przebudowa ul. Witomin, Kościuszki, Towarowa, Wrzosowa, Staszica, Szkolna, Stawowa, Łąkowa, Wojska Polskiego oraz budowa drogi Polnej w Ożarowicach | H80: P | Y80: =L80=SUM(O80:X80) -> TRUE | Z80: =ROUND(L80/K80,4) -> #DIV/0! | AA80: =Z80=N80 -> #DIV/0! | AB80: =K80=L80+M80 -> TRUE
A81: 79 | B81: 254/19 | C81: W | D81: GMINA ZBROSŁAWICE (zadanie przeniesione na listę podstawową) | E81: 2413092 | F81: tarnogórski | G81: Budowa ulicy Sosnowej w Szałszy | H81: B | I81: 0.972 | J81: czerwiec 2020 - październik 2021 | K81: 4327666 | L81: =K81*50% -> 2163833 | M81: =K81-L81 -> 2163833 | N81: 0.5 | O81: 0 | P81: 923049 | Q81: 1240784 | Z81: =ROUND(L81/K81,4) -> 0.5 | AA81: =Z81=N81 -> TRUE | AB81: =K81=L81+M81 -> TRUE
A82: 80 | B82: 293/19 | D82: GMINA DĘBOWIEC (rezygnacja beneficjenta z realizacji zadania) | E82: 2403062 | F82: cieszyński | G82: Rozbudowa drogi gminnej nr 686 101S ul. Dolna w Gumnach | H82: B | Y82: =L82=SUM(O82:X82) -> TRUE | Z82: =ROUND(L82/K82,4) -> #DIV/0! | AA82: =Z82=N82 -> #DIV/0! | AB82: =K82=L82+M82 -> TRUE
A83: 81 | B83: 245/19 | C83: N | D83: MIASTO BIELSKO-BIAŁA (zadanie przeniesione na listę podstawową) | E83: 2461011 | F83: Bielsko-Biała | G83: Rozbudowa skrzyżowania ul. Józefa Lompy, ul. Cieszyńskiej i ul. Mikołaja Kopernika w Bielsku-Białej | H83: B | I83: 0.343 | J83: marzec 2020 - sierpień 2020 | K83: 3926761.4 | L83: 1963280.7 | M83: =K83-L83 -> 1963480.7 | N83: 0.5 | O83: 0 | P83: =L83 -> 1963280.7 | Y83: =L83=SUM(O83:X83) -> TRUE | Z83: =ROUND(L83/K83,4) -> 0.5 | AA83: =Z83=N83 -> TRUE | AB83: =K83=L83+M83 -> TRUE
A84: 82* | B84: 309/19 | C84: W | D84: GMINA MYSZKÓW (zadanie przeniesione na listę podstawową) | E84: 2409011 | F84: myszkowski | G84: Budowa dróg oraz infrastruktury towarzyszącej na terenie osiedla mieszkaniowego przy ul. Krasickiego w Myszkowie | H84: B | I84: 1.214 | J84: czerwiec 2020 - listopad 2022 | K84: 5649583 | L84: =P84+Q84+R84 -> 2302619.5 | M84: =K84-L84 -> 3346963.5 | N84: 0.6 | O84: 0 | P84: 1129916.4 | Q84: 42786.12 | R84: 1129917 | Y84: =L84=SUM(O84:X84) -> TRUE | Z84: =ROUND(L84/K84,4) -> 0.4076 | AA84: =Z84=N84 -> FALSE | AB84: =K84=L84+M84 -> TRUE
A85: 83 | B85: 297/19 | C85: N | D85: GMINA JAWORZE (zadanie przeniesione na listę podstawową) | E85: 2402062 | F85: bielski | G85: Przebudowa drogi publicznej nr 672 018S ul. Kalwaria w Jaworzu | H85: P | I85: 1.084 | J85: grudzień 2020 - październik 2021 | K85: 2002247 | L85: 1001123.5 | M85: 1001123.5 | N85: 0.5 | O85: 0 | P85: =L85 -> 1001123.5 | Y85: =L85=SUM(O85:X85) -> TRUE | Z85: =ROUND(L85/K85,4) -> 0.5 | AA85: =Z85=N85 -> TRUE | AB85: =K85=L85+M85 -> TRUE
A86: 84** | B86: 301/19 | C86: N | D86: GMINA CIESZYN (zadanie przeniesione na listę podstawową) | E86: 2403011 | F86: cieszyński | G86: Przebudowa ulicy Głębokiej, droga gminna nr 390104 S w Cieszynie | H86: P | I86: 0.401 | J86: lipiec 2020 - maj 2021 | K86: 4097274.3 | L86: 556415.26 | M86: =K86-L86 -> 3540859.1 | N86: 0.5 | O86: 0 | P86: =L86 -> 556415.26 | Y86: =L86=SUM(O86:X86) -> TRUE | Z86: =ROUND(L86/K86,4) -> 0.1358 | AA86: =Z86=N86 -> FALSE | AB86: =K86=L86+M86 -> TRUE
A87: RAZEM, z tego: | I87: =SUM(I3:I86) -> 63.377 | J87: x | K87: =SUM(K3:K86) -> 1.8989197e+08 | L87: =SUM(L3:L86) -> 1.0500571e+08 | M87: =SUM(M3:M86) -> 84886262 | N87: x | O87: =SUM(O3:O86) -> 6092613.2 | P87: =SUM(P3:P86) -> 70997675 | Q87: =SUM(Q3:Q86) -> 23527923 | R87: =SUM(R3:R86) -> 4387494.4 | S87: =SUM(S3:S86) -> 0 | T87: =SUM(T3:T86) -> 0 | U87: =SUM(U3:U86) -> 0 | V87: =SUM(V3:V86) -> 0 | ... X87: =SUM(X3:X86) -> 0 | Y87: =L87=SUM(O87:X87) -> TRUE | Z87: =ROUND(L87/K87,4) -> 0.553 | AA87: =Z87=N87 -> FALSE | AB87: =K87=L87+M87 -> TRUE
A88: kontynuowane zadania wieloletnie | I88: =SUMIF($C$3:$C$86,"K",I3:I86) -> 18.041 | J88: x | K88: =SUMIF($C$3:$C$86,"K",K3:K86) -> 57466910 | L88: =SUMIF($C$3:$C$86,"K",L3:L86) -> 33318752 | M88: =SUMIF($C$3:$C$86,"K",M3:M86) -> 24148159 | N88: x | O88: =SUMIF($C$3:$C$86,"K",O3:O86) -> 6092613.2 | P88: =SUMIF($C$3:$C$86,"K",P3:P86) -> 13680587 | Q88: =SUMIF($C$3:$C$86,"K",Q3:Q86) -> 11168313 | R88: =SUMIF($C$3:$C$86,"K",R3:R86) -> 2377238.2 | S88: =SUMIF($C$3:$C$86,"K",S3:S86) -> 0 | T88: =SUMIF($C$3:$C$86,"K",T3:T86) -> 0 | U88: =SUMIF($C$3:$C$86,"K",U3:U86) -> 0 | V88: =SUMIF($C$3:$C$86,"K",V3:V86) -> 0 | ... X88: =SUMIF($C$3:$C$86,"K",X3:X86) -> 0 | Y88: =L88=SUM(O88:X88) -> TRUE | Z88: =ROUND(L88/K88,4) -> 0.5798 | AA88: =Z88=N88 -> FALSE | AB88: =K88=L88+M88 -> TRUE
A89: nowe zadania jednoroczne | I89: =SUMIF($C$3:$C$86,"N",I3:I86) -> 32.337 | J89: x | K89: =SUMIF($C$3:$C$86,"N",K3:K86) -> 78353091 | L89: =SUMIF($C$3:$C$86,"N",L3:L86) -> 44852801 | M89: =SUMIF($C$3:$C$86,"N",M3:M86) -> 33500290 | N89: x | O89: =SUMIF($C$3:$C$86,"N",O3:O86) -> 0 | P89: =SUMIF($C$3:$C$86,"N",P3:P86) -> 44852801 | Q89: =SUMIF($C$3:$C$86,"N",Q3:Q86) -> 0 | R89: =SUMIF($C$3:$C$86,"N",R3:R86) -> 0 | S89: =SUMIF($C$3:$C$86,"N",S3:S86) -> 0 | T89: =SUMIF($C$3:$C$86,"N",T3:T86) -> 0 | U89: =SUMIF($C$3:$C$86,"N",U3:U86) -> 0 | V89: =SUMIF($C$3:$C$86,"N",V3:V86) -> 0 | ... X89: =SUMIF($C$3:$C$86,"N",X3:X86) -> 0 | Y89: =L89=SUM(O89:X89) -> TRUE | Z89: =ROUND(L89/K89,4) -> 0.5724 | AA89: =Z89=N89 -> FALSE | AB89: =K89=L89+M89 -> TRUE
A90: nowe zadania wieloletnie | I90: =SUMIF($C$3:$C$86,"W",I3:I86) -> 12.999 | J90: x | K90: =SUMIF($C$3:$C$86,"W",K3:K86) -> 54071966 | L90: =SUMIF($C$3:$C$86,"W",L3:L86) -> 26834153 | M90: =SUMIF($C$3:$C$86,"W",M3:M86) -> 27237813 | N90: x | O90: =SUMIF($C$3:$C$86,"W",O3:O86) -> 0 | P90: =SUMIF($C$3:$C$86,"W",P3:P86) -> 12464287 | Q90: =SUMIF($C$3:$C$86,"W",Q3:Q86) -> 12359610 | R90: =SUMIF($C$3:$C$86,"W",R3:R86) -> 2010256.2 | S90: =SUMIF($C$3:$C$86,"W",S3:S86) -> 0 | T90: =SUMIF($C$3:$C$86,"W",T3:T86) -> 0 | U90: =SUMIF($C$3:$C$86,"W",U3:U86) -> 0 | V90: =SUMIF($C$3:$C$86,"W",V3:V86) -> 0 | ... X90: =SUMIF($C$3:$C$86,"W",X3:X86) -> 0 | Y90: =L90=SUM(O90:X90) -> TRUE | Z90: =ROUND(L90/K90,4) -> 0.4963 | AA90: =Z90=N90 -> FALSE | AB90: =K90=L90+M90 -> TRUE
A92: B - budowa (rozbudowa), P - przebudowa, R - remont
A93: kolorem czerwonym oznaczono zadania wieloletnie
A94: N - nowe zadanie jednoroczne, K - kontynuowane zadanie wieloletnie z wcześniejszego naboru, W - nowe zadanie wieloletnie
A95: * Kwota dofinansowania zmniejszona do limitu dostępnych środków Funduszu Dróg Samorządowych w 2021 r; zwiększenie dofinansowania możliwe w przypadku wystąpienia oszczędności. W przypadku braku oszczędności w Funduszu, realizacja zadania będzie wymagała zabezpieczenia wkładu własnego wnioskodawcy w większej wysokości.
A96: ** Maksymalna kwota dofinansowania dla zadania wynosi 556415,26 zł. Kwota dofinansowania zmniejszona z uwagi na osiągnięcie ustawowej wartości list rezerwowych. Nie ma możliwości zwiększenia kwoty dofinansowania do poziomu 50% wartości zadania. Realizacja zadania będzie wymagała zabezpieczenia wkładu własnego wnioskodawcy w większej wysokości

Sheet pow rez
A1: L.p. | B1: Nr ewid. | C1: Zadanie nowe/wieloletnie [N/W] | D1: Jednostka Samorządu Terytorialnego | E1: TERC | F1: Nazwa zadania | G1: Rodzaj zadania | H1: Długość odcinka (w km) | I1: Okres realizacji zadania | J1: Ogółem wartość projektu (w zł) | K1: Wnioskowana kwota dofinansowania (w zł) | L1: Deklarowana kwota środków własnych (w zł) | M1: % dofinansowania | N1: Kwota dofinansowania w podziale na lata
N2: 2019 | O2: 2020 | P2: 2021 | Q2: 2022 | R2: 2023 | S2: 2024 | T2: 2025 | U2: 2026 | V2: 2027 | W2: 2028 | X2: spr-lata | Y2: spr-procent | Z2: spr-dof | AA2: spr-montaż
A3: 1 | B3: 329/19 | D3: POWIAT RACIBORSKI (zadanie przeniesione na listę podstawową) | E3: 2411 | F3: Przebudowa drogi powiatowej nr 3517S w Tworkowie od skrzyżowania z ulicą Zamkową do przejazdu kolejowego oraz remont drogi powiatowej nr 3516S pomiędzy skrzyżowaniami z DK 45 w Tworkowie i przebudowa drogi powiatowej nr 3536S w Górkach Śląskich od skrzyżowania z ul. Rudzką do końca działki drogowej nr 257/3 od strony DW 919 | X3: =K3=SUM(N3:W3) -> TRUE | Y3: =ROUND(K3/J3,4) -> #DIV/0! | Z3: =Y3=M3 -> #DIV/0! | AA3: =J3=K3+L3 -> TRUE
A4: 2 | B4: 306/19 | D4: MIASTO CHORZÓW (zadanie przeniesione na listę podstawową) | E4: 2463011 | F4: Przebudowa ulicy Hajduckiej oraz fragmentu Alei Bojowników o Wolność i Demokrację w Chorzowie | X4: =K4=SUM(N4:W4) -> TRUE | Y4: =ROUND(K4/J4,4) -> #DIV/0! | Z4: =Y4=M4 -> #DIV/0! | AA4: =J4=K4+L4 -> TRUE
A5: 3 | B5: 270/19 | D5: MIASTO SOSNOWIEC (zadanie przeniesione na listę podstawową) | E5: 2475011 | F5: Przebudowa ul. Ostrogórskiej na odcinku od skrzyżowania z ul. Jagiellońską do skrzyżowania z ul. 1 Maja w ramach zadania inwestycyjnego "Przebudowa ul. Ostrogórskiej w Sosnowcu" | X5: =K5=SUM(N5:W5) -> TRUE | Y5: =ROUND(K5/J5,4) -> #DIV/0! | Z5: =Y5=M5 -> #DIV/0! | AA5: =J5=K5+L5 -> TRUE
A6: 4 | B6: 285/19 | D6: POWIAT TARNOGÓRSKI (zadanie przeniesione na listę podstawową) | E6: 2413 | F6: Przebudowa pasa drogowego DP3210S i 3207S ul. Główna w Zendku | X6: =K6=SUM(N6:W6) -> TRUE | Y6: =ROUND(K6/J6,4) -> #DIV/0! | Z6: =Y6=M6 -> #DIV/0! | AA6: =J6=K6+L6 -> TRUE
A7: 5 | B7: 266/19 | D7: POWIAT BĘDZIŃSKI (zadanie przeniesione na listę podstawową) | E7: 2401 | F7: Przebudowa drogi powiatowej 4722 S - ul. Sielecka w Będzinie | X7: =K7=SUM(N7:W7) -> TRUE | Y7: =ROUND(K7/J7,4) -> #DIV/0! | Z7: =Y7=M7 -> #DIV/0! | AA7: =J7=K7+L7 -> TRUE
A8: 6 | B8: 324/19 | D8: POWIAT CZĘSTOCHOWSKI (zadanie przeniesione na listę podstawową) | E8: 2404 | F8: Przebudowa drogi powiatowej nr 1037 S na odc. Siedlec - Srocko, gmina Mstów | X8: =K8=SUM(N8:W8) -> TRUE | Y8: =ROUND(K8/J8,4) -> #DIV/0! | Z8: =Y8=M8 -> #DIV/0! | AA8: =J8=K8+L8 -> TRUE
A9: 7 | B9: 271/19 | D9: MIASTO SOSNOWIEC (zadanie przeniesione na listę podstawową) | E9: 2475011 | F9: Przebudowa ul. Kukułek w Sosnowcu, droga klasy L, kategoria drogi - droga powiatowa | X9: =K9=SUM(N9:W9) -> TRUE | Y9: =ROUND(K9/J9,4) -> #DIV/0! | Z9: =Y9=M9 -> #DIV/0! | AA9: =J9=K9+L9 -> TRUE
A10: 8 | B10: 252/19 | D10: POWIAT MIKOŁOWSKI (zadanie przeniesione na listę podstawową) | E10: 2408 | F10: Przebudowa ciągu drogowego nr 5314S Powiat Mikołowski - ul. Rybnicka w Gostyni etap I i III | X10: =K10=SUM(N10:W10) -> TRUE | Y10: =ROUND(K10/J10,4) -> #DIV/0! | Z10: =Y10=M10 -> #DIV/0! | AA10: =J10=K10+L10 -> TRUE
A11: 9 | B11: 231/19 | D11: POWIAT KŁOBUCKI (zadanie przeniesione na listę podstawową) | E11: 2406 | F11: Przebudowa drogi powiatowej nr 2003 S relacji Parzymiechy - Napoleon - Lipie | X11: =K11=SUM(N11:W11) -> TRUE | Y11: =ROUND(K11/J11,4) -> #DIV/0! | Z11: =Y11=M11 -> #DIV/0! | AA11: =J11=K11+L11 -> TRUE
A12: 10 | B12: 221/19 | D12: POWIAT RYBNICKI (zadanie przeniesione na listę podstawową) | E12: 2412 | F12: Remont odcinka drogi powiatowej nr 5614S ulica Wolności w Bełku od skrzyżowania z ulicą Bełkowską do skrzyżowania z ulicą Szymochy | X12: =K12=SUM(N12:W12) -> TRUE | Y12: =ROUND(K12/J12,4) -> #DIV/0! | Z12: =Y12=M12 -> #DIV/0! | AA12: =J12=K12+L12 -> TRUE
A13: RAZEM, z tego: | H13: =SUM(H3:H11) -> 0 | I13: x | J13: =SUM(J3:J12) -> 0 | K13: =SUM(K3:K12) -> 0 | L13: =SUM(L3:L12) -> 0 | M13: x | N13: =SUM(N10:N12) -> 0 | O13: =SUM(O3:O12) -> 0 | P13: =SUM(P3:P12) -> 0 | Q13: =SUM(Q3:Q12) -> 0 | R13: =SUM(R3:R12) -> 0 | S13: =SUM(S3:S12) -> 0 | T13: =SUM(T3:T12) -> 0 | U13: =SUM(U3:U12) -> 0 | V13: =SUM(V3:V12) -> 0 | W13: =SUM(W3:W12) -> 0 | X13: =K13=SUM(N13:W13) -> TRUE | Y13: =ROUND(K13/J13,4) -> #DIV/0! | Z13: x | AA13: =J13=K13+L13 -> TRUE
A14: nowe zadania jednoroczne | H14: =SUMIF($C$3:$C$11,"N",H3:H11) -> 0 | I14: x | J14: =SUMIF($C$3:$C$12,"N",J3:J12) -> 0 | K14: =SUMIF($C$3:$C$12,"N",K3:K12) -> 0 | L14: =SUMIF($C$3:$C$12,"N",L3:L12) -> 0 | M14: x | N14: =SUMIF($C$10:$C$12,"N",N10:N12) -> 0 | O14: =SUMIF($C$3:$C$12,"N",O3:O12) -> 0 | P14: =SUMIF($C$3:$C$12,"N",P3:P12) -> 0 | Q14: =SUMIF($C$3:$C$12,"N",Q3:Q12) -> 0 | R14: =SUMIF($C$3:$C$12,"N",R3:R12) -> 0 | S14: =SUMIF($C$3:$C$12,"N",S3:S12) -> 0 | T14: =SUMIF($C$3:$C$12,"N",T3:T12) -> 0 | U14: =SUMIF($C$3:$C$12,"N",U3:U12) -> 0 | V14: =SUMIF($C$3:$C$12,"N",V3:V12) -> 0 | W14: =SUMIF($C$3:$C$12,"N",W3:W12) -> 0 | X14: =K14=SUM(N14:W14) -> TRUE | Y14: =ROUND(K14/J14,4) -> #DIV/0! | Z14: x | AA14: =J14=K14+L14 -> TRUE
A15: nowe zadania wieloletnie | H15: =SUMIF($C$3:$C$11,"W",H3:H11) -> 0 | I15: x | J15: =SUMIF($C$3:$C$12,"W",J3:J12) -> 0 | K15: =SUMIF($C$3:$C$11,"W",K3:K11) -> 0 | L15: =SUMIF($C$3:$C$12,"W",L3:L12) -> 0 | M15: x | N15: =SUMIF($C$10:$C$12,"W",N10:N12) -> 0 | O15: =SUMIF($C$3:$C$12,"W",O3:O12) -> 0 | P15: =SUMIF($C$3:$C$12,"W",P3:P12) -> 0 | Q15: =SUMIF($C$3:$C$12,"W",Q3:Q12) -> 0 | R15: =SUMIF($C$3:$C$12,"W",R3:R12) -> 0 | S15: =SUMIF($C$3:$C$12,"W",S3:S12) -> 0 | T15: =SUMIF($C$3:$C$12,"W",T3:T12) -> 0 | U15: =SUMIF($C$3:$C$12,"W",U3:U12) -> 0 | V15: =SUMIF($C$3:$C$12,"W",V3:V12) -> 0 | W15: =SUMIF($C$3:$C$12,"W",W3:W12) -> 0 | X15: =K15=SUM(N15:W15) -> TRUE | Y15: =ROUND(K15/J15,4) -> #DIV/0! | Z15: x | AA15: =J15=K15+L15 -> TRUE
A17: B - budowa (rozbudowa), P - przebudowa, R - remont
A18: kolorem czerwonym oznaczono zadania wieloletnie
A19: N - zadanie nowe, W - nowe zadanie wieloletnie

Sheet gm rez
A1: L.p. | B1: Nr ewid. | C1: Zadanie nowe/wieloletnie [N/W] | D1: Jednostka Samorządu Terytorialnego | E1: TERC | F1: Powiat | G1: Nazwa zadania | H1: Rodzaj zadania | I1: Długość odcinka (w km) | J1: Okres realizacji zadania | K1: Ogółem wartość projektu (w zł) | L1: Wnioskowana kwota dofinansowania (w zł) | M1: Deklarowana kwota środków własnych (w zł) | N1: % dofinansowania | O1: Kwota dofinansowania w podziale na lata
O2: 2019 | P2: 2020 | Q2: 2021 | R2: 2022 | S2: 2023 | T2: 2024 | U2: 2025 | V2: 2026 | W2: 2027 | X2: 2028 | Y2: spr-lata | Z2: spr-procent | AA2: spr-dof | AB2: spr-montaż
A3: 1 | B3: 332/19 | D3: GMINA WODZISŁAW ŚLĄSKI (rezygnacja beneficjenta z realizacji zadania) | E3: 2415041 | F3: wodzisławski | G3: Budowa dróg na terenach po KWK 1 Maja i remont dróg gminnych obejmujących ulice: Tysiąclecia, M. Dąbrowskiej, J. Chełmońskiego w Wodzisławiu Śląskim | Y3: =L3=SUM(O3:X3) -> TRUE | Z3: =ROUND(L3/K3,4) -> #DIV/0! | AA3: =Z3=N3 -> #DIV/0! | AB3: =K3=L3+M3 -> TRUE
A4: 2 | B4: 236/19 | D4: GMINA GOCZAŁKOWICE-ZDRÓJ (zadanie przeniesione na listę podstawową) | E4: 2410012 | F4: pszczyński | G4: Budowa drogi łączącej ulicę Borowinową z ulicą Zieloną w Goczałkowicach - Zdroju | Y4: =L4=SUM(O4:X4) -> TRUE | Z4: =ROUND(L4/K4,4) -> #DIV/0! | AA4: =Z4=N4 -> #DIV/0! | AB4: =K4=L4+M4 -> TRUE
A5: 3 | B5: 307/19 | D5: GMINA CZELADŹ (rezygnacja beneficjenta z realizacji zadania) | E5: 2401021 | F5: będziński | G5: Budowa ciągu komunikacyjnego Scheiblera-Biedermanna-Węglowa w Czeladzi | Y5: =L5=SUM(O5:X5) -> TRUE | Z5: =ROUND(L5/K5,4) -> #DIV/0! | AA5: =Z5=N5 -> #DIV/0! | AB5: =K5=L5+M5 -> TRUE
A6: 4 | B6: 220/19 | D6: GMINA MIKOŁÓW (zadanie przeniesione na listę podstawową) | E6: 2408021 | F6: mikołowski | G6: System transportu niskoemisyjnego - przebudowa węzła ulic Prusa - Miarki w kierunku Rybnicka, Wyzwolenia w Mikołowie - część II - etap IV | Y6: =L6=SUM(O6:X6) -> TRUE | Z6: =ROUND(L6/K6,4) -> #DIV/0! | AA6: =Z6=N6 -> #DIV/0! | AB6: =K6=L6+M6 -> TRUE
A7: 5 | B7: 251/19 | D7: MIASTO RYBNIK (zadanie przeniesione na listę podstawową) | E7: 2473011 | F7: Rybnik | G7: Przebudowa ul. Niewiadomskiej na odcinku od skrzyżowania z ul. Raciborską (DW 935) do granicy miasta | Y7: =L7=SUM(O7:X7) -> TRUE | Z7: =ROUND(L7/K7,4) -> #DIV/0! | AA7: =Z7=N7 -> #DIV/0! | AB7: =K7=L7+M7 -> TRUE
A8: 6 | B8: 308/19 | D8: GMINA CZELADŹ (zadanie przeniesione na listę podstawową) | E8: 2401021 | F8: będziński | G8: Budowa Obwodnicy Osiedla Piłsudskiego | Y8: =L8=SUM(O8:X8) -> TRUE | Z8: =ROUND(L8/K8,4) -> #DIV/0! | AA8: =Z8=N8 -> #DIV/0! | AB8: =K8=L8+M8 -> TRUE
A9: 7 | B9: 202/19 | D9: GMINA ŻARKI (zadanie przeniesione na listę podstawową) | E9: 2409053 | F9: myszkowski | G9: Budowa i przebudowa dróg - ul. Jagodowej i Młyńskiej w Żarkach | Y9: =L9=SUM(O9:X9) -> TRUE | Z9: =ROUND(L9/K9,4) -> #DIV/0! | AA9: =Z9=N9 -> #DIV/0! | AB9: =K9=L9+M9 -> TRUE
A10: 8 | B10: 322/19 | D10: GMINA KRZEPICE (zadanie przeniesione na listę podstawową) | E10: 2406023 | F10: kłobucki | G10: Budowa dróg gminnych nr 639001S ul. Generała Andersa, nr 639047S ul. Księdza Stasiewicza, nr 639048S ul. Brzozowa i nr 639049S ul. Lipowa w Krzepicach | Y10: =L10=SUM(O10:X10) -> TRUE | Z10: =ROUND(L10/K10,4) -> #DIV/0! | AA10: =Z10=N10 -> #DIV/0! | AB10: =K10=L10+M10 -> TRUE
A11: 9 | B11: 317/19 | D11: MIASTO CZĘSTOCHOWA (zadanie przeniesione na listę podstawową) | E11: 2464011 | F11: Częstochowa | G11: Budowa ulicy Złotej w Częstochowie | Y11: =L11=SUM(O11:X11) -> TRUE | Z11: =ROUND(L11/K11,4) -> #DIV/0! | AA11: =Z11=N11 -> #DIV/0! | AB11: =K11=L11+M11 -> TRUE
A12: 10 | B12: 321/19 | D12: GMINA OLSZTYN (zadanie przeniesione na listę podstawową) | E12: 2404122 | F12: częstochowski | G12: Przebudowa drogi gminnej w Turowie - ul. Południowa, gmina Olsztyn | Y12: =L12=SUM(O12:X12) -> TRUE | Z12: =ROUND(L12/K12,4) -> #DIV/0! | AA12: =Z12=N12 -> #DIV/0! | AB12: =K12=L12+M12 -> TRUE
A13: 11 | B13: 278/19 | D13: GMINA OŻAROWICE (zadanie przeniesione na listę podstawową) | E13: 2413062 | F13: tarnogórski | G13: Przebudowa ul. Witomin, Kościuszki, Towarowa, Wrzosowa, Staszica, Szkolna, Stawowa, Łąkowa, Wojska Polskiego oraz budowa drogi Polnej w Ożarowicach | Y13: =L13=SUM(O13:X13) -> TRUE | Z13: =ROUND(L13/K13,4) -> #DIV/0! | AA13: =Z13=N13 -> #DIV/0! | AB13: =K13=L13+M13 -> TRUE
A14: 12 | B14: 254/19 | D14: GMINA ZBROSŁAWICE (zadanie przeniesione na listę podstawową) | E14: 2413092 | F14: tarnogórski | G14: Budowa ulicy Sosnowej w Szałszy | Y14: =L14=SUM(O14:X14) -> TRUE | Z14: =ROUND(L14/K14,4) -> #DIV/0! | AA14: =Z14=N14 -> #DIV/0! | AB14: =K14=L14+M14 -> TRUE
A15: 13 | B15: 293/19 | D15: GMINA DĘBOWIEC (zadanie przeniesione na listę podstawową) | E15: 2403062 | F15: cieszyński | G15: Rozbudowa drogi gminnej nr 686 101S ul. Dolna w Gumnach | Y15: =L15=SUM(O15:X15) -> TRUE | Z15: =ROUND(L15/K15,4) -> #DIV/0! | AA15: =Z15=N15 -> #DIV/0! | AB15: =K15=L15+M15 -> TRUE
A16: 14 | B16: 313/19 | D16: GMINA PORĘBA (rezygnacja beneficjenta z realizacji zadania) | E16: 2416011 | F16: zawierciański | G16: Przebudowa ul. Roździeńskiego i ul. Wiejskiej w Porębie | Y16: =L16=SUM(O16:X16) -> TRUE | Z16: =ROUND(L16/K16,4) -> #DIV/0! | AA16: =Z16=N16 -> #DIV/0! | AB16: =K16=L16+M16 -> TRUE
A17: 15 | B17: 245/19 | D17: MIASTO BIELSKO-BIAŁA (zadanie przeniesione na listę podstawową) | E17: 2461011 | F17: Bielsko-Biała | G17: Rozbudowa skrzyżowania ul. Józefa Lompy, ul. Cieszyńskiej i ul. Mikołaja Kopernika w Bielsku-Białej | Y17: =L17=SUM(O17:X17) -> TRUE | Z17: =ROUND(L17/K17,4) -> #DIV/0! | AA17: =Z17=N17 -> #DIV/0! | AB17: =K17=L17+M17 -> TRUE
A18: 16 | B18: 309/19 | D18: GMINA MYSZKÓW (zadanie przeniesione na listę podstawową) | E18: 2409011 | F18: myszkowski | G18: Budowa dróg oraz infrastruktury towarzyszącej na terenie osiedla mieszkaniowego przy ul. Krasickiego w Myszkowie | Y18: =L18=SUM(O18:X18) -> TRUE | Z18: =ROUND(L18/K18,4) -> #DIV/0! | AA18: =Z18=N18 -> #DIV/0! | AB18: =K18=L18+M18 -> TRUE
A19: 17 | B19: 297/19 | D19: GMINA JAWORZE (zadanie przeniesione na listę podstawową) | E19: 2402062 | F19: bielski | G19: Przebudowa drogi publicznej nr 672 018S ul. Kalwaria w Jaworzu | Y19: =L19=SUM(O19:X19) -> TRUE | Z19: =ROUND(L19/K19,4) -> #DIV/0! | AA19: =Z19=N19 -> #DIV/0! | AB19: =K19=L19+M19 -> TRUE
A20: 18 | B20: 301/19 | D20: GMINA CIESZYN* (zadanie przeniesione na listę podstawową) | E20: 2403011 | F20: cieszyński | G20: Przebudowa ulicy Głębokiej, droga gminna nr 390104 S w Cieszynie | Y20: =L20=SUM(O20:X20) -> TRUE | Z20: =ROUND(L20/K20,4) -> #DIV/0! | AA20: =Z20=N20 -> #DIV/0! | AB20: =K20=L20+M20 -> TRUE
A21: RAZEM, z tego: | I21: =SUM(I3:I20) -> 0 | J21: x | K21: =SUM(K3:K20) -> 0 | L21: =SUM(L3:L20) -> 0 | M21: =SUM(M3:M20) -> 0 | N21: x | O21: =SUM(O8:O17) -> 0 | P21: =SUM(P3:P20) -> 0 | Q21: =SUM(Q3:Q20) -> 0 | R21: =SUM(R3:R20) -> 0 | S21: =SUM(S3:S20) -> 0 | T21: =SUM(T3:T20) -> 0 | U21: =SUM(U3:U20) -> 0 | V21: =SUM(V3:V20) -> 0 | W21: =SUM(W3:W20) -> 0 | X21: =SUM(X3:X20) -> 0 | Y21: =L21=SUM(O21:X21) -> TRUE | Z21: =ROUND(L21/K21,4) -> #DIV/0! | AA21: =Z21=N21 -> #DIV/0! | AB21: =K21=L21+M21 -> TRUE
A22: nowe zadania jednoroczne | I22: =SUMIF($C$3:$C$20,"N",I3:I20) -> 0 | J22: x | K22: =SUMIF($C$3:$C$20,"N",K3:K20) -> 0 | L22: =SUMIF($C$3:$C$20,"N",L3:L20) -> 0 | M22: =SUMIF($C$3:$C$20,"N",M3:M20) -> 0 | N22: x | O22: =SUMIF($C$8:$C$17,"N",O8:O17) -> 0 | P22: =SUMIF($C$3:$C$20,"N",P3:P20) -> 0 | Q22: =SUMIF($C$3:$C$20,"N",Q3:Q20) -> 0 | R22: =SUMIF($C$3:$C$20,"N",R3:R20) -> 0 | S22: =SUMIF($C$3:$C$20,"N",S3:S20) -> 0 | T22: =SUMIF($C$3:$C$20,"N",T3:T20) -> 0 | U22: =SUMIF($C$3:$C$20,"N",U3:U20) -> 0 | V22: =SUMIF($C$3:$C$20,"N",V3:V20) -> 0 | W22: =SUMIF($C$3:$C$20,"N",W3:W20) -> 0 | X22: =SUMIF($C$3:$C$20,"N",X3:X20) -> 0 | Y22: =L22=SUM(O22:X22) -> TRUE | Z22: =ROUND(L22/K22,4) -> #DIV/0! | AA22: =Z22=N22 -> #DIV/0! | AB22: =K22=L22+M22 -> TRUE
A23: nowe zadania wieloletnie | I23: =SUMIF($C$3:$C$20,"W",I3:I20) -> 0 | J23: x | K23: =SUMIF($C$3:$C$20,"W",K3:K20) -> 0 | L23: =SUMIF($C$3:$C$20,"W",L3:L20) -> 0 | M23: =SUMIF($C$3:$C$20,"W",M3:M20) -> 0 | N23: x | O23: =SUMIF($C$8:$C$17,"W",O8:O17) -> 0 | P23: =SUMIF($C$3:$C$20,"W",P3:P20) -> 0 | Q23: =SUMIF($C$3:$C$20,"W",Q3:Q20) -> 0 | R23: =SUMIF($C$3:$C$20,"W",R3:R20) -> 0 | S23: =SUMIF($C$3:$C$20,"W",S3:S20) -> 0 | T23: =SUMIF($C$3:$C$20,"W",T3:T20) -> 0 | U23: =SUMIF($C$3:$C$20,"W",U3:U20) -> 0 | V23: =SUMIF($C$3:$C$20,"W",V3:V20) -> 0 | W23: =SUMIF($C$3:$C$20,"W",W3:W20) -> 0 | X23: =SUMIF($C$3:$C$20,"W",X3:X20) -> 0 | Y23: =L23=SUM(O23:X23) -> TRUE | Z23: =ROUND(L23/K23,4) -> #DIV/0! | AA23: =Z23=N23 -> #DIV/0! | AB23: =K23=L23+M23 -> TRUE
A24: kolorem czerwonym oznaczono zadania wieloletnie
A25: B - budowa (rozbudowa), P - przebudowa, R - remont
A26: N - zadanie nowe, W - nowe zadanie wieloletnie

Sheet pow poz dof
A1: L.p. | B1: Jednostka Samorządu Terytorialnego | C1: TERC | D1: Dochód własny j.s.t. na 1 mieszk. w stosunku do średniego dochodu własnego w skali kraju na 1 mieszk. (w %) | E1: % dofinansowania
A3: 1 | B3: powiat kłobucki | C3: 2406 | D3: 0.74303955 | E3: 0.7
A4: 2 | B4: powiat żywiecki | C4: 2417 | D4: 0.76624182 | E4: 0.65
A5: 3 | B5: powiat myszkowski | C5: 2409 | D5: 0.79925464 | E5: 0.65
A6: 4 | B6: powiat gliwicki | C6: 2405 | D6: 0.84088964 | E6: 0.6
A7: 5 | B7: powiat rybnicki | C7: 2412 | D7: 0.84692796 | E7: 0.6
A8: 6 | B8: powiat bielski | C8: 2402 | D8: 0.85010788 | E8: 0.55
A9: 7 | B9: powiat będziński | C9: 2401 | D9: 0.85885601 | E9: 0.55
A10: 8 | B10: powiat cieszyński | C10: 2403 | D10: 0.86167849 | E10: 0.55
A11: 9 | B11: powiat pszczyński | C11: 2410 | D11: 0.86864222 | E11: 0.55
A12: 10 | B12: powiat raciborski | C12: 2411 | D12: 0.8703555 | E12: 0.55
A13: 11 | B13: powiat mikołowski | C13: 2408 | D13: 0.89233606 | E13: 0.55
A14: 12 | B14: powiat zawierciański | C14: 2416 | D14: 0.89485976 | E14: 0.55
... A19: 17 | B19: powiat lubliniecki | C19: 2407 | D19: 1.1033883 | E19: 0.5

Sheet gm poz dof
A1: L.p. | B1: Jednostka Samorządu Terytorialnego | C1: TERC | D1: Powiat | E1: Dochód własny j.s.t. na 1 mieszk. w stosunku do średniego dochodu własnego w skali kraju na 1 mieszk. (w %) | F1: % dofinansowania
A3: 1 | B3: gmina Krzepice | C3: 2406023 | D3: kłobucki | E3: 0.71891746 | F3: 0.7
A4: 2 | B4: gmina Opatów | C4: 2406052 | D4: kłobucki | E4: 0.74665526 | F4: 0.7
A5: 3 | B5: gmina Radziechowy-Wieprz | C5: 2417102 | D5: żywiecki | E5: 0.76055291 | F5: 0.65
A6: 4 | B6: gmina Nędza | C6: 2411062 | D6: raciborski | E6: 0.76252985 | F6: 0.65
A7: 5 | B7: gmina Konopiska | C7: 2404072 | D7: częstochowski | E7: 0.76803833 | F7: 0.65
A8: 6 | B8: gmina Kamienica Polska | C8: 2404042 | D8: częstochowski | E8: 0.7745609 | F8: 0.65
A9: 7 | B9: gmina Pszów | C9: 2415011 | D9: wodzisławski | E9: 0.78074241 | F9: 0.65
A10: 8 | B10: gmina Żarnowiec | C10: 2416102 | D10: zawierciański | E10: 0.78644985 | F10: 0.65
A11: 9 | B11: gmina Godów | C11: 2415052 | D11: wodzisławski | E11: 0.78675169 | F11: 0.65
A12: 10 | B12: gmina Koszęcin | C12: 2407062 | D12: lubliniecki | E12: 0.79261983 | F12: 0.65
A13: 11 | B13: gmina Węgierska Górka | C13: 2417152 | D13: żywiecki | E13: 0.80305452 | F13: 0.6
A14: 12 | B14: gmina Koszarawa | C14: 2417052 | D14: żywiecki | E14: 0.80551705 | F14: 0.6
... A150: 148 | B150: gmina Goczałkowice - Zdrój | C150: 2410012 | D150: pszczyński | E150: 1.8122786 | F150: 0.5

Sheet mpp poz dof
A1: L.p. | B1: Miasto | C1: TERC | D1: Dochód własny j.s.t. na 1 mieszk. w stosunku do średniego dochodu własnego w skali kraju na 1 mieszk. (w %) | E1: % dofinansowania
A3: 1 | B3: Świętochłowice | C3: 2476011 | D3: 0.72815871 | E3: 0.6
A4: 2 | B4: Piekary Śląskie | C4: 2471011 | D4: 0.76549986 | E4: 0.6
A5: 3 | B5: Bytom | C5: 2462011 | D5: 0.79247839 | E5: 0.6
A6: 4 | B6: Żory | C6: 2479011 | D6: 0.84850775 | E6: 0.55
A7: 5 | B7: Zabrze | C7: 2478011 | D7: 0.85373368 | E7: 0.5
A8: 6 | B8: Mysłowice | C8: 2470011 | D8: 0.86312109 | E8: 0.5
A9: 7 | B9: Sosnowiec | C9: 2475011 | D9: 0.86787597 | E9: 0.5
A10: 8 | B10: Jastrzębie-Zdrój | C10: 2467011 | D10: 0.86966012 | E10: 0.5
A11: 9 | B11: Siemianowice Śląskie | C11: 2474011 | D11: 0.8948411 | E11: 0.5
A12: 10 | B12: Częstochowa | C12: 2464011 | D12: 0.92713707 | E12: 0.5
A13: 11 | B13: Ruda Śląska | C13: 2472011 | D13: 0.93080502 | E13: 0.5
A14: 12 | B14: Chorzów | C14: 2463011 | D14: 0.9844197 | E14: 0.5
... A20: 18 | B20: Dąbrowa Górnicza | C20: 2465011 | D20: 1.2950407 | E20: 0.5
