Workbook

Sheet 24 - śląskie
A1: Lista zmieniona nr 4 zadań rekomendowanych do dofinansowania w ramach Rządowego Funduszu Rozwoju Dróg
F2: ZATWIERDZAM Dorota Wójtowicz z up. WOJEWODY ŚLĄSKIEGO -podpisano cyfrowo- Katowice, 27 września 2021 r.
A4: Dofinansowanie przyznane w naborze: na rok 2021
A6: Województwo: Śląskie
F7: ………………………………………………………………………………….
A11: Podsumowanie naboru:
A12: Kategoria drogi - rodzaj listy | B12: Liczba zadań | C12: Wartość zadań ogółem | D12: Deklarowana kwota środków własnych | E12: Kwota dofinasowania ogółem | F12: Kwota dofinansowania w podziale na lata
F13: 2019 | G13: 2020 | H13: 2021 | I13: 2022 | J13: 2023 | K13: 2024 | L13: 2025 | M13: 2026 | N13: 2027 | O13: 2028
A14: powiatowe - lista podstawowa, z tego: | B14: =COUNTA('pow podst'!K3:K41) -> 39 | C14: =SUM('pow podst'!J3:J41) -> 2.9933805e+08 | D14: =SUM('pow podst'!L3:L41) -> 1.4172416e+08 | E14: =SUM('pow podst'!K3:K41) -> 1.5761389e+08 | F14: =SUM('pow podst'!N3:N41) -> 3943859.8 | G14: =SUM('pow podst'!O3:O41) -> 30489587 | H14: =SUM('pow podst'!P3:P41) -> 84081842 | I14: =SUM('pow podst'!Q3:Q41) -> 36047000 | J14: =SUM('pow podst'!R3:R41) -> 3051598.5 | K14: =SUM('pow podst'!S3:S41) -> 0 | L14: =SUM('pow podst'!T3:T41) -> 0 | M14: =SUM('pow podst'!U3:U41) -> 0 | ... O14: =SUM('pow podst'!W3:W41) -> 0 | P14: =C14=(D14+E14) -> TRUE | Q14: =E14=SUM(F14:O14) -> TRUE
A15: kontynuowane zadania wieloletnie | B15: =COUNTIF('pow podst'!C3:C41,"K") -> 13 | C15: =SUMIF('pow podst'!C3:C41,"K",'pow podst'!J3:J41) -> 1.4925527e+08 | D15: =SUMIF('pow podst'!C3:C41,"K",'pow podst'!L3:L41) -> 72117569 | E15: =SUMIF('pow podst'!C3:C41,"K",'pow podst'!K3:K41) -> 77137704 | F15: =SUMIF('pow podst'!$C$3:$C$41,"K",'pow podst'!N3:N41) -> 3943859.8 | G15: =SUMIF('pow podst'!$C$3:$C$41,"K",'pow podst'!O3:O41) -> 30489587 | H15: =SUMIF('pow podst'!$C$3:$C$41,"K",'pow podst'!P3:P41) -> 33180946 | I15: =SUMIF('pow podst'!$C$3:$C$41,"K",'pow podst'!Q3:Q41) -> 9523311.5 | J15: =SUMIF('pow podst'!$C$3:$C$41,"K",'pow podst'!R3:R41) -> 0 | K15: =SUMIF('pow podst'!$C$3:$C$41,"K",'pow podst'!S3:S41) -> 0 | L15: =SUMIF('pow podst'!$C$3:$C$41,"K",'pow podst'!T3:T41) -> 0 | M15: =SUMIF('pow podst'!$C$3:$C$41,"K",'pow podst'!U3:U41) -> 0 | ... O15: =SUMIF('pow podst'!$C$3:$C$41,"K",'pow podst'!W3:W41) -> 0 | P15: =C15=(D15+E15) -> TRUE | Q15: =E15=SUM(F15:O15) -> TRUE
A16: nowe zadania jednoroczne | B16: =COUNTIF('pow podst'!C3:C41,"N") -> 16 | C16: =SUMIF('pow podst'!C3:C41,"N",'pow podst'!J3:J41) -> 50287716 | D16: =SUMIF('pow podst'!C3:C41,"N",'pow podst'!L3:L41) -> 17971308 | E16: =SUMIF('pow podst'!C3:C41,"N",'pow podst'!K3:K41) -> 32316408 | F16: =SUMIF('pow podst'!$C$3:$C$41,"N",'pow podst'!N3:N41) -> 0 | G16: =SUMIF('pow podst'!$C$3:$C$41,"N",'pow podst'!O3:O41) -> 0 | H16: =SUMIF('pow podst'!$C$3:$C$41,"N",'pow podst'!P3:P41) -> 32316408 | I16: =SUMIF('pow podst'!$C$3:$C$41,"N",'pow podst'!Q3:Q41) -> 0 | J16: =SUMIF('pow podst'!$C$3:$C$41,"N",'pow podst'!R3:R41) -> 0 | K16: =SUMIF('pow podst'!$C$3:$C$41,"N",'pow podst'!S3:S41) -> 0 | L16: =SUMIF('pow podst'!$C$3:$C$41,"N",'pow podst'!T3:T41) -> 0 | M16: =SUMIF('pow podst'!$C$3:$C$41,"N",'pow podst'!U3:U41) -> 0 | ... O16: =SUMIF('pow podst'!$C$3:$C$41,"N",'pow podst'!W3:W41) -> 0 | P16: =C16=(D16+E16) -> TRUE | Q16: =E16=SUM(F16:O16) -> TRUE
A17: nowe zadania wieloletnie | B17: =COUNTIF('pow podst'!C3:C41,"W") -> 10 | C17: =SUMIF('pow podst'!C3:C41,"W",'pow podst'!J3:J41) -> 99795059 | D17: =SUMIF('pow podst'!C3:C41,"W",'pow podst'!L3:L41) -> 51635283 | E17: =SUMIF('pow podst'!C3:C41,"W",'pow podst'!K3:K41) -> 48159775 | F17: =SUMIF('pow podst'!$C$3:$C$41,"W",'pow podst'!N3:N41) -> 0 | G17: =SUMIF('pow podst'!$C$3:$C$41,"W",'pow podst'!O3:O41) -> 0 | H17: =SUMIF('pow podst'!$C$3:$C$41,"W",'pow podst'!P3:P41) -> 18584488 | I17: =SUMIF('pow podst'!$C$3:$C$41,"W",'pow podst'!Q3:Q41) -> 26523689 | J17: =SUMIF('pow podst'!$C$3:$C$41,"W",'pow podst'!R3:R41) -> 3051598.5 | K17: =SUMIF('pow podst'!$C$3:$C$41,"W",'pow podst'!S3:S41) -> 0 | L17: =SUMIF('pow podst'!$C$3:$C$41,"W",'pow podst'!T3:T41) -> 0 | M17: =SUMIF('pow podst'!$C$3:$C$41,"W",'pow podst'!U3:U41) -> 0 | ... O17: =SUMIF('pow podst'!$C$3:$C$41,"W",'pow podst'!W3:W41) -> 0 | P17: =C17=(D17+E17) -> TRUE | Q17: =E17=SUM(F17:O17) -> TRUE
A18: gminne - lista podstawowa, z tego: | B18: =COUNTA('gm podst'!L3:L67) -> 64 | C18: =SUM('gm podst'!K3:K67) -> 2.3991871e+08 | D18: =SUM('gm podst'!M3:M67) -> 1.207241e+08 | E18: =SUM('gm podst'!L3:L67) -> 1.1919461e+08 | F18: =SUM('gm podst'!O3:O67) -> 1001062 | G18: =SUM('gm podst'!P3:P67) -> 17774678 | H18: =SUM('gm podst'!Q3:Q67) -> 65260725 | I18: =SUM('gm podst'!R3:R67) -> 20952869 | J18: =SUM('gm podst'!S3:S67) -> 6482109.8 | K18: =SUM('gm podst'!T3:T67) -> 1846500.5 | L18: =SUM('gm podst'!U3:U67) -> 1846500.5 | M18: =SUM('gm podst'!V3:V67) -> 2193001 | ... O18: =SUM('gm podst'!X3:X67) -> 0 | P18: =C18=(D18+E18) -> TRUE | Q18: =E18=SUM(F18:O18) -> TRUE
A19: kontynuowane zadania wieloletnie | B19: =COUNTIF('gm podst'!C3:C67,"K") -> 21 | C19: =SUMIF('gm podst'!C3:C67,"K",'gm podst'!K3:K67) -> 78924030 | D19: =SUMIF('gm podst'!C3:C67,"K",'gm podst'!M3:M67) -> 36629160 | E19: =SUMIF('gm podst'!C3:C67,"K",'gm podst'!L3:L67) -> 42294870 | F19: =SUMIF('gm podst'!$C$3:$C$67,"K",'gm podst'!O3:O67) -> 1001062 | G19: =SUMIF('gm podst'!$C$3:$C$67,"K",'gm podst'!P3:P67) -> 17774678 | H19: =SUMIF('gm podst'!$C$3:$C$67,"K",'gm podst'!Q3:Q67) -> 20261553 | I19: =SUMIF('gm podst'!$C$3:$C$67,"K",'gm podst'!R3:R67) -> 3257577.4 | J19: =SUMIF('gm podst'!$C$3:$C$67,"K",'gm podst'!S3:S67) -> 0 | K19: =SUMIF('gm podst'!$C$3:$C$67,"K",'gm podst'!T3:T67) -> 0 | L19: =SUMIF('gm podst'!$C$3:$C$67,"K",'gm podst'!U3:U67) -> 0 | M19: =SUMIF('gm podst'!$C$3:$C$67,"K",'gm podst'!V3:V67) -> 0 | ... O19: =SUMIF('gm podst'!$C$3:$C$67,"K",'gm podst'!X3:X67) -> 0 | P19: =C19=(D19+E19) -> TRUE | Q19: =E19=SUM(F19:O19) -> TRUE
A20: nowe zadania jednoroczne | B20: =COUNTIF('gm podst'!C3:C67,"N") -> 30 | C20: =SUMIF('gm podst'!C3:C67,"N",'gm podst'!K3:K67) -> 66072494 | D20: =SUMIF('gm podst'!C3:C67,"N",'gm podst'!M3:M67) -> 33508313 | E20: =SUMIF('gm podst'!C3:C67,"N",'gm podst'!L3:L67) -> 32564181 | F20: =SUMIF('gm podst'!$C$3:$C$67,"N",'gm podst'!O3:O67) -> 0 | G20: =SUMIF('gm podst'!$C$3:$C$67,"N",'gm podst'!P3:P67) -> 0 | H20: =SUMIF('gm podst'!$C$3:$C$67,"N",'gm podst'!Q3:Q67) -> 32564181 | I20: =SUMIF('gm podst'!$C$3:$C$67,"N",'gm podst'!R3:R67) -> 0 | J20: =SUMIF('gm podst'!$C$3:$C$67,"N",'gm podst'!S3:S67) -> 0 | K20: =SUMIF('gm podst'!$C$3:$C$67,"N",'gm podst'!T3:T67) -> 0 | L20: =SUMIF('gm podst'!$C$3:$C$67,"N",'gm podst'!U3:U67) -> 0 | M20: =SUMIF('gm podst'!$C$3:$C$67,"N",'gm podst'!V3:V67) -> 0 | ... O20: =SUMIF('gm podst'!$C$3:$C$67,"N",'gm podst'!X3:X67) -> 0 | P20: =C20=(D20+E20) -> TRUE | Q20: =E20=SUM(F20:O20) -> TRUE
A21: nowe zadania wieloletnie | B21: =COUNTIF('gm podst'!C3:C67,"W") -> 13 | C21: =SUMIF('gm podst'!C3:C67,"W",'gm podst'!K3:K67) -> 94922182 | D21: =SUMIF('gm podst'!C3:C67,"W",'gm podst'!M3:M67) -> 50586627 | E21: =SUMIF('gm podst'!C3:C67,"W",'gm podst'!L3:L67) -> 44335555 | F21: =SUMIF('gm podst'!$C$3:$C$67,"W",'gm podst'!O3:O67) -> 0 | G21: =SUMIF('gm podst'!$C$3:$C$67,"W",'gm podst'!P3:P67) -> 0 | H21: =SUMIF('gm podst'!$C$3:$C$67,"W",'gm podst'!Q3:Q67) -> 12434992 | I21: =SUMIF('gm podst'!$C$3:$C$67,"W",'gm podst'!R3:R67) -> 17695291 | J21: =SUMIF('gm podst'!$C$3:$C$67,"W",'gm podst'!S3:S67) -> 6482109.8 | K21: =SUMIF('gm podst'!$C$3:$C$67,"W",'gm podst'!T3:T67) -> 1846500.5 | L21: =SUMIF('gm podst'!$C$3:$C$67,"W",'gm podst'!U3:U67) -> 1846500.5 | M21: =SUMIF('gm podst'!$C$3:$C$67,"W",'gm podst'!V3:V67) -> 2193001 | ... O21: =SUMIF('gm podst'!$C$3:$C$67,"W",'gm podst'!X3:X67) -> 0 | P21: =C21=(D21+E21) -> TRUE | Q21: =E21=SUM(F21:O21) -> TRUE
A22: RAZEM listy podstawowe, z tego: | B22: =B14+B18 -> 103 | C22: =C14+C18 -> 5.3925675e+08 | D22: =D14+D18 -> 2.6244826e+08 | E22: =E14+E18 -> 2.7680849e+08 | F22: =F14+F18 -> 4944921.8 | G22: =G14+G18 -> 48264265 | H22: =H14+H18 -> 1.4934257e+08 | I22: =I14+I18 -> 56999869 | ... O22: =O14+O18 -> 0 | P22: =C22=(D22+E22) -> TRUE | Q22: =E22=SUM(F22:O22) -> TRUE
A23: kontynuowane zadania wieloletnie | B23: =B15+B19 -> 34 | C23: =C15+C19 -> 2.281793e+08 | D23: =D15+D19 -> 1.0874673e+08 | E23: =E15+E19 -> 1.1943257e+08 | F23: =F15+F19 -> 4944921.8 | G23: =G15+G19 -> 48264265 | H23: =H15+H19 -> 53442499 | I23: =I15+I19 -> 12780889 | ... O23: =O15+O19 -> 0 | P23: =C23=(D23+E23) -> TRUE | Q23: =E23=SUM(F23:O23) -> TRUE
A24: nowe zadania jednoroczne | B24: =B16+B20 -> 46 | C24: =C16+C20 -> 1.1636021e+08 | D24: =D16+D20 -> 51479621 | E24: =E16+E20 -> 64880589 | F24: =F16+F20 -> 0 | G24: =G16+G20 -> 0 | H24: =H16+H20 -> 64880589 | I24: =I16+I20 -> 0 | ... O24: =O16+O20 -> 0 | P24: =C24=(D24+E24) -> TRUE | Q24: =E24=SUM(F24:O24) -> TRUE
A25: nowe zadania wieloletnie | B25: =B17+B21 -> 23 | C25: =C17+C21 -> 1.9471724e+08 | D25: =D17+D21 -> 1.0222191e+08 | E25: =E17+E21 -> 92495331 | F25: =F17+F21 -> 0 | G25: =G17+G21 -> 0 | H25: =H17+H21 -> 31019480 | I25: =I17+I21 -> 44218980 | ... O25: =O17+O21 -> 0 | P25: =C25=(D25+E25) -> TRUE | Q25: =E25=SUM(F25:O25) -> TRUE
A26: powiatowe - lista rezerwowa | B26: =COUNTA('pow rez'!K3:K19) -> 13 | C26: =SUM('pow rez'!J3:J19) -> 71188996 | D26: =SUM('pow rez'!L3:L19) -> 35302403 | E26: =SUM('pow rez'!K3:K19) -> 35886593 | F26: =SUM('pow rez'!N3:N19) -> 0 | G26: =SUM('pow rez'!O3:O19) -> 0 | H26: =SUM('pow rez'!P3:P19) -> 31090161 | I26: =SUM('pow rez'!Q3:Q19) -> 4796432 | J26: =SUM('pow rez'!R3:R19) -> 0 | K26: =SUM('pow rez'!S3:S19) -> 0 | L26: =SUM('pow rez'!T3:T19) -> 0 | M26: =SUM('pow rez'!U3:U19) -> 0 | ... O26: =SUM('pow rez'!W3:W19) -> 0 | P26: =C26=(D26+E26) -> TRUE | Q26: =E26=SUM(F26:O26) -> TRUE
A27: nowe zadania jednoroczne | B27: =COUNTIF('pow rez'!C3:C19,"N") -> 11 | C27: =SUMIF('pow rez'!C3:C19,"N",'pow rez'!J3:J19) -> 55689186 | D27: =SUMIF('pow rez'!C3:C19,"N",'pow rez'!L3:L19) -> 27552498 | E27: =SUMIF('pow rez'!C3:C19,"N",'pow rez'!K3:K19) -> 28136688 | F27: =SUMIF('pow rez'!$C$3:$C$19,"N",'pow rez'!N3:N19) -> 0 | G27: =SUMIF('pow rez'!$C$3:$C$19,"N",'pow rez'!O3:O19) -> 0 | H27: =SUMIF('pow rez'!$C$3:$C$19,"N",'pow rez'!P3:P19) -> 28136688 | I27: =SUMIF('pow rez'!$C$3:$C$19,"N",'pow rez'!Q3:Q19) -> 0 | J27: =SUMIF('pow rez'!$C$3:$C$19,"N",'pow rez'!R3:R19) -> 0 | K27: =SUMIF('pow rez'!$C$3:$C$19,"N",'pow rez'!S3:S19) -> 0 | L27: =SUMIF('pow rez'!$C$3:$C$19,"N",'pow rez'!T3:T19) -> 0 | M27: =SUMIF('pow rez'!$C$3:$C$19,"N",'pow rez'!U3:U19) -> 0 | ... O27: =SUMIF('pow rez'!$C$3:$C$19,"N",'pow rez'!W3:W19) -> 0 | P27: =C27=(D27+E27) -> TRUE | Q27: =E27=SUM(F27:O27) -> TRUE
A28: nowe zadania wieloletnie | B28: =COUNTIF('pow rez'!C3:C19,"W") -> 2 | C28: =SUMIF('pow rez'!C3:C19,"W",'pow rez'!J3:J19) -> 15499810 | D28: =SUMIF('pow rez'!C3:C19,"W",'pow rez'!L3:L19) -> 7749905 | E28: =SUMIF('pow rez'!C3:C19,"W",'pow rez'!K3:K19) -> 7749905 | F28: =SUMIF('pow rez'!$C$3:$C$19,"W",'pow rez'!N3:N19) -> 0 | G28: =SUMIF('pow rez'!$C$3:$C$19,"W",'pow rez'!O3:O19) -> 0 | H28: =SUMIF('pow rez'!$C$3:$C$19,"W",'pow rez'!P3:P19) -> 2953473 | I28: =SUMIF('pow rez'!$C$3:$C$19,"W",'pow rez'!Q3:Q19) -> 4796432 | J28: =SUMIF('pow rez'!$C$3:$C$19,"W",'pow rez'!R3:R19) -> 0 | K28: =SUMIF('pow rez'!$C$3:$C$19,"W",'pow rez'!S3:S19) -> 0 | L28: =SUMIF('pow rez'!$C$3:$C$19,"W",'pow rez'!T3:T19) -> 0 | M28: =SUMIF('pow rez'!$C$3:$C$19,"W",'pow rez'!U3:U19) -> 0 | ... O28: =SUMIF('pow rez'!$C$3:$C$19,"W",'pow rez'!W3:W19) -> 0 | P28: =C28=(D28+E28) -> TRUE | Q28: =E28=SUM(F28:O28) -> TRUE
A29: gminne - lista rezerwowa | B29: =COUNTA('gm rez'!L3:L66) -> 58 | C29: =SUM('gm rez'!K3:K66) -> 171358742 | D29: =SUM('gm rez'!M3:M66) -> 85509450 | E29: =SUM('gm rez'!L3:L66) -> 85849292 | F29: =SUM('gm rez'!O3:O66) -> 0 | G29: =SUM('gm rez'!P3:P66) -> 0 | H29: =SUM('gm rez'!Q3:Q66) -> 53074041 | I29: =SUM('gm rez'!R3:R66) -> 25627711 | J29: =SUM('gm rez'!S3:S66) -> 4015963 | K29: =SUM('gm rez'!T3:T66) -> 1092471 | L29: =SUM('gm rez'!U3:U66) -> 1011161.5 | M29: =SUM('gm rez'!V3:V66) -> 1027944 | ... O29: =SUM('gm rez'!X3:X66) -> 0 | P29: =C29=(D29+E29) -> TRUE | Q29: =E29=SUM(F29:O29) -> TRUE
A30: nowe zadania jednoroczne | B30: =COUNTIF('gm rez'!C3:C66,"N") -> 44 | C30: =SUMIF('gm rez'!C3:C66,"N",'gm rez'!K3:K66) -> 80744823 | D30: =SUMIF('gm rez'!C3:C66,"N",'gm rez'!M3:M66) -> 40633553 | E30: =SUMIF('gm rez'!C3:C66,"N",'gm rez'!L3:L66) -> 40111270 | F30: =SUMIF('gm rez'!C3:C66,"N",'gm rez'!O3:O66) -> 0 | G30: =SUMIF('gm rez'!C3:C66,"N",'gm rez'!P3:P66) -> 0 | H30: =SUMIF('gm rez'!C3:C66,"N",'gm rez'!Q3:Q66) -> 40111270 | I30: =SUMIF('gm rez'!D3:D66,"N",'gm rez'!R3:R66) -> 0 | J30: =SUMIF('gm rez'!E3:E66,"N",'gm rez'!S3:S66) -> 0 | K30: =SUMIF('gm rez'!F3:F66,"N",'gm rez'!T3:T66) -> 0 | L30: =SUMIF('gm rez'!G3:G66,"N",'gm rez'!U3:U66) -> 0 | M30: =SUMIF('gm rez'!H3:H66,"N",'gm rez'!V3:V66) -> 0 | N30: =SUMIF('gm rez'!I3:I66,"N",'gm rez'!W3:W66) -> 0 | O30: =SUMIF('gm rez'!J3:J66,"N",'gm rez'!X3:X66) -> 0 | P30: =C30=(D30+E30) -> TRUE | Q30: =E30=SUM(F30:O30) -> TRUE
A31: nowe zadania wieloletnie | B31: =COUNTIF('gm rez'!C3:C66,"W") -> 14 | C31: =SUMIF('gm rez'!C3:C66,"W",'gm rez'!K3:K66) -> 90613919 | D31: =SUMIF('gm rez'!C3:C66,"W",'gm rez'!M3:M66) -> 44875897 | E31: =SUMIF('gm rez'!C3:C66,"W",'gm rez'!L3:L66) -> 45738022 | F31: =SUMIF('gm rez'!C3:C66,"W",'gm rez'!O3:O66) -> 0 | G31: =SUMIF('gm rez'!C3:C66,"W",'gm rez'!P3:P66) -> 0 | H31: =SUMIF('gm rez'!C3:C66,"W",'gm rez'!Q3:Q66) -> 12962771 | I31: =SUMIF('gm rez'!C3:C66,"W",'gm rez'!R3:R66) -> 25627711 | J31: =SUMIF('gm rez'!C3:C66,"W",'gm rez'!S3:S66) -> 4015963 | K31: =SUMIF('gm rez'!C3:C66,"W",'gm rez'!T3:T66) -> 1092471 | L31: =SUMIF('gm rez'!C3:C66,"W",'gm rez'!U3:U66) -> 1011161.5 | M31: =SUMIF('gm rez'!C3:C66,"W",'gm rez'!V3:V66) -> 1027944 | N31: =SUMIF('gm rez'!C3:C66,"W",'gm rez'!W3:W66) -> 0 | O31: =SUMIF('gm rez'!C3:C66,"W",'gm rez'!X3:X66) -> 0 | P31: =C31=(D31+E31) -> TRUE | Q31: =E31=SUM(F31:O31) -> TRUE
A32: RAZEM listy rezerwowe, z tego: | B32: =B26+B29 -> 71 | C32: =C26+C29 -> 242547738 | D32: =D26+D29 -> 1.2081185e+08 | E32: =E26+E29 -> 1.2173588e+08 | F32: =F26+F29 -> 0 | G32: =G26+G29 -> 0 | H32: =H26+H29 -> 84164202 | I32: =I26+I29 -> 30424143 | ... O32: =O26+O29 -> 0 | P32: =C32=(D32+E32) -> TRUE | Q32: =E32=SUM(F32:O32) -> TRUE
A33: nowe zadania jednoroczne | B33: =B27+B30 -> 55 | C33: =C27+C30 -> 136434009 | D33: =D27+D30 -> 68186051 | E33: =E27+E30 -> 68247958 | F33: =F27+F30 -> 0 | G33: =G27+G30 -> 0 | H33: =H27+H30 -> 68247958 | I33: =I27+I30 -> 0 | ... O33: =O27+O30 -> 0 | P33: =C33=(D33+E33) -> TRUE | Q33: =E33=SUM(F33:O33) -> TRUE
A34: nowe zadania wieloletnie | B34: =B28+B31 -> 16 | C34: =C28+C31 -> 106113729 | D34: =D28+D31 -> 52625802 | E34: =E28+E31 -> 53487927 | F34: =F28+F31 -> 0 | G34: =G28+G31 -> 0 | H34: =H28+H31 -> 15916244 | I34: =I28+I31 -> 30424143 | ... O34: =O28+O31 -> 0 | P34: =C34=(D34+E34) -> TRUE | Q34: =E34=SUM(F34:O34) -> TRUE
A35: RAZEM listy, z tego: | B35: =B22+B32 -> 174 | C35: =C22+C32 -> 7.8180449e+08 | D35: =D22+D32 -> 3.8326011e+08 | E35: =E22+E32 -> 3.9854438e+08 | F35: =F22+F32 -> 4944921.8 | G35: =G22+G32 -> 48264265 | H35: =H22+H32 -> 2.3350677e+08 | I35: =I22+I32 -> 87424012 | ... O35: =O22+O32 -> 0 | P35: =C35=(D35+E35) -> TRUE | Q35: =E35=SUM(F35:O35) -> TRUE
A36: kontynuowane zadania wieloletnie | B36: =B23 -> 34 | C36: =C23 -> 2.281793e+08 | D36: =D23 -> 1.0874673e+08 | E36: =E23 -> 1.1943257e+08 | F36: =F23 -> 4944921.8 | G36: =G23 -> 48264265 | H36: =H23 -> 53442499 | I36: =I23 -> 12780889 | ... O36: =O23 -> 0 | P36: =C36=(D36+E36) -> TRUE | Q36: =E36=SUM(F36:O36) -> TRUE
A37: nowe zadania jednoroczne | B37: =B24+B33 -> 101 | C37: =C24+C33 -> 2.5279422e+08 | D37: =D24+D33 -> 1.1966567e+08 | E37: =E24+E33 -> 1.3312855e+08 | F37: =F24+F33 -> 0 | G37: =G24+G33 -> 0 | H37: =H24+H33 -> 1.3312855e+08 | I37: =I24+I33 -> 0 | ... O37: =O24+O33 -> 0 | P37: =C37=(D37+E37) -> TRUE | Q37: =E37=SUM(F37:O37) -> TRUE
A38: nowe zadania wieloletnie | B38: =B25+B34 -> 39 | C38: =C25+C34 -> 3.0083097e+08 | D38: =D25+D34 -> 1.5484771e+08 | E38: =E25+E34 -> 1.4598326e+08 | F38: =F25+F34 -> 0 | G38: =G25+G34 -> 0 | H38: =H25+H34 -> 46935724 | I38: =I25+I34 -> 74643123 | ... O38: =O25+O34 -> 0 | P38: =C38=(D38+E38) -> TRUE | Q38: =E38=SUM(F38:O38) -> TRUE
B40: =B35=B36+B37+B38 -> TRUE | C40: =C35=C36+C37+C38 -> TRUE | D40: =D35=D36+D37+D38 -> TRUE | E40: =E35=E36+E37+E38 -> TRUE | F40: =F35=F36+F37+F38 -> TRUE | G40: =G35=G36+G37+G38 -> TRUE | H40: =H35=H36+H37+H38 -> TRUE | I40: =I35=I36+I37+I38 -> TRUE | ... O40: =O35=O36+O37+O38 -> TRUE
B41: =B23=B36 -> TRUE | C41: =C23=C36 -> TRUE | D41: =D23=D36 -> TRUE | E41: =E23=E36 -> TRUE | F41: =F23=F36 -> TRUE | G41: =G23=G36 -> TRUE | H41: =H23=H36 -> TRUE | I41: =I23=I36 -> TRUE | ... O41: =O23=O36 -> TRUE
B42: =B16+B20+B27+B30=B37 -> TRUE | C42: =C16+C20+C27+C30=C37 -> TRUE | D42: =D16+D20+D27+D30=D37 -> TRUE | E42: =E16+E20+E27+E30=E37 -> TRUE | F42: =F16+F20+F27+F30=F37 -> TRUE | G42: =G16+G20+G27+G30=G37 -> TRUE | H42: =H16+H20+H27+H30=H37 -> TRUE | I42: =I16+I20+I27+I30=I37 -> TRUE | ... O42: =O16+O20+O27+O30=O37 -> TRUE
B43: =B17+B21+B28+B31=B38 -> TRUE | C43: =C17+C21+C28+C31=C38 -> TRUE | D43: =D17+D21+D28+D31=D38 -> TRUE | E43: =E17+E21+E28+E31=E38 -> TRUE | F43: =F17+F21+F28+F31=F38 -> TRUE | G43: =G17+G21+G28+G31=G38 -> TRUE | H43: =H17+H21+H28+H31=H38 -> TRUE | I43: =I17+I21+I28+I31=I38 -> TRUE | ... O43: =O17+O21+O28+O31=O38 -> TRUE
B44: =B14=B15+B16+B17 -> TRUE | C44: =C14=C15+C16+C17 -> TRUE | D44: =D14=D15+D16+D17 -> TRUE | E44: =E14=E15+E16+E17 -> TRUE | F44: =F14=F15+F16+F17 -> TRUE | G44: =G14=G15+G16+G17 -> TRUE | H44: =H14=H15+H16+H17 -> TRUE | I44: =I14=I15+I16+I17 -> TRUE | ... O44: =O14=O15+O16+O17 -> TRUE
B45: =B18=B19+B20+B21 -> TRUE | C45: =C18=C19+C20+C21 -> TRUE | D45: =D18=D19+D20+D21 -> TRUE | E45: =E18=E19+E20+E21 -> TRUE | F45: =F18=F19+F20+F21 -> TRUE | G45: =G18=G19+G20+G21 -> TRUE | H45: =H18=H19+H20+H21 -> TRUE | I45: =I18=I19+I20+I21 -> TRUE | ... O45: =O18=O19+O20+O21 -> TRUE
B46: =B22=B23+B24+B25 -> TRUE | C46: =C22=C23+C24+C25 -> TRUE | D46: =D22=D23+D24+D25 -> TRUE | E46: =E22=E23+E24+E25 -> TRUE | F46: =F22=F23+F24+F25 -> TRUE | G46: =G22=G23+G24+G25 -> TRUE | H46: =H22=H23+H24+H25 -> TRUE | I46: =I22=I23+I24+I25 -> TRUE | ... O46: =O22=O23+O24+O25 -> TRUE
B47: =B26=B27+B28 -> TRUE | C47: =C26=C27+C28 -> TRUE | D47: =D26=D27+D28 -> TRUE | E47: =E26=E27+E28 -> TRUE | F47: =F26=F27+F28 -> TRUE | G47: =G26=G27+G28 -> TRUE | H47: =H26=H27+H28 -> TRUE | I47: =I26=I27+I28 -> TRUE | ... O47: =O26=O27+O28 -> TRUE
B48: =B29=B30+B31 -> TRUE | C48: =C29=C30+C31 -> TRUE | D48: =D29=D30+D31 -> TRUE | E48: =E29=E30+E31 -> TRUE | F48: =F29=F30+F31 -> TRUE | G48: =G29=G30+G31 -> TRUE | H48: =H29=H30+H31 -> TRUE | I48: =I29=I30+I31 -> TRUE | ... O48: =O29=O30+O31 -> TRUE
B49: =B32=+B33+B34 -> TRUE | C49: =C32=+C33+C34 -> TRUE | D49: =D32=+D33+D34 -> TRUE | E49: =E32=+E33+E34 -> TRUE | F49: =F32=+F33+F34 -> TRUE | G49: =G32=+G33+G34 -> TRUE | H49: =H32=+H33+H34 -> TRUE | I49: =I32=+I33+I34 -> TRUE | ... O49: =O32=+O33+O34 -> TRUE

Sheet pow podst
A1: L.p. | B1: Nr ewid. | C1: Zadanie nowe/kontynuowane/wieloletnie [N/K/W] | D1: Jednostka Samorządu Terytorialnego | E1: TERC | F1: Nazwa zadania | G1: Rodzaj zadania | H1: Długość odcinka (w km) | I1: Okres realizacji zadania | J1: Ogółem wartość projektu (w zł) | K1: Wnioskowana kwota dofinansowania (w zł) | L1: Deklarowana kwota środków własnych (w zł) | M1: % dofinansowania | N1: Kwota dofinansowania w podziale na lata
N2: 2019 | O2: 2020 | P2: 2021 | Q2: 2022 | R2: 2023 | S2: 2024 | T2: 2025 | U2: 2026 | V2: 2027 | W2: 2028 | X2: spr-lata | Y2: spr-procent | Z2: spr-dof | AA2: spr-montaż
A3: 1 | B3: 152/19 | C3: K | D3: POWIAT CZĘSTOCHOWSKI | E3: 2404 | F3: Przebudowa ciągu dróg powiatowych nr 1070 S Kłomnice-Kruszyna, nr 1025 S Kruszyna-Borowno i nr 1019 S Borowno-Witkowice, gmina Kłomnice, Kruszyna i Mykanów | G3: P | H3: 15.569 | I3: wrzesień 2019 - sierpień 2022 | J3: 29242720 | K3: 16083496 | L3: 13159224 | M3: =K3/J3 -> 0.55 | N3: 1226775 | O3: 4629929 | P3: 5112572.5 | Q3: 5114219.5 | X3: =K3=SUM(N3:W3) -> TRUE | Y3: =ROUND(K3/J3,4) -> 0.55 | Z3: =Y3=M3 -> FALSE | AA3: =J3=K3+L3 -> TRUE
A4: 2 | B4: 165/19 | C4: K | D4: MIASTO MYSŁOWICE | E4: 2470011 | F4: Przebudowa ul. Laryskiej w Mysłowicach - I etap | G4: P | H4: 3.5 | I4: październik 2019 - lipiec 2021 | J4: 16509042 | K4: 7616157.6 | L4: 8892884.1 | M4: 0.46 | N4: 228484.8 | O4: 3579594.4 | P4: 3808078.4 | X4: =K4=SUM(N4:W4) -> TRUE | Y4: =ROUND(K4/J4,4) -> 0.4613 | Z4: =Y4=M4 -> FALSE | AA4: =J4=K4+L4 -> TRUE
A5: 3 | B5: 150/19 | C5: K | D5: POWIAT CZĘSTOCHOWSKI | E5: 2404 | F5: Przebudowa ciągu dróg powiatowych nr 1057 S na odc. Huta Stara A - Poczesna i nr 1056 S na odc. Mazury - Młynek, gmina Poczesna | G5: P | H5: 3.35 | I5: sierpień 2019 - sierpień 2022 | J5: 7600000 | K5: 4180000 | L5: 3420000 | M5: =K5/J5 -> 0.55 | N5: 606100 | O5: 1324400 | P5: 1324400 | Q5: 925100 | X5: =K5=SUM(N5:W5) -> TRUE | Y5: =ROUND(K5/J5,4) -> 0.55 | Z5: =Y5=M5 -> TRUE | AA5: =J5=K5+L5 -> TRUE
A6: 4 | B6: 57/19 | C6: K | D6: POWIAT MIKOŁOWSKI | E6: 2408 | F6: Przebudowa ul. Żorskiej w Orzeszu - etap II | G6: P | H6: 2.77 | I6: wrzesień 2019 - październik 2021 | J6: 7478342.8 | K6: 4113088 | L6: 3365254.8 | M6: =K6/J6 -> 0.54999993 | N6: 27500 | O6: 2042794 | P6: 2042794 | X6: =K6=SUM(N6:W6) -> TRUE | Y6: =ROUND(K6/J6,4) -> 0.55 | Z6: =Y6=M6 -> FALSE | AA6: =J6=K6+L6 -> TRUE
A7: 5 | B7: 177/19 | C7: K | D7: MIASTO CHORZÓW | E7: 2463011 | F7: Przebudowa ulicy 3 Maja w Chorzowie | G7: P | H7: 2.133 | I7: sierpień 2019 - czerwiec 2022 | J7: 24781778 | K7: 12390889 | L7: 12390889 | M7: 0.5 | N7: 1855000 | O7: 4177811.8 | P7: 4395000 | Q7: 1963077 | X7: =K7=SUM(N7:W7) -> TRUE | Y7: =ROUND(K7/J7,4) -> 0.5 | Z7: =Y7=M7 -> TRUE | AA7: =J7=K7+L7 -> TRUE
A8: 6 | B8: 210/19 | C8: K | D8: MIASTO JAWORZNO | E8: 2468011 | F8: Przebudowa ul. Martyniaków 6809 S w Jaworznie | G8: P | H8: 1.92 | I8: styczeń 2020 - październik 2022 | J8: 7841830.9 | K8: 3920915 | L8: 3920915.9 | M8: 0.5 | N8: 0 | O8: 500000 | P8: 1900000 | Q8: 1520915 | X8: =K8=SUM(N8:W8) -> TRUE | Y8: =ROUND(K8/J8,4) -> 0.5 | Z8: =Y8=M8 -> TRUE | AA8: =J8=K8+L8 -> TRUE
A9: 7 | B9: 262/19 | C9: K | D9: MIASTO JASTRZĘBIE - ZDRÓJ | E9: 2467011 | F9: Rozbudowa odcinka al. Piłsudskiego wraz ze skrzyżowaniem oraz budowa wiaduktu w Jastrzębiu - Zdroju | G9: B | H9: 0.596 | I9: sierpień 2020 - październik 2022 | J9: 18369221 | K9: 9184610.7 | L9: 9184610.6 | M9: 0.5 | N9: 0 | O9: 2700000 | P9: 6484610.7 | X9: =K9=SUM(N9:W9) -> TRUE | Y9: =ROUND(K9/J9,4) -> 0.5 | Z9: =Y9=M9 -> TRUE | AA9: =J9=K9+L9 -> TRUE
A10: 8 | B10: 240/19 | C10: K | D10: POWIAT PSZCZYŃSKI | E10: 2410 | F10: Przebudowa dróg powiatowych 4149S tj. ul. Szkolnej w Porębie i ul. Porębskiej w Radostowicach | G10: P | H10: 2.237 | I10: czerwiec 2020 - maj 2022 | J10: 5498316.8 | K10: 3024074.3 | L10: 2474242.6 | M10: 0.55 | N10: 0 | O10: 3024074.3 | X10: =K10=SUM(N10:W10) -> TRUE | Y10: =ROUND(K10/J10,4) -> 0.55 | Z10: =Y10=M10 -> FALSE | AA10: =J10=K10+L10 -> TRUE
A11: 9 | B11: 328/19 | C11: K | D11: POWIAT RACIBORSKI | E11: 2411 | F11: Rozbudowa odcinka drogi powiatowej nr 3504S w Kornicach na odcinku od początku skrzyżowania z DP 3525S do km 2+386 i przebudowa na odcinku od km 1+966 do km 1+589 | G11: B | H11: 0.773 | I11: lipiec 2020 - listopad 2021 | J11: 7752500.5 | K11: =O11+P11 -> 4242427.2 | L11: =J11-K11 -> 3510073.3 | M11: 0.55 | N11: 0 | O11: 2750000 | P11: 1492427.2 | X11: =K11=SUM(N11:W11) -> TRUE | Y11: =ROUND(K11/J11,4) -> 0.5472 | Z11: =Y11=M11 -> FALSE | AA11: =J11=K11+L11 -> TRUE
A12: 10 | B12: 310/19 | C12: K | D12: MIASTO MYSŁOWICE | E12: 2470011 | F12: Przebudowa ul. 3 Maja w Mysłowicach od ul. Laryskiej do ul. Dzierżonia i Orła Białego | G12: P | H12: 0.833 | I12: lipiec 2020 - listopad 2022 | J12: =K12+L12 -> 5255405.5 | K12: 2627702.8 | L12: 2627702.8 | M12: 0.5 | N12: 0 | O12: 0 | P12: =K12 -> 2627702.8 | X12: =K12=SUM(N12:W12) -> TRUE | Y12: =ROUND(K12/J12,4) -> 0.5 | Z12: =Y12=M12 -> TRUE | AA12: =J12=K12+L12 -> TRUE
A13: 11 | B13: 329/19 | C13: K | D13: POWIAT RACIBORSKI | E13: 2411 | F13: Przebudowa drogi powiatowej nr 3517S w Tworkowie od skrzyżowania z ulicą Zamkową do przejazdu kolejowego oraz remont drogi powiatowej nr 3516S pomiędzy skrzyżowaniami z DK 45 w Tworkowie i przebudowa drogi powiatowej nr 3536S w Górkach Śląskich od skrzyżowania z ul. Rudzką do końca działki drogowej nr 257/3 od strony DW 919 | G13: P | H13: 3.926 | I13: sierpień 2020 - listopad 2021 | J13: 5825719.1 | K13: =O13+P13 -> 3204145.5 | L13: =J13-K13 -> 2621573.6 | M13: =K13/J13 -> 0.55 | N13: 0 | O13: 2740000 | P13: 464145.51 | X13: =K13=SUM(N13:W13) -> TRUE | Y13: =ROUND(K13/J13,4) -> 0.55 | Z13: =Y13=M13 -> FALSE | AA13: =J13=K13+L13 -> TRUE
A14: 12 | B14: 306/19 | C14: K | D14: MIASTO CHORZÓW | E14: 2463011 | F14: Przebudowa ulicy Hajduckiej oraz fragmentu Alei Bojowników o Wolność i Demokrację w Chorzowie | G14: P | H14: 1.183 | I14: kwiecień 2020 - grudzień 2021 | J14: 6462376.6 | K14: 3231188.3 | L14: 3231188.3 | M14: 0.5 | N14: 0 | O14: 1735412.1 | P14: 1495776.3 | X14: =K14=SUM(N14:W14) -> TRUE | Y14: =ROUND(K14/J14,4) -> 0.5 | Z14: =Y14=M14 -> TRUE | AA14: =J14=K14+L14 -> TRUE
A15: 13 | B15: 270/19 | C15: K | D15: MIASTO SOSNOWIEC | E15: 2475011 | F15: Przebudowa ul. Ostrogórskiej na odcinku od skrzyżowania z ul. Jagiellońską do skrzyżowania z ul. 1 Maja w ramach zadania inwestycyjnego "Przebudowa ul. Ostrogórskiej w Sosnowcu" | G15: P | H15: 0.636 | I15: lipiec 2020 - październik 2021 | J15: 6638019.9 | K15: 3319010 | L15: 3319010 | M15: =K15/J15 -> 0.5 | N15: 0 | O15: 1285571.2 | P15: 2033438.8 | X15: =K15=SUM(N15:W15) -> TRUE | Y15: =ROUND(K15/J15,4) -> 0.5 | Z15: =Y15=M15 -> FALSE | AA15: =J15=K15+L15 -> TRUE
A16: 14 | B16: 447/20 | C16: W | D16: MIASTO ŚWIĘTOCHŁOWICE | E16: 2476011 | F16: Przebudowa układu komunikacyjnego w ciągu ul. Łagiewnickiej w Świętochłowicach wraz z przebudową infrastruktury tramwajowej | G16: P | H16: 2.026 | I16: czerwiec 2021 - październik 2023 | J16: =K16+L16 -> 25103199 | K16: 12551598 | L16: 12551600 | M16: 0.5 | N16: 0 | O16: 0 | P16: 2500000 | Q16: 7500000 | R16: 2551598.5 | X16: =K16=SUM(N16:W16) -> TRUE | Y16: =ROUND(K16/J16,4) -> 0.5 | Z16: =Y16=M16 -> TRUE | AA16: =J16=K16+L16 -> TRUE
A17: 15 | B17: 466/20 | C17: N | D17: POWIAT ZAWIERCIAŃSKI | E17: 2416 | F17: Przebudowa drogi powiatowej nr 1725S na odcinku Włodowice - Morsko oraz Skarżyce - Żerkowice | G17: P | H17: 6.189 | I17: sierpień 2021 - lipiec 2022 | J17: 13656241 | K17: =J17*M17 -> 10242181 | L17: =J17-K17 -> 3414060.2 | M17: 0.75 | N17: 0 | O17: 0 | P17: =K17 -> 10242181 | X17: =K17=SUM(N17:W17) -> TRUE | Y17: =ROUND(K17/J17,4) -> 0.75 | Z17: =Y17=M17 -> TRUE | AA17: =J17=K17+L17 -> TRUE
A18: 16 | B18: 413/20 | C18: W | D18: POWIAT MYSZKOWSKI | E18: 2409 | F18: Przebudowa wiaduktu drogowego w ciągu drogi powiatowej nr 1713 S w km 6+517 nad torami PKP w m. Kotowice oraz chodnika | G18: P | H18: 0.884 | I18: kwiecień 2021 - marzec 2022 | J18: 5886023.3 | K18: 3237312.8 | L18: 2648710.5 | M18: 0.55 | N18: 0 | O18: 0 | P18: 2141369.5 | Q18: 1095943.4 | X18: =K18=SUM(N18:W18) -> TRUE | Y18: =ROUND(K18/J18,4) -> 0.55 | Z18: =Y18=M18 -> TRUE | AA18: =J18=K18+L18 -> TRUE
A19: 17 | B19: 434/20 | C19: N | D19: MIASTO JASTRZĘBIE-ZDRÓJ | E19: 2467011 | F19: Rozbudowa i przebudowa ulicy Wyzwolenia (7814S) w Jastrzębiu-Zdroju | G19: B | H19: 0.563 | I19: sierpień 2021 - lipiec 2022 | J19: 2000000 | K19: 1000000 | L19: =J19-K19 -> 1000000 | M19: 0.5 | N19: 0 | O19: 0 | P19: 1000000 | X19: =K19=SUM(N19:W19) -> TRUE | Y19: =ROUND(K19/J19,4) -> 0.5 | Z19: =Y19=M19 -> TRUE | AA19: =J19=K19+L19 -> TRUE
A20: 18 | B20: 515/20 | C20: N | D20: POWIAT ŻYWIECKI | E20: 2417 | F20: Przebudowa drogi powiatowej nr 1425 S Wieprz - Juszczyna - Jeleśnia w km od 0+028 do km 0+658 w miejscowości Wieprz w Gminie Radziechowy - Wieprz wraz z budową kanalizacji deszczowej, kanału technologicznego i przebudową kolidujących urządzeń obcych | G20: P | H20: 0.63 | I20: lipiec 2021 - czerwiec 2022 | J20: 2196831.4 | K20: 1757465.1 | L20: 439366.3 | M20: 0.8 | N20: 0 | O20: 0 | P20: =K20 -> 1757465.1 | X20: =K20=SUM(N20:W20) -> TRUE | Y20: =ROUND(K20/J20,4) -> 0.8 | Z20: =Y20=M20 -> TRUE | AA20: =J20=K20+L20 -> TRUE
A21: 19 | B21: 547/20 | C21: W | D21: POWIAT CZĘSTOCHOWSKI | E21: 2404 | F21: Przebudowa drogi powiatowej nr 1093 S na odc. Czepurka - Piasek, Gmina Janów | G21: P | H21: 2.178 | I21: kwiecień 2021 - październik 2022 | J21: 4156516.5 | K21: 2078258.2 | L21: 2078258.3 | M21: 0.5 | N21: 0 | O21: 0 | P21: 1039129.1 | Q21: 1039129.1 | X21: =K21=SUM(N21:W21) -> TRUE | Y21: =ROUND(K21/J21,4) -> 0.5 | Z21: =Y21=M21 -> TRUE | AA21: =J21=K21+L21 -> TRUE
A22: 20 | B22: 481/20 | C22: W | D22: MIASTO CZĘSTOCHOWA | E22: 2464011 | F22: Rozbudowa ul. Jesiennej od ul. Rydza-Śmigłego do Al. 11-go Listopada w Częstochowie | G22: B | H22: 1.185 | I22: sierpień 2021 - grudzień 2022 | J22: 9724985 | K22: 4862492.5 | L22: =J22-K22 -> 4862492.5 | M22: 0.5 | N22: 0 | O22: 0 | P22: 1620830.5 | Q22: 3241662 | X22: =K22=SUM(N22:W22) -> TRUE | Y22: =ROUND(K22/J22,4) -> 0.5 | Z22: =Y22=M22 -> TRUE | AA22: =J22=K22+L22 -> TRUE
A23: 21 | B23: 529/20 | C23: N | D23: POWIAT BIERUŃSKO-LĘDZIŃSKI | E23: 2414 | F23: Przebudowa i rozbudowa drogi powiatowej 5900S, ul. Ruchu Oporu w Bojszowach w zakresie budowy ścieżki rowerowej | G23: P | H23: 2.48 | I23: kwiecień 2021 - wrzesień 2021 | J23: 2449988.9 | K23: 1224994.5 | L23: 1224994.5 | M23: 0.5 | N23: 0 | O23: 0 | P23: 1224994.5 | X23: =K23=SUM(N23:W23) -> TRUE | Y23: =ROUND(K23/J23,4) -> 0.5 | Z23: =Y23=M23 -> TRUE | AA23: =J23=K23+L23 -> TRUE
A24: 22 | B24: 502/20 | C24: W | D24: POWIAT TARNOGÓRSKI | E24: 2413 | F24: Remont DP2901S i DP2902S na terenie gminy Tworóg i Zbrosławice wraz z przebudową w zakresie budowy elementów uspokojenia ruchu na wlotach do terenów zabudowy | G24: R | H24: 6.603 | I24: maj 2021 - listopad 2022 | J24: 5500000 | K24: 2750000 | L24: =J24-K24 -> 2750000 | M24: 0.5 | N24: 0 | O24: 0 | P24: 1000000 | Q24: 1750000 | X24: =K24=SUM(N24:W24) -> TRUE | Y24: =ROUND(K24/J24,4) -> 0.5 | Z24: =Y24=M24 -> TRUE | AA24: =J24=K24+L24 -> TRUE
A25: 23 | B25: 435/20 | C25: N | D25: POWIAT GLIWICKI | E25: 2405 | F25: Przebudowa i remont drogi powiatowej Nr 2909S ul. Zabrska w Paniówkach | G25: R | H25: 1.445 | I25: maj 2021 - marzec 2022 | J25: 1175638 | K25: 587819.01 | L25: =J25-K25 -> 587819.01 | M25: 0.5 | N25: 0 | O25: 0 | P25: =K25 -> 587819.01 | X25: =K25=SUM(N25:W25) -> TRUE | Y25: =ROUND(K25/J25,4) -> 0.5 | Z25: =Y25=M25 -> TRUE | AA25: =J25=K25+L25 -> TRUE
A26: 24 | B26: 414/20 | C26: N | D26: POWIAT MYSZKOWSKI | E26: 2409 | F26: Przebudowa drogi powiatowej nr 2312 S relacji Cynków - Krusin wraz z budową chodnika i kanalizacji deszczowej w miejscowości Cynków | G26: P | H26: 1.43 | I26: kwiecień 2021 - wrzesień 2021 | J26: 2454154.2 | K26: 1349784.8 | L26: 1104369.4 | M26: 0.55 | N26: 0 | O26: 0 | P26: 1349784.8 | Q26: 0 | R26: 0 | X26: =K26=SUM(N26:W26) -> TRUE | Y26: =ROUND(K26/J26,4) -> 0.55 | Z26: =Y26=M26 -> TRUE | AA26: =J26=K26+L26 -> TRUE
A27: 25 | B27: 510/20 | C27: N | D27: MIASTO RYBNIK | E27: 2473011 | F27: Przebudowa ul. Komisji Edukacji Narodowej w Rybniku | G27: P | H27: 0.337 | I27: listopad 2021 - czerwiec 2022 | J27: 1271908.8 | K27: 635954.41 | L27: 635954.41 | M27: 0.5 | N27: 0 | O27: 0 | P27: 635954.41 | X27: =K27=SUM(N27:W27) -> TRUE | Y27: =ROUND(K27/J27,4) -> 0.5 | Z27: =Y27=M27 -> TRUE | AA27: =J27=K27+L27 -> TRUE
A28: 26 | B28: 543/20 | C28: N | D28: POWIAT CIESZYŃSKI | E28: 2403 | F28: Rozbudowa drogi powiatowej 2607 S - ul.Cieszyńskiej w Bażanowicach od obrębu skrzyżowania z ul.Folwarczną do skrzyżowania z ul.Skotnia | G28: B | H28: 0.293 | I28: czerwiec 2021 - grudzień 2021 | J28: 1994762 | K28: 1097119.1 | L28: =J28-K28 -> 897642.9 | M28: 0.55 | N28: 0 | O28: 0 | P28: 1097119.1 | X28: =K28=SUM(N28:W28) -> TRUE | Y28: =ROUND(K28/J28,4) -> 0.55 | Z28: =Y28=M28 -> TRUE | AA28: =J28=K28+L28 -> TRUE
A29: 27 | B29: 440/20 | C29: N | D29: MIASTO RUDA ŚLĄSKA | E29: 2472011 | F29: Rozbudowa ul. Nowy Świat (8412S) i ul. Halembskiej (8411S) w Rudzie Śląskiej | G29: B | H29: 0.679 | I29: lipiec 2021 - kwiecień 2022 | J29: 2071611.3 | K29: 1035805.7 | L29: 1035805.7 | M29: 0.5 | N29: 0 | O29: 0 | P29: 1035805.7 | X29: =K29=SUM(N29:W29) -> TRUE | Y29: =ROUND(K29/J29,4) -> 0.5 | Z29: =Y29=M29 -> TRUE | AA29: =J29=K29+L29 -> TRUE
A30: 28 | B30: 436/20 | C30: W | D30: POWIAT GLIWICKI | E30: 2405 | F30: Przebudowa i remont drogi powiatowej Nr 2901S i 2902S na terenie Gminy Wielowieś | G30: R | H30: 3.395 | I30: wrzesień 2021 - październik 2022 | J30: 4200000 | K30: 2100000 | L30: =J30-K30 -> 2100000 | M30: 0.5 | N30: 0 | O30: 0 | P30: 100000 | Q30: 2000000 | X30: =K30=SUM(N30:W30) -> TRUE | Y30: =ROUND(K30/J30,4) -> 0.5 | Z30: =Y30=M30 -> TRUE | AA30: =J30=K30+L30 -> TRUE
A31: 29 | B31: 429/20 | C31: N | D31: POWIAT WODZISŁAWSKI | E31: 2415 | F31: Przebudowa drogi powiatowej nr 5003S ( ul. Radlińska) w Wodzisławiu Śl. | G31: P | H31: 0.833 | I31: lipiec 2021- czerwiec 2022 | J31: 3047671.3 | K31: 1676219.2 | L31: =J31-K31 -> 1371452.1 | M31: 0.55 | N31: 0 | O31: 0 | P31: =K31 -> 1676219.2 | Q31: 0 | X31: =K31=SUM(N31:W31) -> TRUE | Y31: =ROUND(K31/J31,4) -> 0.55 | Z31: =Y31=M31 -> TRUE | AA31: =J31=K31+L31 -> TRUE
A32: 30 | B32: 504/20 | C32: N | D32: POWIAT ŻYWIECKI | E32: 2417 | F32: Przebudowa odcinka drogi powiatowej nr 1405 S Żywiec-Lipowa-Buczkowice (ul. Leśnianka) w km od 0+374 do 1+191 w Żywcu | G32: P | H32: 0.817 | I32: lipiec 2021 - czerwiec 2022 | J32: 3328349.7 | K32: 2662679.8 | L32: 665669.95 | M32: 0.8 | N32: 0 | O32: 0 | P32: =K32 -> 2662679.8 | X32: =K32=SUM(N32:W32) -> TRUE | Y32: =ROUND(K32/J32,4) -> 0.8 | Z32: =Y32=M32 -> TRUE | AA32: =J32=K32+L32 -> TRUE
A33: 31 | B33: 465/20 | C33: N | D33: POWIAT ZAWIERCIAŃSKI | E33: 2416 | F33: Przebudowa drogi powiatowej nr 1726S Kromołów - Kiełkowice | G33: P | H33: 5.706 | I33: czerwiec 2021 - grudzień 2021 | J33: =K33+L33 -> 4970389.2 | K33: 3727791.9 | L33: 1242597.3 | M33: 0.75 | N33: 0 | O33: 0 | P33: =K33 -> 3727791.9 | X33: =K33=SUM(N33:W33) -> TRUE | Y33: =ROUND(K33/J33,4) -> 0.75 | Z33: =Y33=M33 -> TRUE | AA33: =J33=K33+L33 -> TRUE
A34: 32 | B34: 505/20 | C34: N | D34: POWIAT RACIBORSKI | E34: 2411 | F34: Przebudowa drogi powiatowej nr 3529S w Borucinie od skrzyżowania z gminnym odcinkiem ul. Doktora Rostka do końca obszaru zabudowanego w kierunku Krzanowic | G34: P | H34: 0.6 | I34: lipiec 2021 - czerwiec 2022 | J34: 1689159 | K34: 929037.45 | L34: 760121.55 | M34: 0.55 | N34: 0 | O34: 0 | P34: 929037.45 | Q34: 0 | X34: =K34=SUM(N34:W34) -> TRUE | Y34: =ROUND(K34/J34,4) -> 0.55 | Z34: =Y34=M34 -> TRUE | AA34: =J34=K34+L34 -> TRUE
A35: 33 | B35: 506/20 | C35: N | D35: POWIAT RACIBORSKI | E35: 2411 | F35: Przebudowa drogi powiatowej nr 3540S w Kobyli na odcinku od cieku wodnego Żabnica do końca dz. 824/80 od strony Miasta Racibórz | G35: P | H35: 0.958 | I35: lipiec 2021 - czerwiec 2022 | J35: 2340159.8 | K35: 1287087.9 | L35: 1053071.9 | M35: 0.55 | N35: 0 | O35: 0 | P35: 1287087.9 | X35: =K35=SUM(N35:W35) -> TRUE | Y35: =ROUND(K35/J35,4) -> 0.55 | Z35: =Y35=M35 -> TRUE | AA35: =J35=K35+L35 -> TRUE
A36: 34 | B36: 448/20 | C36: N | D36: POWIAT LUBLINIECKI | E36: 2407 | F36: Przebudowa odcinka drogi powiatowej nr 2301 S (ul. Szkolna) w m. Wędzina | G36: P | H36: 0.96 | I36: styczeń 2021 - sierpień 2022 | J36: 2909932 | K36: 1600462.6 | L36: =J36-K36 -> 1309469.4 | M36: 0.55 | N36: 0 | O36: 0 | P36: 1600462.6 | X36: =K36=SUM(N36:W36) -> TRUE | Y36: =ROUND(K36/J36,4) -> 0.55 | Z36: =Y36=M36 -> TRUE | AA36: =J36=K36+L36 -> TRUE
A37: 35 | B37: 540/20 | C37: N | D37: POWIAT CIESZYŃSKI | E37: 2403 | F37: Remont drogi powiatowej 2616 S ul. Stalmacha w Skoczowie na odcinku ok. 0,6km wraz z elementami przebudowy | G37: R | H37: 0.635 | I37: marzec 2021 - grudzień 2021 | J37: 2730918.8 | K37: 1502005.3 | L37: =J37-K37 -> 1228913.4 | M37: 0.55 | N37: 0 | O37: 0 | P37: 1502005.3 | X37: =K37=SUM(N37:W37) -> TRUE | Y37: =ROUND(K37/J37,4) -> 0.55 | Z37: =Y37=M37 -> TRUE | AA37: =J37=K37+L37 -> TRUE
A38: 36 | B38: 517/20 | C38: W | D38: POWIAT BIELSKI (zadanie przeniesione na listę podstawową) | E38: 2402 | F38: Przebudowa drogi powiatowej 4424 S na długości 3459 mb w miejscowości Rudzica - Międzyrzecze Dolne - Międzyrzecze Górne | G38: P | H38: 3.459 | I38: czerwiec 2021 - kwiecień 2023 | J38: 17646272 | K38: 8823136 | L38: =J38-K38 -> 8823136 | M38: 0.5 | N38: 0 | O38: 0 | P38: 4161568 | Q38: 4161568 | R38: 500000 | X38: =K38=SUM(N38:W38) -> TRUE | Y38: =ROUND(K38/J38,4) -> 0.5 | Z38: =Y38=M38 -> TRUE | AA38: =J38=K38+L38 -> TRUE
A39: 37 | B39: 514/20 | C39: W | D39: POWIAT PSZCZYŃSKI (zadanie przeniesione na listę podstawową) | E39: 2410 | F39: Przebudowa drogi powiatowej nr 4103S tj. ul. Pawiej w Wiśle Małej i ul. Jedności w Studzionce - etap II | G39: P | H39: 1.735 | I39: marzec 2021 - sierpień 2022 | J39: 5011265 | K39: 2505632.5 | L39: =J39-K39 -> 2505632.5 | M39: 0.5 | N39: 0 | O39: 0 | P39: 1000000 | Q39: 1505632.5 | X39: =K39=SUM(N39:W39) -> TRUE | Y39: =ROUND(K39/J39,4) -> 0.5 | Z39: =Y39=M39 -> TRUE | AA39: =J39=K39+L39 -> TRUE
A40: 38 | B40: 431/20 | C40: W | D40: POWIAT WODZISŁAWSKI (zadanie przeniesione na listę podstawową) | E40: 2415 | F40: Przebudowa drogi powiatowej nr 3512S (ul. Raciborska) Bełsznica-Rogów | G40: P | H40: 1.963 | I40: październik 2021 - lipiec 2023 | J40: 13288970 | K40: =P40+Q40 -> 7297141.5 | L40: =J40-K40 -> 5991828.5 | M40: 0.55 | N40: 0 | O40: 0 | P40: 3648570.8 | Q40: 3648570.8 | X40: =K40=SUM(N40:W40) -> TRUE | Y40: =ROUND(K40/J40,4) -> 0.5491 | Z40: =Y40=M40 -> FALSE | AA40: =J40=K40+L40 -> TRUE
A41: 39* | B41: 516/20 | C41: W | D41: POWIAT BIELSKI (zadanie przeniesione na listę podstawową) | E41: 2402 | F41: Przebudowa ciągu dróg powiatowych 4489 S oraz 4488 S na długości 2415 mb w Dankowicach i Starej Wsi | G41: P | H41: 2.415 | I41: czerwiec 2021 - sierpień 2022 | J41: 9277828 | K41: =P41+Q41 -> 1954203.4 | L41: =J41-K41 -> 7323624.6 | M41: 0.5 | N41: 0 | O41: 0 | P41: 1373020.2 | Q41: 581183.16 | X41: =K41=SUM(N41:W41) -> TRUE | Y41: =ROUND(K41/J41,4) -> 0.2106 | Z41: =Y41=M41 -> FALSE | AA41: =J41=K41+L41 -> TRUE
A42: RAZEM, z tego: | H42: =SUM(H3:H41) -> 89.824 | I42: x | J42: =SUM(J3:J41) -> 2.9933805e+08 | K42: =SUM(K3:K41) -> 1.5761389e+08 | L42: =SUM(L3:L41) -> 1.4172416e+08 | M42: x | N42: =SUM(N3:N41) -> 3943859.8 | O42: =SUM(O3:O41) -> 30489587 | P42: =SUM(P3:P41) -> 84081842 | Q42: =SUM(Q3:Q41) -> 36047000 | R42: =SUM(R3:R41) -> 3051598.5 | S42: =SUM(S3:S41) -> 0 | T42: =SUM(T3:T41) -> 0 | U42: =SUM(U3:U41) -> 0 | ... W42: =SUM(W3:W41) -> 0 | X42: =K42=SUM(N42:W42) -> TRUE | Y42: =ROUND(K42/J42,4) -> 0.5265 | Z42: x | AA42: =J42=K42+L42 -> TRUE
A43: kontynuowane zadania wieloletnie | H43: =SUMIF($C$3:$C$41,"K",H3:H41) -> 39.426 | I43: x | J43: =SUMIF($C$3:$C$41,"K",J3:J41) -> 1.4925527e+08 | K43: =SUMIF($C$3:$C$41,"K",K3:K41) -> 77137704 | L43: =SUMIF($C$3:$C$41,"K",L3:L41) -> 72117569 | M43: x | N43: =SUMIF($C$3:$C$41,"K",N3:N41) -> 3943859.8 | O43: =SUMIF($C$3:$C$41,"K",O3:O41) -> 30489587 | P43: =SUMIF($C$3:$C$41,"K",P3:P41) -> 33180946 | Q43: =SUMIF($C$3:$C$41,"K",Q3:Q41) -> 9523311.5 | R43: =SUMIF($C$3:$C$41,"K",R3:R41) -> 0 | S43: =SUMIF($C$3:$C$41,"K",S3:S41) -> 0 | T43: =SUMIF($C$3:$C$41,"K",T3:T41) -> 0 | U43: =SUMIF($C$3:$C$41,"K",U3:U41) -> 0 | ... W43: =SUMIF($C$3:$C$41,"K",W3:W41) -> 0 | X43: =K43=SUM(N43:W43) -> TRUE | Y43: =ROUND(K43/J43,4) -> 0.5168 | Z43: x | AA43: =J43=K43+L43 -> TRUE
A44: nowe zadania jednoroczne | H44: =SUMIF($C$3:$C$41,"N",H3:H41) -> 24.555 | I44: x | J44: =SUMIF($C$3:$C$41,"N",J3:J41) -> 50287716 | K44: =SUMIF($C$3:$C$41,"N",K3:K41) -> 32316408 | L44: =SUMIF($C$3:$C$41,"N",L3:L41) -> 17971308 | M44: x | N44: =SUMIF($C$3:$C$41,"N",N3:N41) -> 0 | O44: =SUMIF($C$3:$C$41,"N",O3:O41) -> 0 | P44: =SUMIF($C$3:$C$41,"N",P3:P41) -> 32316408 | Q44: =SUMIF($C$3:$C$41,"N",Q3:Q41) -> 0 | R44: =SUMIF($C$3:$C$41,"N",R3:R41) -> 0 | S44: =SUMIF($C$3:$C$41,"N",S3:S41) -> 0 | T44: =SUMIF($C$3:$C$41,"N",T3:T41) -> 0 | U44: =SUMIF($C$3:$C$41,"N",U3:U41) -> 0 | ... W44: =SUMIF($C$3:$C$41,"N",W3:W41) -> 0 | X44: =K44=SUM(N44:W44) -> TRUE | Y44: =ROUND(K44/J44,4) -> 0.6426 | Z44: x | AA44: =J44=K44+L44 -> TRUE
A45: nowe zadania wieloletnie | H45: =SUMIF($C$3:$C$41,"W",H3:H41) -> 25.843 | I45: x | J45: =SUMIF($C$3:$C$41,"W",J3:J41) -> 99795059 | K45: =SUMIF($C$3:$C$41,"W",K3:K41) -> 48159775 | L45: =SUMIF($C$3:$C$41,"W",L3:L41) -> 51635283 | M45: x | N45: =SUMIF($C$3:$C$41,"W",N3:N41) -> 0 | O45: =SUMIF($C$3:$C$41,"W",O3:O41) -> 0 | P45: =SUMIF($C$3:$C$41,"W",P3:P41) -> 18584488 | Q45: =SUMIF($C$3:$C$41,"W",Q3:Q41) -> 26523689 | R45: =SUMIF($C$3:$C$41,"W",R3:R41) -> 3051598.5 | S45: =SUMIF($C$3:$C$41,"W",S3:S41) -> 0 | T45: =SUMIF($C$3:$C$41,"W",T3:T41) -> 0 | U45: =SUMIF($C$3:$C$41,"W",U3:U41) -> 0 | ... W45: =SUMIF($C$3:$C$41,"W",W3:W41) -> 0 | X45: =K45=SUM(N45:W45) -> TRUE | Y45: =ROUND(K45/J45,4) -> 0.4826 | Z45: x | AA45: =J45=K45+L45 -> TRUE
A47: B - budowa (rozbudowa), P - przebudowa, R - remont
A48: kolorem czerwonym oznaczono zadania wieloletnie
A49: N - nowe zadanie jednoroczne, K - kontynuowane zadanie wieloletnie z wcześniejszego naboru, W - nowe zadanie wieloletnie
A50: * Kwota dofinansowania zmniejszona do limitu dostępnych środków na rok 2021 i 2022 Rządowego Funduszu Rozwoju Dróg zwiększenie dofinansowania możliwe w przypadku wystąpienia oszczędności. W przypadku braku oszczędności w Funduszu, realizacja zadania będzie wymagała zabezpieczenia wkładu własnego wnioskodawcy w większej wysokości.

Sheet gm podst
A1: L.p. | B1: Nr ewid. | C1: Zadanie nowe/kontynuowane/wieloletnie [N/K/W] | D1: Jednostka Samorządu Terytorialnego | E1: TERC | F1: Powiat | G1: Nazwa zadania | H1: Rodzaj zadania | I1: Długość odcinka (w km) | J1: Okres realizacji zadania | K1: Ogółem wartość projektu (w zł) | L1: Wnioskowana kwota dofinansowania (w zł) | M1: Deklarowana kwota środków własnych (w zł) | N1: % dofinansowania | O1: Kwota dofinansowania w podziale na lata
O2: 2019 | P2: 2020 | Q2: 2021 | R2: 2022 | S2: 2023 | T2: 2024 | U2: 2025 | V2: 2026 | W2: 2027 | X2: 2028 | Y2: spr-lata | Z2: spr-procent | AA2: spr-dof | AB2: spr-montaż
A3: 1 | B3: 133/19 | C3: K | D3: GMINA MIKOŁÓW | E3: 2408021 | F3: mikołowski | G3: System transportu niskoemisyjnego - przebudowa węzła ulic Prusa - Miarki w kierunku Rybnicka, Wyzwolenia w Mikołowie | H3: P | I3: 0.442 | J3: październik 2019 - wrzesień 2021 | K3: 5710088.2 | L3: 2711714.5 | M3: 2998373.7 | N3: =L3/K3 -> 0.47489888 | O3: 200000 | P3: 592173 | Q3: 1919541.5 | Y3: =L3=SUM(O3:X3) -> TRUE | Z3: =ROUND(L3/K3,4) -> 0.4749 | AA3: =Z3=N3 -> FALSE | AB3: =K3=L3+M3 -> TRUE
A4: 2 | B4: 21/19 | C4: K | D4: GMINA MIEDŹNO | E4: 2406042 | F4: kłobucki | G4: Rozbudowa drogi gminnej nr 656026S ul. Dębowa, nr 656026S ul. Sosnowa, nr 656025S ul. Ogrodowa, nr 656025S ul. Polna w miejscowości Miedźno | H4: B | I4: 5.335 | J4: wrzesień 2019 - czerwiec 2022 | K4: 9676011.5 | L4: 6773208 | M4: 2902803.5 | N4: 0.7 | O4: 173907.3 | P4: 2001731.9 | Q4: 2579091.9 | R4: 2018476.9 | Y4: =L4=SUM(O4:X4) -> TRUE | Z4: =ROUND(L4/K4,4) -> 0.7 | AA4: =Z4=N4 -> TRUE | AB4: =K4=L4+M4 -> TRUE
A5: 3 | B5: 70/19 | C5: K | D5: GMINA RYDUŁTOWY | E5: 2415031 | F5: wodzisławski | G5: Rozbudowa ulicy Ofiar Terroru (460076S) wraz z przebudową ulicy Adama Mickiewicza (460001S) oraz przebudowa ulicy Świętego Jacka (460115S) w Rydułtowach | H5: B | I5: 1.159 | J5: marzec 2019 - czerwiec 2021 | K5: 5186688.8 | L5: 2852678.8 | M5: 2334010 | N5: =L5/K5 -> 0.55 | O5: 397597.2 | P5: 1342064.4 | Q5: 1113017.3 | Y5: =L5=SUM(O5:X5) -> TRUE | Z5: =ROUND(L5/K5,4) -> 0.55 | AA5: =Z5=N5 -> FALSE | AB5: =K5=L5+M5 -> TRUE
A6: 4 | B6: 153/19 | C6: K | D6: GMINA GODÓW | E6: 2415052 | F6: wodzisławski | G6: Przebudowa dróg gminnych w jednym ciągu nr 605 019S, 605 023S ul. Graniczna i Poprzeczna w Gminie Godów (sołectwa Skrbeńsko i Gołkowice) o łącznej długości 1758 mb. | H6: P | I6: 1.758 | J6: październik 2019 - czerwiec 2022 | K6: 5760400 | L6: 4021779.3 | M6: 1738620.7 | N6: 0.7 | O6: 14000 | P6: 686000 | Q6: 3321779.3 | Y6: =L6=SUM(O6:X6) -> TRUE | Z6: =ROUND(L6/K6,4) -> 0.6982 | AA6: =Z6=N6 -> FALSE | AB6: =K6=L6+M6 -> TRUE
A7: 5 | B7: 91/19 | C7: K | D7: GMINA PORĄBKA | E7: 2402082 | F7: bielski | G7: Przebudowa drogi gminnej publicznej nr 594 273 S ul. Szkolna w Bujakowie wraz z budową chodnika dla pieszych - etap 2 w km od 0+241 do km 0+663 | H7: P | I7: 0.422 | J7: październik 2019 - listopad 2022 | K7: 1955714.4 | L7: 977857.22 | M7: 977857.23 | N7: 0.5 | O7: 28057.5 | P7: 50000 | Q7: 541038.5 | R7: 358761.22 | Y7: =L7=SUM(O7:X7) -> TRUE | Z7: =ROUND(L7/K7,4) -> 0.5 | AA7: =Z7=N7 -> TRUE | AB7: =K7=L7+M7 -> TRUE
A8: 6 | B8: 179/19 | C8: K | D8: GMINA RACIBÓRZ | E8: 2411011 | F8: raciborski | G8: Przebudowa ul. Bojanowskiej - drogi publicznej nr 290 013 S na odcinku o długości 0,79 km oraz budowa nawierzchni drogi gminnej - ul. Chorwacka - etap I o długości projektowanej jezdni 0,53 km | H8: P | I8: 1.317 | J8: czerwiec 2019 - październik 2021 | K8: 3400729.7 | L8: 1700364.8 | M8: 1700364.8 | N8: =L8/K8 -> 0.5 | O8: 150000 | P8: 1124143.3 | Q8: 426221.5 | Y8: =L8=SUM(O8:X8) -> TRUE | Z8: =ROUND(L8/K8,4) -> 0.5 | AA8: =Z8=N8 -> TRUE | AB8: =K8=L8+M8 -> TRUE
A9: 7 | B9: 90/19 | C9: K | D9: GMINA PORĄBKA | E9: 2402082 | F9: bielski | G9: Przebudowa odcinka drogi gminnej publicznej nr 594142S ul. Zielona w Czańcu od km 0+000 do km 0+946 | H9: P | I9: 0.946 | J9: październik 2019 - listopad 2021 | K9: 784092.93 | L9: 392046.46 | M9: 392046.47 | N9: 0.5 | O9: 25000 | P9: 268922 | Q9: 98124.46 | Y9: =L9=SUM(O9:X9) -> TRUE | Z9: =ROUND(L9/K9,4) -> 0.5 | AA9: =Z9=N9 -> TRUE | AB9: =K9=L9+M9 -> TRUE
A10: 8 | B10: 167/19 | C10: K | D10: GMINA LYSKI | E10: 2412042 | F10: rybnicki | G10: Przebudowa drogi gminnej ulicy Jankowickiej w Zwonowicach | H10: P | I10: 0.82 | J10: październik 2019 - październik 2021 | K10: 2170941.1 | L10: 1194017 | M10: 976924.07 | N10: 0.55 | O10: 11000 | P10: 550000 | Q10: 633017 | Y10: =L10=SUM(O10:X10) -> TRUE | Z10: =ROUND(L10/K10,4) -> 0.55 | AA10: =Z10=N10 -> TRUE | AB10: =K10=L10+M10 -> TRUE
A11: 9 | B11: 47/19 | C11: K | D11: GMINA MIASTECZKO ŚLĄSKIE | E11: 2413021 | F11: tarnogórski | G11: Budowa ulicy Ceramicznej w Miasteczku Śląskim | H11: B | I11: 0.627 | J11: październik 2019 - czerwiec 2021 | K11: 1660061.7 | L11: 830030.86 | M11: 830030.86 | N11: 0.5 | O11: 1500 | P11: 292049.11 | Q11: 536481.75 | Y11: =L11=SUM(O11:X11) -> TRUE | Z11: =ROUND(L11/K11,4) -> 0.5 | AA11: =Z11=N11 -> TRUE | AB11: =K11=L11+M11 -> TRUE
A12: 10 | B12: 259/19 | C12: K | D12: GMINA TARNOWSKIE GÓRY | E12: 2413041 | F12: tarnogórski | G12: Rozbudowa ulic Sobieskiego i Opolskiej w Tarnowskich Górach | H12: B | I12: 0.614 | J12: czerwiec 2020 - listopad 2021 | K12: 4761987.6 | L12: 2380993.8 | M12: 2380993.8 | N12: 0.5 | O12: 0 | P12: 220090.87 | Q12: 2160903 | Y12: =L12=SUM(O12:X12) -> TRUE | Z12: =ROUND(L12/K12,4) -> 0.5 | AA12: =Z12=N12 -> TRUE | AB12: =K12=L12+M12 -> TRUE
A13: 11 | B13: 246/19 | C13: K | D13: GMINA PSZÓW | E13: 2415011 | F13: wodzisławski | G13: Remont ulicy Żużlowej w Pszowie | H13: R | I13: 1.332 | J13: styczeń 2020 - grudzień 2022 | K13: 1312088.7 | L13: 852857.68 | M13: 459231.06 | N13: =L13/K13 -> 0.65 | O13: 0 | P13: 297556.31 | Q13: 278915.17 | R13: 276386.2 | Y13: =L13=SUM(O13:X13) -> TRUE | Z13: =ROUND(L13/K13,4) -> 0.65 | AA13: =Z13=N13 -> FALSE | AB13: =K13=L13+M13 -> TRUE
A14: 12 | B14: 260/19 | C14: K | D14: GMINA MSZANA | E14: 2415092 | F14: wodzisławski | G14: Przebudowa dróg gminnych ul. Ks.Tuskera (nr 663003S) i ul. Mickiewicza (nr 663001S) w miejscowości Mszana wraz z przebudową skrzyżowania z drogą powiatową 5021S - ul. 1 Maja | H14: P | I14: 0.651 | J14: kwiecień 2020 - grudzień 2021 | K14: 2229465 | L14: 1114732.5 | M14: 1114732.5 | N14: 0.5 | O14: 0 | P14: 551020.5 | Q14: 563712.01 | Y14: =L14=SUM(O14:X14) -> TRUE | Z14: =ROUND(L14/K14,4) -> 0.5 | AA14: =Z14=N14 -> TRUE | AB14: =K14=L14+M14 -> TRUE
A15: 13 | B15: 295/19 | C15: K | D15: GMINA KNURÓW | E15: 2405011 | F15: gliwicki | G15: Przebudowa ul. Aleja Lipowa w Knurowie - I Etap | H15: P | I15: 0.714 | J15: kwiecień 2020 - lipiec 2021 | K15: 4411451.8 | L15: 2205725.9 | M15: 2205725.9 | N15: 0.5 | O15: 0 | P15: 2105725.9 | Q15: 100000 | Y15: =L15=SUM(O15:X15) -> TRUE | Z15: =ROUND(L15/K15,4) -> 0.5 | AA15: =Z15=N15 -> TRUE | AB15: =K15=L15+M15 -> TRUE
A16: 14 | B16: 256/19 | C16: K | D16: GMINA RACIBÓRZ | E16: 2411011 | F16: raciborski | G16: Przebudowa ul. Czarnieckiego na odcinku projektowanej jezdni o długości 189 mb oraz przebudowa drogi - łącznik ul. Anny i Starowiejskiej na odcinku projektowanej jezdni o długości 303 mb | H16: P | I16: 0.492 | J16: maj 2020 - październik 2021 | K16: =L16+M16 -> 1268529.3 | L16: =P16+Q16 -> 634264 | M16: 634265.3 | N16: =L16/K16 -> 0.49999949 | O16: 0 | P16: 611418 | Q16: 22846 | Y16: =L16=SUM(O16:X16) -> TRUE | Z16: =ROUND(L16/K16,4) -> 0.5 | AA16: =Z16=N16 -> FALSE | AB16: =K16=L16+M16 -> TRUE
A17: 15 | B17: 208/19 | C17: K | D17: GMINA BUCZKOWICE | E17: 2402032 | F17: bielski | G17: Budowa mostu w ul. Topolowej z przylegającym odcinkiem drogi w Rybarzowicach oraz przebudowa ul. Rybarskiej w Godziszce i w Rybarzowicach | H17: P | I17: 0.587 | J17: czerwiec 2020 - październik 2021 | K17: =L17+M17 -> 2470592.9 | L17: 1358826.1 | M17: 1111766.8 | N17: 0.55 | O17: 0 | P17: 340000 | Q17: 1018826.1 | Y17: =L17=SUM(O17:X17) -> TRUE | Z17: =ROUND(L17/K17,4) -> 0.55 | AA17: =Z17=N17 -> TRUE | AB17: =K17=L17+M17 -> TRUE
A18: 16 | B18: 279/19 | C18: K | D18: GMINA KŁOBUCK | E18: 2406013 | F18: kłobucki | G18: Przebudowa odcinka drogi gminnej nr 470 128S w miejscowościach Biała i Kopiec - II etap | H18: P | I18: 1.785 | J18: lipiec 2020 - październik 2021 | K18: 3448536.3 | L18: 1724268.2 | M18: 1724268.2 | N18: 0.5 | O18: 0 | P18: 844057.5 | Q18: 880210.66 | Y18: =L18=SUM(O18:X18) -> TRUE | Z18: =ROUND(L18/K18,4) -> 0.5 | AA18: =Z18=N18 -> TRUE | AB18: =K18=L18+M18 -> TRUE
A19: 17 | B19: 277/19 | C19: K | D19: MIASTO ZABRZE | E19: 2478011 | F19: Zabrze | G19: Budowa drogi publicznej gminnej na południe od ul. Handlowej wraz ze ścieżką rowerową, chodnikiem, zjazdami do posesji, budowa skrzyżowania typu rondo z ulicami Pyskowicką i Magazynową | H19: B | I19: 0.851 | J19: marzec 2020 - listopad 2021 | K19: 4512936.5 | L19: =P19+Q19 -> 2256468 | M19: =K19-L19 -> 2256468.5 | N19: =L19/K19 -> 0.49999995 | O19: 0 | P19: 1203060.5 | Q19: 1053407.5 | Y19: =L19=SUM(O19:X19) -> TRUE | Z19: =ROUND(L19/K19,4) -> 0.5 | AA19: =Z19=N19 -> FALSE | AB19: =K19=L19+M19 -> TRUE
A20: 18 | B20: 220/19 | C20: K | D20: GMINA MIKOŁÓW | E20: 2408021 | F20: mikołowski | G20: System transportu niskoemisyjnego - przebudowa węzła ulic Prusa - Miarki w kierunku Rybnicka, Wyzwolenia w Mikołowie - część II - etap IV | H20: P | I20: 0.099 | J20: październik 2020 - listopad 2022 | K20: 4285545.6 | L20: 1353953 | M20: 2931592.6 | N20: 0.5 | O20: 0 | P20: 150000 | Q20: 600000 | R20: 603953 | Y20: =L20=SUM(O20:X20) -> TRUE | Z20: =ROUND(L20/K20,4) -> 0.3159 | AA20: =Z20=N20 -> FALSE | AB20: =K20=L20+M20 -> TRUE
A21: 19 | B21: 202/19 | C21: K | D21: GMINA ŻARKI | E21: 2409053 | F21: myszkowski | G21: Budowa i przebudowa dróg - ul. Jagodowej i Młyńskiej w Żarkach | H21: P | I21: 2.59 | J21: grudzień 2020 - czerwiec 2022 | K21: 5202207.5 | L21: 2601103.8 | M21: 2601103.8 | N21: 0.5 | O21: 0 | P21: 1770000 | Q21: 831103.75 | Y21: =L21=SUM(O21:X21) -> TRUE | Z21: =ROUND(L21/K21,4) -> 0.5 | AA21: =Z21=N21 -> TRUE | AB21: =K21=L21+M21 -> TRUE
A22: 20 | B22: 317/19 | C22: K | D22: MIASTO CZĘSTOCHOWA | E22: 2464011 | F22: Częstochowa | G22: Budowa ulicy Złotej w Częstochowie | H22: B | I22: 1.098 | J22: kwiecień 2020 - listopad 2021 | K22: 6326560.6 | L22: 3163280.3 | M22: 3163280.3 | N22: 0.5 | O22: 0 | P22: 2318392 | Q22: 844888.32 | Y22: =L22=SUM(O22:X22) -> TRUE | Z22: =ROUND(L22/K22,4) -> 0.5 | AA22: =Z22=N22 -> TRUE | AB22: =K22=L22+M22 -> TRUE
A23: 21 | B23: 254/19 | C23: K | D23: GMINA ZBROSŁAWICE | E23: 2413092 | F23: tarnogórski | G23: Budowa ulicy Sosnowej w Szałszy | H23: B | I23: 0.972 | J23: czerwiec 2020 - październik 2021 | K23: 2389400.1 | L23: 1194700 | M23: 1194700.1 | N23: 0.5 | O23: 0 | P23: 456273 | Q23: 738427 | Y23: =L23=SUM(O23:X23) -> TRUE | Z23: =ROUND(L23/K23,4) -> 0.5 | AA23: =Z23=N23 -> TRUE | AB23: =K23=L23+M23 -> TRUE
A24: 22 | B24: 469/20 | C24: W | D24: GMINA GOLESZÓW | E24: 2403072 | F24: cieszyński | G24: Rozbudowa ul. Kojkowickiej w Puńcowie na odcinku 1,7 km wraz z przebudową mostu | H24: B | I24: 1.7 | J24: marzec 2021 - grudzień 2024 | K24: 7870609 | L24: 4328835 | M24: =K24-L24 -> 3541774 | N24: 0.55 | Q24: 1260833.2 | R24: 1517708 | S24: 1550293.8 | Y24: =L24=SUM(O24:X24) -> TRUE | Z24: =ROUND(L24/K24,4) -> 0.55 | AA24: =Z24=N24 -> TRUE | AB24: =K24=L24+M24 -> TRUE
A25: 23 | B25: 468/20 | C25: N | D25: MIASTO SIEMIANOWICE ŚLĄSKIE | E25: 2474011 | F25: Siemianowice Śląskie | G25: Rozbudowa drogi gminnej nr 250149S (ul. Traugutta) wraz z budową drogi gminnej łączącej ul. Traugutta z ul. Watoły w Siemianowicach Śląskich | H25: B | I25: 0.87 | J25: listopad 2021-październik 2022 | K25: 8536739 | L25: 4268369.5 | M25: =K25-L25 -> 4268369.5 | N25: 0.5 | Q25: 4268369.5 | Y25: =L25=SUM(O25:X25) -> TRUE | Z25: =ROUND(L25/K25,4) -> 0.5 | AA25: =Z25=N25 -> TRUE | AB25: =K25=L25+M25 -> TRUE
A26: 24 | B26: 411/20 | C26: N | D26: GMINA WĘGIERSKA GÓRKA | E26: 2417152 | F26: żywiecki | G26: Przebudowa drogi gminnej nr 596069S w Węgierskiej Górce poprawiającej skomunikowanie dróg krajowych i powiatowych | H26: P | I26: 0.602 | J26: marzec 2021 - luty 2022 | K26: 617715.21 | L26: 339743.36 | M26: 277971.85 | N26: 0.55 | Q26: 339743.36 | Y26: =L26=SUM(O26:X26) -> TRUE | Z26: =ROUND(L26/K26,4) -> 0.55 | AA26: =Z26=N26 -> TRUE | AB26: =K26=L26+M26 -> TRUE
A27: 25 | B27: 401/20 | C27: N | D27: GMINA HERBY | E27: 2407042 | F27: lubliniecki | G27: Rozbudowa drogi gminnej ul. Przemysłowej w Lisowie | H27: B | I27: 1.162 | J27: lipiec 2021 - czerwiec 2022 | K27: 2990304 | L27: 1495152 | M27: =K27-L27 -> 1495152 | N27: 0.5 | Q27: 1495152 | Y27: =L27=SUM(O27:X27) -> TRUE | Z27: =ROUND(L27/K27,4) -> 0.5 | AA27: =Z27=N27 -> TRUE | AB27: =K27=L27+M27 -> TRUE
A28: 26 | B28: 596/20 | C28: N | D28: MIASTO ŻORY | E28: 2479011 | F28: Żory | G28: Przebudowa ulicy Fabrycznej wraz z budową drogi łączącej ul. Fabryczną i ul. Boczną w Żorach razem z odwodnieniem, oświetleniem i kanałem technologicznym | H28: B | I28: 0.817 | J28: luty 2021 - styczeń 2022 | K28: 3989039.4 | L28: 1994519 | M28: =K28-L28 -> 1994520.4 | N28: 0.5 | Q28: 1994519 | Y28: =L28=SUM(O28:X28) -> TRUE | Z28: =ROUND(L28/K28,4) -> 0.5 | AA28: =Z28=N28 -> TRUE | AB28: =K28=L28+M28 -> TRUE
A29: 27 | B29: 527/20 | C29: N | D29: GMINA JELEŚNIA | E29: 2417042 | F29: żywiecki | G29: Przebudowa drogi gminnej - ul. Szczyrbok w miejscowości Korbielów | H29: P | I29: 1.302 | J29: lipiec 2021 - październik 2021 | K29: 3211318.6 | L29: 1605659.3 | M29: =K29-L29 -> 1605659.3 | N29: 0.5 | Q29: 1605659.3 | Y29: =L29=SUM(O29:X29) -> TRUE | Z29: =ROUND(L29/K29,4) -> 0.5 | AA29: =Z29=N29 -> TRUE | AB29: =K29=L29+M29 -> TRUE
A30: 28 | B30: 560/20 | C30: W | D30: GMINA MYKANÓW | E30: 2404112 | F30: częstochowski | G30: Rozbudowa dróg gminnych nr 599 023S (ul. Wesoła w Radostkowie Koloni, ul. Zielona i ul. Samorządowa w Mykanowie) oraz 599 034S (ul. Samorządowa w Mykanowie) | H30: B | I30: 4.331 | J30: marzec 2021 - październik 2022 | K30: 4763610 | L30: 2619985.5 | M30: =K30-L30 -> 2143624.5 | N30: 0.55 | Q30: 44000 | R30: 2575985.5 | Y30: =L30=SUM(O30:X30) -> TRUE | Z30: =ROUND(L30/K30,4) -> 0.55 | AA30: =Z30=N30 -> TRUE | AB30: =K30=L30+M30 -> TRUE
A31: 29 | B31: 433/20 | C31: N | D31: GMINA RYDUŁTOWY | E31: 2415031 | F31: wodzisławski | G31: Przebudowa ulicy Ofiar Terroru (460076S) w Rydułtowach na odcinku od nr 85 do 91 | H31: P | I31: 0.18 | J31: lipiec 2021 - maj 2022 | K31: 1176516.3 | L31: 647083.97 | M31: 529432.35 | N31: 0.55 | Q31: 647083.97 | Y31: =L31=SUM(O31:X31) -> TRUE | Z31: =ROUND(L31/K31,4) -> 0.55 | AA31: =Z31=N31 -> TRUE | AB31: =K31=L31+M31 -> TRUE
A32: 30 | B32: 573/20 | C32: W | D32: GMINA CIASNA | E32: 2407032 | F32: lubliniecki | G32: Budowa kompletnej sieci dróg gminnych nowopowstałej strefy mieszkalno-usługowej położonej od ulicy Lipowej do linii lasu w miejscowości Ciasna gmina Ciasna | H32: B | I32: 3.913 | J32: marzec 2021 - grudzień 2027 | K32: 19693718 | L32: 9846859 | M32: =K32-L32 -> 9846859 | N32: 0.5 | Q32: 430695.5 | R32: 1346500.5 | S32: 346500.5 | T32: 1846500.5 | U32: 1846500.5 | V32: 2193001 | W32: 1837160.5 | Y32: =L32=SUM(O32:X32) -> TRUE | Z32: =ROUND(L32/K32,4) -> 0.5 | AA32: =Z32=N32 -> TRUE | AB32: =K32=L32+M32 -> TRUE
A33: 31 | B33: 493/20 | C33: N | D33: GMINA GIERAŁTOWICE | E33: 2405032 | F33: gliwicki | G33: Rozbudowa ulicy Polnej i Krótkiej w Przyszowicach | H33: B | I33: 0.877 | J33: lipiec 2021-maj 2022 | K33: 2955984.6 | L33: 1477992 | M33: 1477992.6 | N33: 0.5 | Q33: 1477992 | Y33: =L33=SUM(O33:X33) -> TRUE | Z33: =ROUND(L33/K33,4) -> 0.5 | AA33: =Z33=N33 -> TRUE | AB33: =K33=L33+M33 -> TRUE
A34: 32 | B34: 503/20 | C34: W | D34: GMINA BOBROWNIKI | E34: 2401042 | F34: będziński | G34: Przebudowa drogi gminnej na ul. Podleśnej w Dobieszowicach | H34: P | I34: 1.3 | J34: wrzesień 2021 - listopad 2022 | K34: 3056000 | L34: 2444800 | M34: 611200 | N34: 0.8 | Q34: 608000 | R34: 1836800 | Y34: =L34=SUM(O34:X34) -> TRUE | Z34: =ROUND(L34/K34,4) -> 0.8 | AA34: =Z34=N34 -> TRUE | AB34: =K34=L34+M34 -> TRUE
A35: 33 | B35: 477/20 | C35: W | D35: GMINA RACIBÓRZ | E35: 2411011 | F35: raciborski | G35: Przebudowa ul. Cecylii i ul. Marii Rodziewiczówny w Raciborzu | H35: P | I35: 0.863 | J35: maj 2021 - październik 2022 | K35: 5458564 | L35: 3002210.2 | M35: =K35-L35 -> 2456353.8 | N35: 0.55 | Q35: 1077548.5 | R35: 1924661.8 | Y35: =L35=SUM(O35:X35) -> TRUE | Z35: =ROUND(L35/K35,4) -> 0.55 | AA35: =Z35=N35 -> TRUE | AB35: =K35=L35+M35 -> TRUE
A36: 34 | B36: 549/20 | C36: W | D36: GMINA TARNOWSKIE GÓRY | E36: 2413041 | F36: tarnogórski | G36: Rozbudowa układu drogowego w rejonie ulic Królika, Szymały, Rymera w Tarnowskich Górach - etap C i D | H36: B | I36: 0.493 | J36: marzec 2021 - listopad 2022 | K36: 2788931 | L36: 1394465.5 | M36: =K36-L36 -> 1394465.5 | N36: 0.5 | Q36: 809929 | R36: 584536.5 | Y36: =L36=SUM(O36:X36) -> TRUE | Z36: =ROUND(L36/K36,4) -> 0.5 | AA36: =Z36=N36 -> TRUE | AB36: =K36=L36+M36 -> TRUE
A37: 35 | B37: 575/20 | C37: N | D37: GMINA KRZYŻANOWICE | E37: 2411042 | F37: raciborski | G37: Przebudowa ul. Pomnikowej 612 605 S w Roszkowie | H37: P | I37: 0.411 | J37: maj 2021 - listopad 2021 | K37: 1044537 | L37: 574495.35 | M37: =K37-L37 -> 470041.65 | N37: 0.55 | Q37: 574495.35 | Y37: =L37=SUM(O37:X37) -> TRUE | Z37: =ROUND(L37/K37,4) -> 0.55 | AA37: =Z37=N37 -> TRUE | AB37: =K37=L37+M37 -> TRUE
A38: 36 | B38: 463/20 | C38: N | D38: GMINA SIEMIANOWICE ŚLĄSKIE | E38: 2474011 | F38: Siemianowice Śląskie | G38: Budowa drogi gminnej w rejonie terenów inwestycyjnych przy ul. Bytomskiej w Siemianowicach Śląskich | H38: B | I38: 0.574 | J38: listopad 2021-październik 2022 | K38: 4083201 | L38: 2041600.5 | M38: =K38-L38 -> 2041600.5 | N38: 0.5 | Q38: 2041600.5 | Y38: =L38=SUM(O38:X38) -> TRUE | Z38: =ROUND(L38/K38,4) -> 0.5 | AA38: =Z38=N38 -> TRUE | AB38: =K38=L38+M38 -> TRUE
A39: 37 | B39: 557/20 | C39: N | D39: MIASTO ZABRZE | E39: 2478011 | F39: Zabrze | G39: Budowa drogi w ciągu ul. Marii Skłodowskiej-Curie w Zabrzu, na odcinku od ul. Franciszkańskiej do ul. W. Tatarkiewicza wraz z odwodnieniem i oświetleniem ulicznym | H39: B | I39: 0.401 | J39: lipiec 2021-czerwiec 2022 | K39: 1987030 | L39: 993515 | M39: =K39-L39 -> 993515 | N39: 0.5 | Q39: 993515 | Y39: =L39=SUM(O39:X39) -> TRUE | Z39: =ROUND(L39/K39,4) -> 0.5 | AA39: =Z39=N39 -> TRUE | AB39: =K39=L39+M39 -> TRUE
A40: 38 | B40: 460/20 | C40: N | D40: GMINA TOSZEK | E40: 2405073 | F40: gliwicki | G40: Remont dróg gminnych łączących przysiółki w Kotulinie: ul. Skały 620161S; ul. Skalna 620160S; ul. Nakło 620154S o łącznej długości 4383 m. | H40: R | I40: 4.383 | J40: czerwiec 2021 - październik 2021 | K40: 1534782 | L40: 844130.1 | M40: =K40-L40 -> 690651.9 | N40: 0.55 | Q40: 844130.1 | Y40: =L40=SUM(O40:X40) -> TRUE | Z40: =ROUND(L40/K40,4) -> 0.55 | AA40: =Z40=N40 -> TRUE | AB40: =K40=L40+M40 -> TRUE
A41: 39 | B41: 405/20 | C41: N | D41: GMINA KOZIEGŁOWY | E41: 2409023 | F41: myszkowski | G41: Przebudowa drogi gminnej nr 595018S ul. Szkolna w m. Gniazdów | H41: P | I41: 1.173 | J41: czerwiec 2021 - październik 2021 | K41: 2044846.1 | L41: 1022423 | M41: 1022423 | N41: 0.5 | Q41: 1022423 | Y41: =L41=SUM(O41:X41) -> TRUE | Z41: =ROUND(L41/K41,4) -> 0.5 | AA41: =Z41=N41 -> TRUE | AB41: =K41=L41+M41 -> TRUE
A42: 40 | B42: 488/20 | C42: N | D42: GMINA OGRODZIENIEC | E42: 2416063 | F42: zawierciański | G42: Przebudowa drogi gminnej - ul. Słowackiego w Ogrodzieńcu | H42: P | I42: 1.066 | J42: lipiec 2021- czerwiec 2022 | K42: 1799276 | L42: 989601.77 | M42: =K42-L42 -> 809674.19 | N42: 0.55 | Q42: 989601.77 | Y42: =L42=SUM(O42:X42) -> TRUE | Z42: =ROUND(L42/K42,4) -> 0.55 | AA42: =Z42=N42 -> TRUE | AB42: =K42=L42+M42 -> TRUE
A43: 41 | B43: 559/20 | C43: W | D43: GMINA GODÓW | E43: 2415052 | F43: wodzisławski | G43: Budowa drogi - połączenia ulicy Szybowej z Olszyńską w Gminie Godów - odcinek 594 mb. | H43: B | I43: 0.594 | J43: lipiec 2021 - wrzesień 2023 | K43: 1060500 | L43: 583275 | M43: =K43-L43 -> 477225 | N43: 0.55 | Q43: 38500 | R43: 269500 | S43: 275275 | Y43: =L43=SUM(O43:X43) -> TRUE | Z43: =ROUND(L43/K43,4) -> 0.55 | AA43: =Z43=N43 -> TRUE | AB43: =K43=L43+M43 -> TRUE
A44: 42 | B44: 428/20 | C44: N | D44: GMINA ZAWIERCIE | E44: 2416021 | F44: zawierciański | G44: Przebudowa ciągu komunikacyjnego ulic Nad Wartą i Przejściowej w Zawierciu wraz z odwodnieniem i oświetleniem | H44: P | I44: 0.518 | J44: styczeń 2021 - grudzień 2021 | K44: =488946.11+488946.11 -> 977892.22 | L44: 488946.11 | M44: =K44-L44 -> 488946.11 | N44: 0.5 | Q44: 488946.11 | Y44: =L44=SUM(O44:X44) -> TRUE | Z44: =ROUND(L44/K44,4) -> 0.5 | AA44: =Z44=N44 -> TRUE | AB44: =K44=L44+M44 -> TRUE
A45: 43 | B45: 538/20 | C45: N | D45: GMINA KRZANOWICE | E45: 2411033 | F45: raciborski | G45: Remont dróg gminnych ul. Morawska (671020S), Kościelna (671012S), Rynek (671011S) w miejscowości Krzanowice | H45: R | I45: 0.515 | J45: maj 2021 - październik 2021 | K45: 385398.84 | L45: 231239.3 | M45: =K45-L45 -> 154159.54 | N45: 0.6 | Q45: =L45 -> 231239.3 | Y45: =L45=SUM(O45:X45) -> TRUE | Z45: =ROUND(L45/K45,4) -> 0.6 | AA45: =Z45=N45 -> TRUE | AB45: =K45=L45+M45 -> TRUE
A46: 44 | B46: 426/20 | C46: N | D46: GMINA WIELOWIEŚ | E46: 2405082 | F46: gliwicki | G46: Remont drogi gminnej nr 673 099 S- ul. Bocznej w miejscowości Dąbrówka | H46: R | I46: 0.501 | J46: kwiecień 2021 - sierpień 2021 | K46: 99913.88 | L46: 49956.94 | M46: 49956.94 | N46: 0.5 | Q46: =L46 -> 49956.94 | Y46: =L46=SUM(O46:X46) -> TRUE | Z46: =ROUND(L46/K46,4) -> 0.5 | AA46: =Z46=N46 -> TRUE | AB46: =K46=L46+M46 -> TRUE
A47: 45 | B47: 511/20 | C47: N | D47: GMINA POCZESNA | E47: 2404132 | F47: częstochowski | G47: Przebudowa drogi gminnej ulicy Cementowej we Wrzosowej, gmina Poczesna | H47: P | I47: 0.256 | J47: marzec 2021 - listopad 2021 | K47: 108015.94 | L47: 54000 | M47: 54015.94 | N47: 0.5 | Q47: 54000 | Y47: =L47=SUM(O47:X47) -> TRUE | Z47: =ROUND(L47/K47,4) -> 0.4999 | AA47: =Z47=N47 -> FALSE | AB47: =K47=L47+M47 -> TRUE
A48: 46 | B48: 579/20 | C48: W | D48: MIASTO SOSNOWIEC | E48: 2475011 | F48: Sosnowiec | G48: Rozbudowa ul. G. Zapolskiej w Sosnowcu od skrzyżowania z ul. Hubala-Dobrzańskiego do zjazdu do Centrum Pediatrii im. Jana Pawła II wraz z realizacją zespołu parkingów w celu poprawy dostępności do Centrum Pediatrii im. Jana Pawła II w Sosnowcu | H48: B | I48: 0.182 | J48: sierpień 2021 - lipiec 2022 | K48: 1987508 | L48: 993754 | M48: =K48-L48 -> 993754 | N48: 0.5 | Q48: 397501.5 | R48: 596252.5 | Y48: =L48=SUM(O48:X48) -> TRUE | Z48: =ROUND(L48/K48,4) -> 0.5 | AA48: =Z48=N48 -> TRUE | AB48: =K48=L48+M48 -> TRUE
A49: 47 | B49: 403/20 | C49: N | D49: GMINA KALETY | E49: 2413011 | F49: tarnogórski | G49: Przebudowa drogi gminnej nr 346 403 S, ul. Jana w Kaletach | H49: P | I49: 0.555 | J49: marzec 2021 - listopad 2021 | K49: 1143765 | L49: 629070.75 | M49: =K49-L49 -> 514694.25 | N49: 0.55 | Q49: 629070.75 | Y49: =L49=SUM(O49:X49) -> TRUE | Z49: =ROUND(L49/K49,4) -> 0.55 | AA49: =Z49=N49 -> TRUE | AB49: =K49=L49+M49 -> TRUE
A50: 48 | B50: 523/20 | C50: N | D50: GMINA WODZISŁAW ŚLĄSKI | E50: 2415041 | F50: wodzisławski | G50: Przebudowa i remont drogi gminnej obejmującej ulicę Leszka i Mieszka w Wodzisławiu Śląskim | H50: P | I50: 1.082 | J50: wrzesień 2021 - październik 2022 | K50: =L50+M50 -> 1737693.8 | L50: 955731.6 | M50: 781962.23 | N50: 0.55 | Q50: 955731.6 | Y50: =L50=SUM(O50:X50) -> TRUE | Z50: =ROUND(L50/K50,4) -> 0.55 | AA50: =Z50=N50 -> TRUE | AB50: =K50=L50+M50 -> TRUE
A51: 49 | B51: 551/20 | C51: N | D51: GMINA IMIELIN | E51: 2414021 | F51: bieruńsko-lędziński | G51: Przebudowa drogi gminnej ul. Wyzwolenia (655002S) w Imielinie | H51: P | I51: 1.046 | J51: luty 2021 - lipiec 2021 | K51: =L51+M51 -> 2210587.4 | L51: 939056.5 | M51: 1271530.9 | N51: 0.5 | Q51: 939056.5 | Y51: =L51=SUM(O51:X51) -> TRUE | Z51: =ROUND(L51/K51,4) -> 0.4248 | AA51: =Z51=N51 -> FALSE | AB51: =K51=L51+M51 -> TRUE
A52: 50 | B52: 562/20 | C52: W | D52: MIASTO BYTOM | E52: 2462011 | F52: Bytom | G52: Przebudowa ulic Nawrota i Smolenia | H52: P | I52: 0.913 | J52: sierpień 2021 - listopad 2022 | K52: 3495035 | L52: 1747517.5 | M52: =K52-L52 -> 1747517.5 | N52: 0.5 | Q52: 500000 | R52: 1247517.5 | Y52: =L52=SUM(O52:X52) -> TRUE | Z52: =ROUND(L52/K52,4) -> 0.5 | AA52: =Z52=N52 -> TRUE | AB52: =K52=L52+M52 -> TRUE
A53: 51 | B53: 418/20 | C53: N | D53: GMINA PSZCZYNA | E53: 2410053 | F53: pszczyński | G53: Rozbudowa ul. Zagajniki w Jankowicach i Studzienicach, Pszczyna | H53: B | I53: 0.906 | J53: czerwiec 2021 - maj 2022 | K53: 3392055 | L53: 1696027.5 | M53: =K53-L53 -> 1696027.5 | N53: 0.5 | Q53: 1696027.5 | Y53: =L53=SUM(O53:X53) -> TRUE | Z53: =ROUND(L53/K53,4) -> 0.5 | AA53: =Z53=N53 -> TRUE | AB53: =K53=L53+M53 -> TRUE
A54: 52 | B54: 484/20 | C54: N | D54: GMINA BIERUŃ | E54: 2414011 | F54: bieruńsko-lędziński | G54: Przebudowa i remont ul. Mieszka I w Bieruniu | H54: P | I54: 0.9 | J54: sierpień 2021 - lipiec 2022 | K54: 2288940 | L54: 1144470 | M54: =K54-L54 -> 1144470 | N54: 0.5 | Q54: 1144470 | Y54: =L54=SUM(O54:X54) -> TRUE | Z54: =ROUND(L54/K54,4) -> 0.5 | AA54: =Z54=N54 -> TRUE | AB54: =K54=L54+M54 -> TRUE
A55: 53 | B55: 572/20 | C55: N | D55: GMINA NIEGOWA | E55: 2409032 | F55: myszkowski | G55: Przebudowa i rozbudowa drogi gminnej nr 680054 S w miejscowości Dąbrowno wraz z rozbudową oświetlenia ulicznego | H55: B | I55: 0.573 | J55: lipiec 2021 - czerwiec 2022 | K55: 828779 | L55: 414389.5 | M55: =K55-L55 -> 414389.5 | N55: 0.5 | Q55: 414389.5 | Y55: =L55=SUM(O55:X55) -> TRUE | Z55: =ROUND(L55/K55,4) -> 0.5 | AA55: =Z55=N55 -> TRUE | AB55: =K55=L55+M55 -> TRUE
A56: 54 | B56: 541/20 | C56: N | D56: GMINA ORZESZE | E56: 2408031 | F56: mikołowski | G56: Remont odcinka ul. Rajcy w Orzeszu-Jaśkowicach | H56: R | I56: 0.232 | J56: kwiecień 2021 - listopad 2021 | K56: 278411.41 | L56: 139200 | M56: =K56-L56 -> 139211.41 | N56: 0.5 | Q56: 139200 | Y56: =L56=SUM(O56:X56) -> TRUE | Z56: =ROUND(L56/K56,4) -> 0.5 | AA56: =Z56=N56 -> TRUE | AB56: =K56=L56+M56 -> TRUE
A57: 55 | B57: 416/20 | C57: N | D57: GMINA PYSKOWICE | E57: 2405021 | F57: gliwicki | G57: Przebudowa ul. Kard. Stefana Wyszyńskiego w Pyskowicach | H57: P | I57: 1.125 | J57: październik 2021 - wrzesień 2022 | K57: 6581798 | L57: 3619988.9 | M57: =K57-L57 -> 2961809.1 | N57: 0.55 | Q57: 3619988.9 | Y57: =L57=SUM(O57:X57) -> TRUE | Z57: =ROUND(L57/K57,4) -> 0.55 | AA57: =Z57=N57 -> TRUE | AB57: =K57=L57+M57 -> TRUE
A58: 56 | B58: 415/20 | C58: N | D58: MIASTO TYCHY | E58: 2477011 | F58: Tychy | G58: Budowa ulicy Śliwowej w Tychach | H58: B | I58: 0.411 | J58: styczeń 2021 - październik 2021 | K58: 1125402.1 | L58: 562701.07 | M58: =K58-L58 -> 562701.07 | N58: 0.5 | Q58: 562701.07 | Y58: =L58=SUM(O58:X58) -> TRUE | Z58: =ROUND(L58/K58,4) -> 0.5 | AA58: =Z58=N58 -> TRUE | AB58: =K58=L58+M58 -> TRUE
A59: 57 | B59: 544/20 | C59: N | D59: GMINA JANÓW | E59: 2404032 | F59: częstochowski | G59: Przebudowa drogi gminnej nr DG 677007 S Hucisko - Gmina Janów Hm 7+22,70 do Hm 14+43,66 | H59: P | I59: 0.721 | J59: czerwiec 2021 - wrzesień 2021 | K59: 607148.36 | L59: 303574.18 | M59: =K59-L59 -> 303574.18 | N59: 0.5 | Q59: =L59 -> 303574.18 | Y59: =L59=SUM(O59:X59) -> TRUE | Z59: =ROUND(L59/K59,4) -> 0.5 | AA59: =Z59=N59 -> TRUE | AB59: =K59=L59+M59 -> TRUE
A60: 58 | B60: 553/20 | C60: N | D60: GMINA JANÓW | E60: 2404032 | F60: częstochowski | G60: Przebudowa drogi gminnej ulicy Szkolnej w Siedlcu | H60: P | I60: 0.718 | J60: październik 2021 - wrzesień 2022 | K60: 3261179 | L60: 1630589.5 | M60: =K60-L60 -> 1630589.5 | N60: 0.5 | Q60: 1630589.5 | Y60: =L60=SUM(O60:X60) -> TRUE | Z60: =ROUND(L60/K60,4) -> 0.5 | AA60: =Z60=N60 -> TRUE | AB60: =K60=L60+M60 -> TRUE
A61: 59 | B61: 478/20 | C61: W | D61: GMINA RACIBÓRZ | E61: 2411011 | F61: raciborski | G61: Przebudowa ul. Bema w Raciborzu | H61: P | I61: 0.523 | J61: maj 2021 - październik 2022 | K61: 3607357 | L61: 1803678.5 | M61: 1803678.5 | N61: 0.5 | Q61: 786796 | R61: 1016882.5 | Y61: =L61=SUM(O61:X61) -> TRUE | Z61: =ROUND(L61/K61,4) -> 0.5 | AA61: =Z61=N61 -> TRUE | AB61: =K61=L61+M61 -> TRUE
A62: 60 | B62: 501/20 | C62: W | D62: GMINA RADZIONKÓW | E62: 2413031 | F62: tarnogórski | G62: Przebudowa ul. M.Dąbrowskiej w Radzionkowie (na odcinku od skrzyżowania z ul. Wspólną do skrzyżowania z ul. N.Żołnierza) | H62: P | I62: 0.982 | J62: lipiec 2021 - grudzień 2022 | K62: 9553055 | L62: =Q62+R62 -> 4776527.5 | M62: =K62-L62 -> 4776527.5 | N62: 0.5 | Q62: 2388263.5 | R62: 2388264 | Y62: =L62=SUM(O62:X62) -> TRUE | Z62: =ROUND(L62/K62,4) -> 0.5 | AA62: =Z62=N62 -> TRUE | AB62: =K62=L62+M62 -> TRUE
A63: 61 | B63: 507/20 | C63: W | D63: GMINA OŻAROWICE (zadanie przeniesione na listę podstawową) | E63: 2413062 | F63: tarnogórski | G63: Przebudowa ul. Witomin, Kościuszki,Towarowa, Wrzosowa, Staszica, Szkolna, Stawowa, Łąkowa, Wojska Polskiego, oraz budowa drogi Polnej w Ożarowicach | H63: P | I63: 6.005 | J63: luty 2021 - listopad 2022 | K63: 10967214 | L63: =Q63+R63 -> 5483607 | M63: =K63-L63 -> 5483607 | N63: 0.5 | Q63: 3092924.5 | R63: 2390682.5 | Y63: =L63=SUM(O63:X63) -> TRUE | Z63: =ROUND(L63/K63,4) -> 0.5 | AA63: =Z63=N63 -> TRUE | AB63: =K63=L63+M63 -> TRUE
A64: 62 | B64: 446/20* | C64: W | D64: MIASTO ŚWIĘTOCHŁOWICE (zadanie przeniesione na listę podstawową) | E64: 2476011 | F64: Świętochłowice | G64: Przebudowa wraz z rozbudową układu komunikacyjnego ul. Przemysłowej (wewnętrznej) wraz z połączeniem do drogi wojewódzkiej DW902 (DTŚ) | H64: B | I64: 1.41 | J64: lipiec 2021 - listopad 2023 | K64: 20620081 | L64: =Q64+R64+S64 -> 5310040.5 | M64: =K64-L64 -> 15310040 | N64: 0.5 | Q64: 1000000 | R64: 0 | S64: 4310040.5 | Y64: =L64=SUM(O64:X64) -> TRUE | Z64: =ROUND(L64/K64,4) -> 0.2575 | AA64: =Z64=N64 -> FALSE | AB64: =K64=L64+M64 -> TRUE
A65: 63 | B65: 407/20 | D65: GMINA KOZY (rezygnacja Wnioskodawcy z realizacji zadania) | E65: 2402072 | F65: bielski | G65: Przebudowa ciągu dróg gminnych - ul. Storczyków, ul. Liliowa, ul. Zdrojowa, ul. Bukietowa i ul. Zamkowa w Kozach | Y65: =L65=SUM(O65:X65) -> TRUE | Z65: =ROUND(L65/K65,4) -> #DIV/0! | AA65: =Z65=N65 -> #DIV/0! | AB65: =K65=L65+M65 -> TRUE
A66: 64 | B66: 450/20 | C66: N | D66: GMINA PILCHOWICE (zadanie przeniesione na listę podstawową) | E66: 2405042 | F66: gliwicki | G66: Przebudowa drogi gminnej, ul. Gliwicka w Wilczy | H66: P | I66: 1.176 | J66: maj 2021 - listopad 2021 | K66: 2537775 | L66: 1268887.5 | M66: =K66-L66 -> 1268887.5 | N66: 0.5 | Q66: 1268887.5 | Y66: =L66=SUM(O66:X66) -> TRUE | Z66: =ROUND(L66/K66,4) -> 0.5 | AA66: =Z66=N66 -> TRUE | AB66: =K66=L66+M66 -> TRUE
A67: 65 | B67: 420/20* | C67: N | D67: GMINA MIEDŹNO (zadanie przeniesione na listę podstawową) | E67: 2406042 | F67: kłobucki | G67: Przebudowa wraz z rozbudową dróg gminnych: 656056 S ul. Brzozowa, 656057 S ul. Leśna, ul. Cicha oraz ul. Bór w miejscowości Ostrowy nad Okszą, gm. Miedźno | H67: B | I67: 0.939 | J67: styczeń 2021 - grudzień 2021 | K67: 2536450 | L67: 142066.86 | M67: =K67-L67 -> 2394383.1 | N67: 0.5 | Q67: 142066.86 | Y67: =L67=SUM(O67:X67) -> TRUE | Z67: =ROUND(L67/K67,4) -> 0.056 | AA67: =Z67=N67 -> FALSE | AB67: =K67=L67+M67 -> TRUE
A68: RAZEM, z tego: | I68: =SUM(I3:I67) -> 73.812 | J68: x | K68: =SUM(K3:K67) -> 2.3991871e+08 | L68: =SUM(L3:L67) -> 1.1919461e+08 | M68: =SUM(M3:M67) -> 1.207241e+08 | N68: x | O68: =SUM(O3:O67) -> 1001062 | P68: =SUM(P3:P67) -> 17774678 | Q68: =SUM(Q3:Q67) -> 65260725 | R68: =SUM(R3:R67) -> 20952869 | S68: =SUM(S3:S67) -> 6482109.8 | T68: =SUM(T3:T67) -> 1846500.5 | U68: =SUM(U3:U67) -> 1846500.5 | V68: =SUM(V3:V67) -> 2193001 | ... X68: =SUM(X3:X67) -> 0
A69: kontynuowane zadania wieloletnie | I69: =SUMIF($C$3:$C$67,"K",I3:I67) -> 24.611 | J69: x | K69: =SUMIF($C$3:$C$67,"K",K3:K67) -> 78924030 | L69: =SUMIF($C$3:$C$67,"K",L3:L67) -> 42294870 | M69: =SUMIF($C$3:$C$67,"K",M3:M67) -> 36629160 | N69: x | O69: =SUMIF($C$3:$C$67,"K",O3:O67) -> 1001062 | P69: =SUMIF($C$3:$C$67,"K",P3:P67) -> 17774678 | Q69: =SUMIF($C$3:$C$67,"K",Q3:Q67) -> 20261553 | R69: =SUMIF($C$3:$C$67,"K",R3:R67) -> 3257577.4 | S69: =SUMIF($C$3:$C$67,"K",S3:S67) -> 0 | T69: =SUMIF($C$3:$C$67,"K",T3:T67) -> 0 | U69: =SUMIF($C$3:$C$67,"K",U3:U67) -> 0 | V69: =SUMIF($C$3:$C$67,"K",V3:V67) -> 0 | ... X69: =SUMIF($C$3:$C$67,"K",X3:X67) -> 0
A70: nowe zadania jednoroczne | I70: =SUMIF($C$3:$C$67,"N",I3:I67) -> 25.992 | J70: x | K70: =SUMIF($C$3:$C$67,"N",K3:K67) -> 66072494 | L70: =SUMIF($C$3:$C$67,"N",L3:L67) -> 32564181 | M70: =SUMIF($C$3:$C$67,"N",M3:M67) -> 33508313 | N70: x | O70: =SUMIF($C$3:$C$67,"N",O3:O67) -> 0 | P70: =SUMIF($C$3:$C$67,"N",P3:P67) -> 0 | Q70: =SUMIF($C$3:$C$67,"N",Q3:Q67) -> 32564181 | R70: =SUMIF($C$3:$C$67,"N",R3:R67) -> 0 | S70: =SUMIF($C$3:$C$67,"N",S3:S67) -> 0 | T70: =SUMIF($C$3:$C$67,"N",T3:T67) -> 0 | U70: =SUMIF($C$3:$C$67,"N",U3:U67) -> 0 | V70: =SUMIF($C$3:$C$67,"N",V3:V67) -> 0 | ... X70: =SUMIF($C$3:$C$67,"N",X3:X67) -> 0
A71: nowe zadania wieloletnie | I71: =SUMIF($C$3:$C$67,"W",I3:I67) -> 23.209 | J71: x | K71: =SUMIF($C$3:$C$67,"W",K3:K67) -> 94922182 | L71: =SUMIF($C$3:$C$67,"W",L3:L67) -> 44335555 | M71: =SUMIF($C$3:$C$67,"W",M3:M67) -> 50586627 | N71: x | O71: =SUMIF($C$3:$C$67,"W",O3:O67) -> 0 | P71: =SUMIF($C$3:$C$67,"W",P3:P67) -> 0 | Q71: =SUMIF($C$3:$C$67,"W",Q3:Q67) -> 12434992 | R71: =SUMIF($C$3:$C$67,"W",R3:R67) -> 17695291 | S71: =SUMIF($C$3:$C$67,"W",S3:S67) -> 6482109.8 | T71: =SUMIF($C$3:$C$67,"W",T3:T67) -> 1846500.5 | U71: =SUMIF($C$3:$C$67,"W",U3:U67) -> 1846500.5 | V71: =SUMIF($C$3:$C$67,"W",V3:V67) -> 2193001 | ... X71: =SUMIF($C$3:$C$67,"W",X3:X67) -> 0
A73: B - budowa (rozbudowa), P - przebudowa, R - remont
A74: kolorem czerwonym oznaczono zadania wieloletnie
A75: N - nowe zadanie jednoroczne, K - kontynuowane zadanie wieloletnie z wcześniejszego naboru, W - nowe zadanie wieloletnie
A76: * Kwota dofinansowania zmniejszona do limitu dostępnych środków Rządowego Funduszu Rozwoju Dróg zwiększenie dofinansowania możliwe w przypadku wystąpienia oszczędności. W przypadku braku oszczędności w Funduszu, realizacja zadania będzie wymagała zabezpieczenia wkładu własnego wnioskodawcy w większej wysokości.

Sheet pow rez
A1: L.p. | B1: Nr ewid. | C1: Zadanie nowe/wieloletnie [N/W] | D1: Jednostka Samorządu Terytorialnego | E1: TERC | F1: Nazwa zadania | G1: Rodzaj zadania | H1: Długość odcinka (w km) | I1: Okres realizacji zadania | J1: Ogółem wartość projektu (w zł) | K1: Wnioskowana kwota dofinansowania (w zł) | L1: Deklarowana kwota środków własnych (w zł) | M1: % dofinansowania | N1: Kwota dofinansowania w podziale na lata
N2: 2019 | O2: 2020 | P2: 2021 | Q2: 2022 | R2: 2023 | S2: 2024 | T2: 2025 | U2: 2026 | V2: 2027 | W2: 2028 | X2: spr-lata | Y2: spr-procent | Z2: spr-dof | AA2: spr-montaż
A3: 1 | B3: 517/20 | D3: POWIAT BIELSKI (zadanie przeniesione na listę podstawową) | E3: 2402 | F3: Przebudowa drogi powiatowej 4424 S na długości 3459 mb w miejscowości Rudzica - Międzyrzecze Dolne - Międzyrzecze Górne | X3: =K3=SUM(N3:W3) -> TRUE | Y3: =ROUND(K3/J3,4) -> #DIV/0! | Z3: =Y3=M3 -> #DIV/0! | AA3: =J3=K3+L3 -> TRUE
A4: 2 | B4: 514/20 | D4: POWIAT PSZCZYŃSKI (zadanie przeniesione na listę podstawową) | E4: 2410 | F4: Przebudowa drogi powiatowej nr 4103S tj. ul. Pawiej w Wiśle Małej i ul. Jedności w Studzionce - etap II | X4: =K4=SUM(N4:W4) -> TRUE | Y4: =ROUND(K4/J4,4) -> #DIV/0! | Z4: =Y4=M4 -> #DIV/0! | AA4: =J4=K4+L4 -> TRUE
A5: 3 | B5: 431/20 | D5: POWIAT WODZISŁAWSKI (zadanie przeniesione na listę podstawową) | E5: 2415 | F5: Przebudowa drogi powiatowej nr 3512S (ul. Raciborska) Bełsznica-Rogów | X5: =K5=SUM(N5:W5) -> TRUE | Y5: =ROUND(K5/J5,4) -> #DIV/0! | Z5: =Y5=M5 -> #DIV/0! | AA5: =J5=K5+L5 -> TRUE
A6: 4 | B6: 516/20 | D6: POWIAT BIELSKI (zadanie przeniesione na listę podstawową) | E6: 2402 | F6: Przebudowa ciągu dróg powiatowych 4489 S oraz 4488 S na długości 2415 mb w Dankowicach i Starej Wsi | X6: =K6=SUM(N6:W6) -> TRUE | Y6: =ROUND(K6/J6,4) -> #DIV/0! | Z6: =Y6=M6 -> #DIV/0! | AA6: =J6=K6+L6 -> TRUE
A7: 5 | B7: 500/20 | C7: N | D7: POWIAT TARNOGÓRSKI | E7: 2413 | F7: Remont i przebudowa DP3271S w Radzionkowie w zakresie budowy ciągu pieszo rowerowego wraz z infrastrukturą towarzyszącą | G7: P | H7: 2.48 | I7: maj 2021 - kwiecień 2022 | J7: 4800000 | K7: 2400000 | L7: =J7-K7 -> 2400000 | M7: 0.5 | N7: 0 | O7: 0 | P7: 2400000 | X7: =K7=SUM(N7:W7) -> TRUE | Y7: =ROUND(K7/J7,4) -> 0.5 | Z7: =Y7=M7 -> TRUE | AA7: =J7=K7+L7 -> TRUE
A8: 6 | B8: 438/20 | C8: N | D8: POWIAT BĘDZIŃSKI | E8: 2401 | F8: Przebudowa drogi powiatowej 4721 S - ul. Zagórska w Będzinie | G8: P | H8: 1.196 | I8: marzec 2021 - luty 2022 | J8: 4702182 | K8: 2351091 | L8: =J8-K8 -> 2351091 | M8: 0.5 | N8: 0 | O8: 0 | P8: 2351091 | X8: =K8=SUM(N8:W8) -> TRUE | Y8: =ROUND(K8/J8,4) -> 0.5 | Z8: =Y8=M8 -> TRUE | AA8: =J8=K8+L8 -> TRUE
A9: 7 | B9: 594/20 | C9: N | D9: MIASTO GLIWICE | E9: 2466011 | F9: Rozbudowa odcinka ul. Ziemięcickiej w Gliwicach wraz z rozbiórką i budową nowego wiaduktu nad terenem kolejowym | G9: B | H9: 0.33 | I9: styczeń 2021 - listopad 2021 | J9: 10948476 | K9: 5474238 | L9: =J9-K9 -> 5474238 | M9: 0.5 | N9: 0 | O9: 0 | P9: 5474238 | X9: =K9=SUM(N9:W9) -> TRUE | Y9: =ROUND(K9/J9,4) -> 0.5 | Z9: =Y9=M9 -> TRUE | AA9: =J9=K9+L9 -> TRUE
A10: 8 | B10: 513/20 | C10: N | D10: POWIAT PSZCZYŃSKI | E10: 2410 | F10: Przebudowa ul. Zebrzydowickiej w Pielgrzymowicach na odcinku od sklepu przy pos. 89 do granicy Powiatu Pszczyńskiego | G10: P | H10: 0.653 | I10: marzec 2021 - listopad 2021 | J10: 3517120 | K10: 1758560 | L10: =J10-K10 -> 1758560 | M10: 0.5 | N10: 0 | O10: 0 | P10: 1758560 | X10: =K10=SUM(N10:W10) -> TRUE | Y10: =ROUND(K10/J10,4) -> 0.5 | Z10: =Y10=M10 -> TRUE | AA10: =J10=K10+L10 -> TRUE
A11: 9 | B11: 548/20 | C11: W | D11: POWIAT CZĘSTOCHOWSKI | E11: 2404 | F11: Przebudowa drogi powiatowej nr 1092 S na odc. Kuźnica Grodziska - Rudniki Kolonia, Gmina Koniecpol | G11: P | H11: 3.041 | I11: kwiecień 2021 - październik 2022 | J11: 7600000 | K11: 3800000 | L11: =J11-K11 -> 3800000 | M11: 0.5 | N11: 0 | O11: 0 | P11: 1900000 | Q11: 1900000 | X11: =K11=SUM(N11:W11) -> TRUE | Y11: =ROUND(K11/J11,4) -> 0.5 | Z11: =Y11=M11 -> TRUE | AA11: =J11=K11+L11 -> TRUE
A12: 10 | B12: 580/20 | C12: W | D12: MIASTO SOSNOWIEC | E12: 2475011 | F12: Rozbudowa skrzyżowania ul. Hubala-Dobrzańskiego- z ul. G. Zapolskiej wraz z przebudową ul. Hubala-Dobrzańskiego do zjazdu na ul. Gacka oraz rozbudową skrzyżowania ul. Wileńskiej z ul. Łukasiewicza i ul. Minerów wraz z przebudową ul. I. Łukasiewicza | G12: B | H12: 0.495 | I12: marzec 2021 - listopad 2022 | J12: 7899810 | K12: 3949905 | L12: =J12-K12 -> 3949905 | M12: 0.5 | N12: 0 | O12: 0 | P12: 1053473 | Q12: 2896432 | X12: =K12=SUM(N12:W12) -> TRUE | Y12: =ROUND(K12/J12,4) -> 0.5 | Z12: =Y12=M12 -> TRUE | AA12: =J12=K12+L12 -> TRUE
A13: 11 | B13: 409/20 | C13: N | D13: POWIAT MIKOŁOWSKI | E13: 2408 | F13: Przebudowa ulicy Pszczyńskiej w Mikołowie - etap I | G13: P | H13: 0.817 | I13: kwiecień 2021 - październik 2021 | J13: 5329380 | K13: 2664690 | L13: =J13-K13 -> 2664690 | M13: 0.5 | N13: 0 | O13: 0 | P13: 2664690 | Q13: 0 | X13: =K13=SUM(N13:W13) -> TRUE | Y13: =ROUND(K13/J13,4) -> 0.5 | Z13: =Y13=M13 -> TRUE | AA13: =J13=K13+L13 -> TRUE
A14: 12 | B14: 402/20 | C14: N | D14: POWIAT KŁOBUCKI | E14: 2406 | F14: Przebudowa drogi powiatowej nr 2003 S relacji Parzymiechy - Napoleon - Lipie | G14: P | H14: 4.572 | I14: kwiecień 2021 - listopad 2021 | J14: 12440363 | K14: 6220181.5 | L14: =J14-K14 -> 6220181.5 | M14: 0.5 | N14: 0 | O14: 0 | P14: 6220181.5 | Q14: 0 | X14: =K14=SUM(N14:W14) -> TRUE | Y14: =ROUND(K14/J14,4) -> 0.5 | Z14: =Y14=M14 -> TRUE | AA14: =J14=K14+L14 -> TRUE
A15: 13 | B15: 528/20 | C15: N | D15: POWIAT BIERUŃSKO-LĘDZIŃSKI | E15: 2414 | F15: Przebudowa drogi powiatowej 5916S, ul.Satelickiej w Imielinie w zakresie budowy ciągu pieszo-rowerowego w km drogi od 2+481,00 do 3+281,00 | G15: P | H15: 0.8 | I15: kwiecień 2021 - wrzesień 2021 | J15: 2000000 | K15: 1000000 | L15: =J15-K15 -> 1000000 | M15: 0.5 | N15: 0 | O15: 0 | P15: 1000000 | X15: =K15=SUM(N15:W15) -> TRUE | Y15: =ROUND(K15/J15,4) -> 0.5 | Z15: =Y15=M15 -> TRUE | AA15: =J15=K15+L15 -> TRUE
A16: 14 | B16: 439/20 | C16: N | D16: POWIAT BĘDZIŃSKI | E16: 2401 | F16: Przebudowa drogi powiatowej 3803S - od granicy Powiatu do skrzyżowania z ul. Podżarze w miejscowości Dziewki | G16: P | H16: 0.421 | I16: marzec 2021 - luty 2022 | J16: 2094700 | K16: 1047350 | L16: =J16-K16 -> 1047350 | M16: 0.5 | N16: 0 | O16: 0 | P16: 1047350 | Q16: 0 | X16: =K16=SUM(N16:W16) -> TRUE | Y16: =ROUND(K16/J16,4) -> 0.5 | Z16: =Y16=M16 -> TRUE | AA16: =J16=K16+L16 -> TRUE
A17: 15 | B17: 421/20 | C17: N | D17: POWIAT RYBNICKI | E17: 2412 | F17: Remont drogi powiatowej nr 5613S na odcinku ul. Ks. Pojdy w Leszczynach, od skrzyżowania z ulicą Dworcową do połączenia z nową nawierzchnią przed rondem | G17: R | H17: 0.88 | I17: marzec 2021 - listopad 2021 | J17: 5841896 | K17: 3213042.8 | L17: =J17-K17 -> 2628853.2 | M17: 0.55 | N17: 0 | O17: 0 | P17: 3213042.8 | Q17: 0 | X17: =K17=SUM(N17:W17) -> TRUE | Y17: =ROUND(K17/J17,4) -> 0.55 | Z17: =Y17=M17 -> TRUE | AA17: =J17=K17+L17 -> TRUE
A18: 16 | B18: 558/20 | C18: N | D18: MIASTO ZABRZE | E18: 2478011 | F18: Przebudowa ulicy Bytomskiej w rejonie potoku Julka w celu poprawy bezpieczeństwa w ruchu drogowym | G18: P | H18: 0.28 | I18: styczeń 2021 - październik 2021 | J18: 2474234 | K18: 1237117 | L18: =J18-K18 -> 1237117 | M18: 0.5 | N18: 0 | O18: 0 | P18: 1237117 | X18: =K18=SUM(N18:W18) -> TRUE | Y18: =ROUND(K18/J18,4) -> 0.5 | Z18: =Y18=M18 -> TRUE | AA18: =J18=K18+L18 -> TRUE
A19: 17 | B19: 408/20 | C19: N | D19: POWIAT MIKOŁOWSKI | E19: 2408 | F19: Przebudowa ulicy Chopina w Łaziskach Górnych | G19: P | H19: 0.233 | I19: kwiecień 2021 - październik 2021 | J19: 1540835 | K19: 770417.5 | L19: =J19-K19 -> 770417.5 | M19: 0.5 | N19: 0 | O19: 0 | P19: 770417.5 | X19: =K19=SUM(N19:W19) -> TRUE | Y19: =ROUND(K19/J19,4) -> 0.5 | Z19: =Y19=M19 -> TRUE | AA19: =J19=K19+L19 -> TRUE
A20: RAZEM, z tego: | H20: =SUM(H3:H19) -> 16.198 | I20: x | J20: =SUM(J3:J19) -> 71188996 | K20: =SUM(K3:K19) -> 35886593 | L20: =SUM(L3:L19) -> 35302403 | M20: x | N20: =SUM(N3:N19) -> 0 | O20: =SUM(O3:O19) -> 0 | P20: =SUM(P3:P19) -> 31090161 | Q20: =SUM(Q3:Q19) -> 4796432 | R20: =SUM(R3:R19) -> 0 | S20: =SUM(S3:S19) -> 0 | T20: =SUM(T3:T19) -> 0 | U20: =SUM(U3:U19) -> 0 | ... W20: =SUM(W3:W19) -> 0
A21: nowe zadania jednoroczne | H21: =SUMIF($C$3:$C$19,"N",H3:H19) -> 12.662 | I21: x | J21: =SUMIF($C$3:$C$19,"N",J3:J19) -> 55689186 | K21: =SUMIF($C$3:$C$19,"N",K3:K19) -> 28136688 | L21: =SUMIF($C$3:$C$19,"N",L3:L19) -> 27552498 | M21: x | N21: =SUMIF($C$3:$C$19,"N",N3:N19) -> 0 | O21: =SUMIF($C$3:$C$19,"N",O3:O19) -> 0 | P21: =SUMIF($C$3:$C$19,"N",P3:P19) -> 28136688 | Q21: =SUMIF($C$3:$C$19,"N",Q3:Q19) -> 0 | R21: =SUMIF($C$3:$C$19,"N",R3:R19) -> 0 | S21: =SUMIF($C$3:$C$19,"N",S3:S19) -> 0 | T21: =SUMIF($C$3:$C$19,"N",T3:T19) -> 0 | U21: =SUMIF($C$3:$C$19,"N",U3:U19) -> 0 | ... W21: =SUMIF($C$3:$C$19,"N",W3:W19) -> 0
A22: nowe zadania wieloletnie | H22: =SUMIF($C$3:$C$19,"W",H3:H19) -> 3.536 | I22: x | J22: =SUMIF($C$3:$C$19,"W",J3:J19) -> 15499810 | K22: =SUMIF($C$3:$C$19,"W",K3:K19) -> 7749905 | L22: =SUMIF($C$3:$C$19,"W",L3:L19) -> 7749905 | M22: x | N22: =SUMIF($C$3:$C$19,"W",N3:N19) -> 0 | O22: =SUMIF($C$3:$C$19,"W",O3:O19) -> 0 | P22: =SUMIF($C$3:$C$19,"W",P3:P19) -> 2953473 | Q22: =SUMIF($C$3:$C$19,"W",Q3:Q19) -> 4796432 | R22: =SUMIF($C$3:$C$19,"W",R3:R19) -> 0 | S22: =SUMIF($C$3:$C$19,"W",S3:S19) -> 0 | T22: =SUMIF($C$3:$C$19,"W",T3:T19) -> 0 | U22: =SUMIF($C$3:$C$19,"W",U3:U19) -> 0 | ... W22: =SUMIF($C$3:$C$19,"W",W3:W19) -> 0
A24: B - budowa (rozbudowa), P - przebudowa, R - remont
A25: kolorem czerwonym oznaczono zadania wieloletnie
A26: N - zadanie nowe, W - nowe zadanie wieloletnie

Sheet gm rez
A1: L.p. | B1: Nr ewid. | C1: Zadanie nowe/wieloletnie [N/W] | D1: Jednostka Samorządu Terytorialnego | E1: TERC | F1: Powiat | G1: Nazwa zadania | H1: Rodzaj zadania | I1: Długość odcinka (w km) | J1: Okres realizacji zadania | K1: Ogółem wartość projektu (w zł) | L1: Wnioskowana kwota dofinansowania (w zł) | M1: Deklarowana kwota środków własnych (w zł) | N1: % dofinansowania | O1: Kwota dofinansowania w podziale na lata
O2: 2019 | P2: 2020 | Q2: 2021 | R2: 2022 | S2: 2023 | T2: 2024 | U2: 2025 | V2: 2026 | W2: 2027 | X2: 2028 | Y2: spr-lata | Z2: spr-procent | AA2: spr-dof | AB2: spr-montaż
A3: 1 | B3: 507/20 | D3: GMINA OŻAROWICE (zadanie przeniesione na listę podstawową) | E3: 2413062 | F3: tarnogórski | G3: Przebudowa ul. Witomin, Kościuszki,Towarowa, Wrzosowa, Staszica, Szkolna, Stawowa, Łąkowa, Wojska Polskiego, oraz budowa drogi Polnej w Ożarowicach | Y3: =L3=SUM(O3:X3) -> TRUE | Z3: =ROUND(L3/K3,4) -> #DIV/0! | AA3: =Z3=N3 -> #DIV/0! | AB3: =K3=L3+M3 -> TRUE
A4: 2 | B4: 446/20 | D4: MIASTO ŚWIĘTOCHŁOWICE (zadanie przeniesione na listę podstawową) | E4: 2476011 | F4: Świętochłowice | G4: Przebudowa wraz z rozbudową układu komunikacyjnego ul. Przemysłowej (wewnętrznej) wraz z połączeniem do drogi wojewódzkiej DW902 (DTŚ) | Y4: =L4=SUM(O4:X4) -> TRUE | Z4: =ROUND(L4/K4,4) -> #DIV/0! | AA4: =Z4=N4 -> #DIV/0! | AB4: =K4=L4+M4 -> TRUE
A5: 3 | B5: 407/20 | D5: GMINA KOZY (zadanie przeniesione na listę podstawową) | E5: 2402072 | F5: bielski | G5: Przebudowa ciągu dróg gminnych - ul. Storczyków, ul. Liliowa, ul. Zdrojowa, ul. Bukietowa i ul. Zamkowa w Kozach | Y5: =L5=SUM(O5:X5) -> TRUE | Z5: =ROUND(L5/K5,4) -> #DIV/0! | AA5: =Z5=N5 -> #DIV/0! | AB5: =K5=L5+M5 -> TRUE
A6: 4 | B6: 450/20 | D6: GMINA PILCHOWICE | E6: 2405042 | F6: gliwicki | G6: Przebudowa drogi gminnej, ul. Gliwicka w Wilczy | Y6: =L6=SUM(O6:X6) -> TRUE | Z6: =ROUND(L6/K6,4) -> #DIV/0! | AA6: =Z6=N6 -> #DIV/0! | AB6: =K6=L6+M6 -> TRUE
A7: 5 | B7: 420/20 | D7: GMINA MIEDŹNO | E7: 2406042 | F7: kłobucki | G7: Przebudowa wraz z rozbudową dróg gminnych: 656056 S ul. Brzozowa, 656057 S ul. Leśna, ul. Cicha oraz ul. Bór w miejscowości Ostrowy nad Okszą, gm. Miedźno | Y7: =L7=SUM(O7:X7) -> TRUE | Z7: =ROUND(L7/K7,4) -> #DIV/0! | AA7: =Z7=N7 -> #DIV/0! | AB7: =K7=L7+M7 -> TRUE
A8: 6 | B8: 470/20 | C8: N | D8: GMINA GOLESZÓW | E8: 2403072 | F8: cieszyński | G8: Przebudowa ul. Kulisza w Dzięgielowie na odcinku 0,94 km | H8: P | I8: 0.942 | J8: marzec 2021 - listopad 2021 | K8: 4172136 | L8: 2294674.8 | M8: =K8-L8 -> 1877461.2 | N8: 0.55 | Q8: 2294674.8 | Y8: =L8=SUM(O8:X8) -> TRUE | Z8: =ROUND(L8/K8,4) -> 0.55 | AA8: =Z8=N8 -> TRUE | AB8: =K8=L8+M8 -> TRUE
A9: 7 | B9: 419/20 | C9: W | D9: GMINA MIEDŹNO | E9: 2406042 | F9: kłobucki | G9: Rozbudowa dróg gminnych: 656040 S ul. Głównej, ul. ks. A. Morawca, 656044 S ul. Wesołej, ul. Nadrzecznej, 656040 S. ul. Sosnowej, 656041 S ul. Dębowej i Brzozowej w miejscowości Borowa gm. Miedźno | H9: B | I9: 4.091 | J9: styczeń 2021 - wrzesień 2026 | K9: 9410119 | L9: 4705059.5 | M9: =K9-L9 -> 4705059.5 | N9: 0.5 | Q9: 215937.5 | R9: 529840 | S9: 827705.5 | T9: 1092471 | U9: 1011161.5 | V9: 1027944 | Y9: =L9=SUM(O9:X9) -> TRUE | Z9: =ROUND(L9/K9,4) -> 0.5 | AA9: =Z9=N9 -> TRUE | AB9: =K9=L9+M9 -> TRUE
A10: 8 | B10: 406/20 | C10: W | D10: GMINA SIEWIERZ | E10: 2401073 | F10: będziński | G10: Przebudowa drogi gminnej numer 608101S na ulicy Radosnej i Szerokiej w Tuliszowie w Gminie Siewierz | H10: P | I10: 1.526 | J10: czerwiec 2021 - listopad 2022 | K10: 7017821 | L10: 3508910.5 | M10: =K10-L10 -> 3508910.5 | N10: 0.5 | Q10: 580436.5 | R10: 2928474 | Y10: =L10=SUM(O10:X10) -> TRUE | Z10: =ROUND(L10/K10,4) -> 0.5 | AA10: =Z10=N10 -> TRUE | AB10: =K10=L10+M10 -> TRUE
A11: 9 | B11: 582/20 | C11: W | D11: GMINA PAWONKÓW | E11: 2407072 | F11: lubliniecki | G11: Przebudowa dróg gminnych - ulicy Dębowej, Kanuskiej, Wiejskiej i Granicznej w Łagiewnikach Wielkich i Dralinach | H11: P | I11: 3.802 | J11: marzec 2021 - październik 2022 | K11: 3825710 | L11: 1912855 | M11: =K11-L11 -> 1912855 | N11: 0.5 | Q11: 900000 | R11: 1012855 | Y11: =L11=SUM(O11:X11) -> TRUE | Z11: =ROUND(L11/K11,4) -> 0.5 | AA11: =Z11=N11 -> TRUE | AB11: =K11=L11+M11 -> TRUE
A12: 10 | B12: 456/20 | C12: W | D12: GMINA MYSZKÓW | E12: 2409011 | F12: myszkowski | G12: Budowa drogi w ul. Rolniczej wraz z infrastrukturą techniczną i dobudowy oświetlenia ulicznego | H12: B | I12: 1.034 | J12: kwiecień 2021 - październik 2022 | K12: 8095227 | L12: 4047613.5 | M12: =K12-L12 -> 4047613.5 | N12: 0.5 | Q12: 1750000 | R12: 2297613.5 | Y12: =L12=SUM(O12:X12) -> TRUE | Z12: =ROUND(L12/K12,4) -> 0.5 | AA12: =Z12=N12 -> TRUE | AB12: =K12=L12+M12 -> TRUE
A13: 11 | B13: 430/20 | C13: W | D13: GMINA SIEWIERZ | E13: 2401073 | F13: będziński | G13: Rozbudowa drogi gminnej numer 608008S ulicy Chabrowej w Siewierzu | H13: B | I13: 0.701 | J13: maj 2021 - listopad 2022 | K13: 2594377 | L13: 1297188.5 | M13: =K13-L13 -> 1297188.5 | N13: 0.5 | Q13: 625000 | R13: 672188.5 | Y13: =L13=SUM(O13:X13) -> TRUE | Z13: =ROUND(L13/K13,4) -> 0.5 | AA13: =Z13=N13 -> TRUE | AB13: =K13=L13+M13 -> TRUE
A14: 12 | B14: 512/20 | C14: N | D14: MIASTO RYBNIK | E14: 2473011 | F14: Rybnik | G14: Budowa i rozbudowa ul. Storczyków w Rybniku wraz z rozbudową skrzyżowania z ul. Energetyków (łącznik ul. Góreckiego - Energetyków) | H14: B | I14: 0.521 | J14: marzec 2021 - listopad 2021 | K14: 12741819 | L14: 6370909.5 | M14: =K14-L14 -> 6370909.5 | N14: 0.5 | Q14: 6370909.5 | Y14: =L14=SUM(O14:X14) -> TRUE | Z14: =ROUND(L14/K14,4) -> 0.5 | AA14: =Z14=N14 -> TRUE | AB14: =K14=L14+M14 -> TRUE
A15: 13 | B15: 482/20 | C15: W | D15: MIASTO BIELSKO-BIAŁA | E15: 2461011 | F15: Bielsko-Biała | G15: Rozbudowa ul. Łowieckiej w Bielsku-Białej | H15: B | I15: 1.961 | J15: marzec 2021 - listopad 2022 | K15: 18232459 | L15: 9116229.5 | M15: =K15-L15 -> 9116229.5 | N15: 0.5 | Q15: 4116229.5 | R15: 5000000 | Y15: =L15=SUM(O15:X15) -> TRUE | Z15: =ROUND(L15/K15,4) -> 0.5 | AA15: =Z15=N15 -> TRUE | AB15: =K15=L15+M15 -> TRUE
A16: 14 | B16: 449/20 | C16: W | D16: GMINA BĘDZIN | E16: 2401011 | F16: będziński | G16: Budowa układu komunikacyjnego i infrastruktury technicznej w rejonie ul. Gzichowskiej w Będzinie | H16: B | I16: 1.55 | J16: styczeń 2021 - luty 2023 | K16: 11123788 | L16: 5561894 | M16: =K16-L16 -> 5561894 | N16: 0.5 | Q16: 1112378.5 | R16: 3337136.5 | S16: 1112379 | Y16: =L16=SUM(O16:X16) -> TRUE | Z16: =ROUND(L16/K16,4) -> 0.5 | AA16: =Z16=N16 -> TRUE | AB16: =K16=L16+M16 -> TRUE
A17: 15 | B17: 499/20 | C17: W | D17: MIASTO CHORZÓW | E17: 2463011 | F17: Chorzów | G17: Przebudowa ul. Władysława Truchana na odcinku od ul. Sienkiewicza do ul. Strzelców Bytomskich w Chorzowie | H17: P | I17: 0.61 | J17: grudzień 2021 - listopad 2023 | K17: 8201757 | L17: 4100878.5 | M17: =K17-L17 -> 4100878.5 | N17: 0.5 | Q17: 25000 | R17: 2000000 | S17: 2075878.5 | Y17: =L17=SUM(O17:X17) -> TRUE | Z17: =ROUND(L17/K17,4) -> 0.5 | AA17: =Z17=N17 -> TRUE | AB17: =K17=L17+M17 -> TRUE
A18: 16 | B18: 461/20 | C18: N | D18: GMINA OLSZTYN | E18: 2404122 | F18: częstochowski | G18: Przebudowa ul. Orlich Gniazd w miejscowości Zrębice, gmina Olsztyn | H18: P | I18: 0.477 | J18: wrzesień 2021 - czerwiec 2022 | K18: 958736 | L18: 479368 | M18: =K18-L18 -> 479368 | N18: 0.5 | Q18: 479368 | Y18: =L18=SUM(O18:X18) -> TRUE | Z18: =ROUND(L18/K18,4) -> 0.5 | AA18: =Z18=N18 -> TRUE | AB18: =K18=L18+M18 -> TRUE
A19: 17 | B19: 556/20 | C19: W | D19: GMINA PSZÓW | E19: 2415011 | F19: częstochowski | G19: Remont ulicy Cisowej i ulicy Łanowej w Pszowie | H19: R | I19: 1.72 | J19: marzec 2021 - grudzień 2022 | K19: 2036664 | L19: 1221998.4 | M19: =K19-L19 -> 814665.6 | N19: 0.6 | Q19: 405682.8 | R19: 816315.6 | Y19: =L19=SUM(O19:X19) -> TRUE | Z19: =ROUND(L19/K19,4) -> 0.6 | AA19: =Z19=N19 -> TRUE | AB19: =K19=L19+M19 -> TRUE
A20: 18 | B20: 533/20 | C20: N | D20: GMINA MIERZĘCICE | E20: 2401052 | F20: będziński | G20: Przebudowa ulicy Bankowej w Gminie Mierzęcice | H20: P | I20: 0.711 | J20: marzec 2021 - listopad 2021 | K20: 606985 | L20: 333841.75 | M20: =K20-L20 -> 273143.25 | N20: 0.55 | Q20: 333841.75 | Y20: =L20=SUM(O20:X20) -> TRUE | Z20: =ROUND(L20/K20,4) -> 0.55 | AA20: =Z20=N20 -> TRUE | AB20: =K20=L20+M20 -> TRUE
A21: 19 | B21: 412/20 | C21: N | D21: GMINA KONOPISKA | E21: 2404072 | F21: częstochowski | G21: Budowa drogi gminnej ul. Szmaragdowej w Konopiskach, gmina Konopiska | H21: B | I21: 0.886 | J21: maj 2021 - kwiecień 2022 | K21: 3336570 | L21: 1668285 | M21: =K21-L21 -> 1668285 | N21: 0.5 | Q21: 1668285 | Y21: =L21=SUM(O21:X21) -> TRUE | Z21: =ROUND(L21/K21,4) -> 0.5 | AA21: =Z21=N21 -> TRUE | AB21: =K21=L21+M21 -> TRUE
A22: 20 | B22: 457/20 | C22: W | D22: GMINA MYSZKÓW | E22: 2409011 | F22: myszkowski | G22: Budowa drogi w ul. Zamenhoffa wraz z budową kanalizacji sanitarnej i kanalizacji deszczowej | H22: B | I22: 0.802 | J22: styczeń 2021 - wrzesień 2022 | K22: 6395290 | L22: 3197645 | M22: =K22-L22 -> 3197645 | N22: 0.5 | Q22: 950000 | R22: 2247645 | Y22: =L22=SUM(O22:X22) -> TRUE | Z22: =ROUND(L22/K22,4) -> 0.5 | AA22: =Z22=N22 -> TRUE | AB22: =K22=L22+M22 -> TRUE
A23: 21 | B23: 595/20 | C23: N | D23: MIASTO GLIWICE | E23: 2466011 | F23: Gliwice | G23: Budowa drogi gminnej - połączenie ul. T. Chałubińskiego (droga gminna nr 130409 S) z ul. Tarnogórską (droga krajowa nr 78) w Gliwicach | H23: B | I23: 0.479 | J23: styczeń 2021 - październik 2021 | K23: 8185501 | L23: 4092750.5 | M23: =K23-L23 -> 4092750.5 | N23: 0.5 | Q23: 4092750.5 | Y23: =L23=SUM(O23:X23) -> TRUE | Z23: =ROUND(L23/K23,4) -> 0.5 | AA23: =Z23=N23 -> TRUE | AB23: =K23=L23+M23 -> TRUE
A24: 22 | B24: 555/20 | C24: N | D24: GMINA GORZYCE | E24: 2415062 | F24: wodzisławski | G24: Przebudowa drogi gminnej ul. Mickiewicza w Gorzycach | H24: P | I24: 0.926 | J24: styczeń 2021 - październik 2021 | K24: 3944757 | L24: 2169616.4 | M24: =K24-L24 -> 1775140.6 | N24: 0.55 | Q24: 2169616.4 | Y24: =L24=SUM(O24:X24) -> TRUE | Z24: =ROUND(L24/K24,4) -> 0.55 | AA24: =Z24=N24 -> TRUE | AB24: =K24=L24+M24 -> TRUE
A25: 23 | B25: 520/20 | C25: N | D25: GMINA ZEBRZYDOWICE | E25: 2403122 | F25: cieszyński | G25: Przebudowa drogi gminnej nr 606406 S ul. Dworcowej w Zebrzydowicach | H25: P | I25: 0.39 | J25: maj 2021 - październik 2021 | K25: 814023 | L25: 447712.65 | M25: =K25-L25 -> 366310.35 | N25: 0.55 | Q25: 447712.65 | Y25: =L25=SUM(O25:X25) -> TRUE | Z25: =ROUND(L25/K25,4) -> 0.55 | AA25: =Z25=N25 -> TRUE | AB25: =K25=L25+M25 -> TRUE
A26: 24 | B26: 592/20 | C26: N | D26: GMINA NIEGOWA | E26: 2409032 | F26: myszkowski | G26: Przebudowa i rozbudowa drogi gminnej nr 680024 S w miejscowości Mzurów wraz z rozbudową oświetlenia ulicznego | H26: B | I26: 0.656 | J26: kwiecień 2021 - październik 2021 | K26: 1143241 | L26: 571620.5 | M26: =K26-L26 -> 571620.5 | N26: 0.5 | Q26: 571620.5 | Y26: =L26=SUM(O26:X26) -> TRUE | Z26: =ROUND(L26/K26,4) -> 0.5 | AA26: =Z26=N26 -> TRUE | AB26: =K26=L26+M26 -> TRUE
A27: 25 | B27: 479/20 | C27: N | D27: GMINA USTROŃ | E27: 2403021 | F27: cieszyński | G27: Rozbudowa ulicy Bładnickiej w Ustroniu na odcinku 0,55 km | H27: B | I27: 0.553 | J27: marzec 2021 - listopad 2021 | K27: 1685951 | L27: 842975.5 | M27: =K27-L27 -> 842975.5 | N27: 0.5 | Q27: 842975.5 | Y27: =L27=SUM(O27:X27) -> TRUE | Z27: =ROUND(L27/K27,4) -> 0.5 | AA27: =Z27=N27 -> TRUE | AB27: =K27=L27+M27 -> TRUE
A28: 26 | B28: 487/20 | C28: N | D28: GMINA OGRODZIENIEC | E28: 2416063 | F28: zawierciański | G28: Przebudowa drogi gminnej - ul. Bonerów w Podzamczu | H28: P | I28: 0.398 | J28: lipiec 2021 - czerwiec 2022 | K28: 686751 | L28: 377713.05 | M28: =K28-L28 -> 309037.95 | N28: 0.55 | Q28: 377713.05 | Y28: =L28=SUM(O28:X28) -> TRUE | Z28: =ROUND(L28/K28,4) -> 0.55 | AA28: =Z28=N28 -> TRUE | AB28: =K28=L28+M28 -> TRUE
A29: 27 | B29: 593/20 | C29: N | D29: GMINA ŚWIERKLANIEC | E29: 2413072 | F29: tarnogórski | G29: Budowa chodnika przy ul. Powstańców w Nakle Śląskim - Etap II | H29: B | I29: 0.531 | J29: marzec 2021 - październik 2021 | K29: 783399 | L29: 391699.5 | M29: =K29-L29 -> 391699.5 | N29: 0.5 | Q29: 391699.5 | Y29: =L29=SUM(O29:X29) -> TRUE | Z29: =ROUND(L29/K29,4) -> 0.5 | AA29: =Z29=N29 -> TRUE | AB29: =K29=L29+M29 -> TRUE
A30: 28 | B30: 526/20 | C30: N | D30: GMINA WILKOWICE | E30: 2402102 | F30: bielski | G30: Remont drogi gminnej ul. Strażackiej w Wilkowicach | H30: R | I30: 0.237 | J30: kwiecień 2021 - październik 2021 | K30: 441846 | L30: 220923 | M30: =K30-L30 -> 220923 | N30: 0.5 | Q30: 220923 | Y30: =L30=SUM(O30:X30) -> TRUE | Z30: =ROUND(L30/K30,4) -> 0.5 | AA30: =Z30=N30 -> TRUE | AB30: =K30=L30+M30 -> TRUE
A31: 29 | B31: 546/20 | C31: N | D31: GMINA GOCZAŁKOWICE-ZDRÓJ | E31: 2410012 | F31: pszczyński | G31: Rozbudowa ul. Krzyżanowskiego w Goczałkowicach-Zdroju | H31: B | I31: 0.235 | J31: kwiecień 2021 - lipiec 2021 | K31: 1187898 | L31: 593949 | M31: =K31-L31 -> 593949 | N31: 0.5 | Q31: 593949 | Y31: =L31=SUM(O31:X31) -> TRUE | Z31: =ROUND(L31/K31,4) -> 0.5 | AA31: =Z31=N31 -> TRUE | AB31: =K31=L31+M31 -> TRUE
A32: 30 | B32: 525/20 | C32: N | D32: GMINA WILKOWICE | E32: 2402102 | F32: bielski | G32: Przebudowa dróg gminnych Wiśniowej i Ornej w miejscowości Bystra | H32: P | I32: 0.28 | J32: kwiecień 2021 - październik 2021 | K32: 912687 | L32: 456343.5 | M32: =K32-L32 -> 456343.5 | N32: 0.5 | Q32: 456343.5 | Y32: =L32=SUM(O32:X32) -> TRUE | Z32: =ROUND(L32/K32,4) -> 0.5 | AA32: =Z32=N32 -> TRUE | AB32: =K32=L32+M32 -> TRUE
A33: 31 | B33: 569/20 | C33: N | D33: GMINA ŁAZY | E33: 2416053 | F33: zawierciański | G33: Budowa odcinka ulicy Różanej z włączeniem się do ulicy Wiejskiej w Łazach | H33: B | I33: 0.156 | J33: marzec 2021 - liastopad 2021 | K33: 618134 | L33: 309067 | M33: =K33-L33 -> 309067 | N33: 0.5 | Q33: 309067 | Y33: =L33=SUM(O33:X33) -> TRUE | Z33: =ROUND(L33/K33,4) -> 0.5 | AA33: =Z33=N33 -> TRUE | AB33: =K33=L33+M33 -> TRUE
A34: 32 | B34: 495/20 | C34: N | D34: GMINA WYRY | E34: 2408052 | F34: mikołowski | G34: Przebudowa ulicy Dworcowej w Wyrach | H34: P | I34: 0.787 | J34: kwiecień 2021 - październik 2021 | K34: 1740656 | L34: 870328 | M34: =K34-L34 -> 870328 | N34: 0.5 | Q34: 870328 | Y34: =L34=SUM(O34:X34) -> TRUE | Z34: =ROUND(L34/K34,4) -> 0.5 | AA34: =Z34=N34 -> TRUE | AB34: =K34=L34+M34 -> TRUE
... A36: 34 | B36: 425/20 | C36: N | D36: GMINA ZAWIERCIE | E36: 2416021 | F36: zawierciański | G36: Przebudowa nawierzchni jezdni ul. Wierczki Północ wraz z budową kanalizacji deszczowej | H36: P | I36: 0.396 | J36: styczeń 2021 - listopad 2021 | K36: 1472380 | L36: 736190 | M36: =K36-L36 -> 736190 | N36: 0.5 | Q36: 736190 | Y36: =L36=SUM(O36:X36) -> TRUE | Z36: =ROUND(L36/K36,4) -> 0.5 | AA36: =Z36=N36 -> TRUE | AB36: =K36=L36+M36 -> TRUE
A37: 35 | B37: 491/20 | C37: W | D37: GMINA PRZYSTAJŃ | E37: 2406082 | F37: kłobucki | G37: Przebudowa drogi gminnej nr 678 036 S w miejscowości Bór Zajaciński | H37: P | I37: 2.825 | J37: maj 2021 - wrzesień 2022 | K37: 2807534 | L37: 1403767 | M37: =K37-L37 -> 1403767 | N37: 0.5 | Q37: 500000 | R37: 903767 | Y37: =L37=SUM(O37:X37) -> TRUE | Z37: =ROUND(L37/K37,4) -> 0.5 | AA37: =Z37=N37 -> TRUE | AB37: =K37=L37+M37 -> TRUE
A38: 36 | B38: 535/20 | C38: N | D38: GMINA IRZĄDZE | E38: 2416032 | F38: zawierciański | G38: Przebudowa drogi gminnej Nr DG 705036 S Mikołajewice - Wilków, od DP 1782 S - DP 1790 S od km 0+000 - 1+120 | H38: P | I38: 1.12 | J38: maj 2021 - wrzesień 2021 | K38: 814920 | L38: 407460 | M38: =K38-L38 -> 407460 | N38: 0.5 | Q38: 407460 | Y38: =L38=SUM(O38:X38) -> TRUE | Z38: =ROUND(L38/K38,4) -> 0.5 | AA38: =Z38=N38 -> TRUE | AB38: =K38=L38+M38 -> TRUE
A39: 37 | B39: 590/20 | C39: N | D39: GMINA PAWŁOWICE | E39: 2410042 | F39: pszczyński | G39: Przebudowa ul. Kwiatowej w Jarząbkowicach | H39: P | I39: 0.947 | J39: kwiecień 2021 - październik 2021 | K39: 2969540 | L39: 1484770 | M39: =K39-L39 -> 1484770 | N39: 0.5 | Q39: 1484770 | Y39: =L39=SUM(O39:X39) -> TRUE | Z39: =ROUND(L39/K39,4) -> 0.5 | AA39: =Z39=N39 -> TRUE | AB39: =K39=L39+M39 -> TRUE
A40: 38 | B40: 577/20 | C40: N | D40: GMINA MIKOŁÓW | E40: 2408021 | F40: mikołowski | G40: Rozbudowa drogi ul. Plebiscytowej wraz z budową chodnika w Mikołowie | H40: B | I40: 0.794 | J40: kwiecień 2021 - listopad 2021 | K40: 5261580 | L40: 2630790 | M40: =K40-L40 -> 2630790 | N40: 0.5 | Q40: 2630790 | Y40: =L40=SUM(O40:X40) -> TRUE | Z40: =ROUND(L40/K40,4) -> 0.5 | AA40: =Z40=N40 -> TRUE | AB40: =K40=L40+M40 -> TRUE
A41: 39 | B41: 550/20 | C41: N | D41: GMINA TARNOWSKIE GÓRY | E41: 2413041 | F41: tarnogórski | G41: Rozbudowa układu drogowego w rejonie ul. Zamkowa, Bondkowskiego, Mleczna w Tarnowskich Górach - etap G | H41: B | I41: 0.38 | J41: styczeń 2021 - listopad 2021 | K41: 2948562 | L41: 1474281 | M41: =K41-L41 -> 1474281 | N41: 0.5 | Q41: 1474281 | Y41: =L41=SUM(O41:X41) -> TRUE | Z41: =ROUND(L41/K41,4) -> 0.5 | AA41: =Z41=N41 -> TRUE | AB41: =K41=L41+M41 -> TRUE
A42: 40 | B42: 451/20 | C42: N | D42: MIASTO PIEKARY ŚLĄSKIE | E42: 2471011 | F42: Piekary Śląskie | G42: Budowa drogi połączenia ulicy Powstańców Warszawskich z ulicą Bytomską w Piekarach Śląskich. Etap II | H42: B | I42: 0.167 | J42: maj 2021 -kwiecień 2022 | K42: 1205375 | L42: 602687.5 | M42: =K42-L42 -> 602687.5 | N42: 0.5 | Q42: 602687.5 | Y42: =L42=SUM(O42:X42) -> TRUE | Z42: =ROUND(L42/K42,4) -> 0.5 | AA42: =Z42=N42 -> TRUE | AB42: =K42=L42+M42 -> TRUE
A43: 41 | B43: 537/20 | C43: N | D43: GMINA KROCZYCE | E43: 2416042 | F43: zawierciański | G43: Przebudowa odcinka drogi gminnej nr 674 004S na ul. Kościuszki oraz budowa odcinka drogi dojazdowej do ul. Fryszerka wraz z ul. Fryszerka w Pradłach na terenie Gminy Kroczyce | H43: B | I43: 1.575 | J43: styczeń 2021 - listopad 2021 | K43: 1483301 | L43: 815815.55 | M43: =K43-L43 -> 667485.45 | N43: 0.55 | Q43: 815815.55 | Y43: =L43=SUM(O43:X43) -> TRUE | Z43: =ROUND(L43/K43,4) -> 0.55 | AA43: =Z43=N43 -> TRUE | AB43: =K43=L43+M43 -> TRUE
A44: 42 | B44: 498/20 | C44: N | D44: GMINA LELÓW | E44: 2404092 | F44: częstochowski | G44: Przebudowa drogi gminnej nr 689014 S w m. Biała Wielka | H44: P | I44: 2.8 | J44: kwiecień 2021 - październik 2021 | K44: 1420000 | L44: 710000 | M44: =K44-L44 -> 710000 | N44: 0.5 | Q44: 710000 | Y44: =L44=SUM(O44:X44) -> TRUE | Z44: =ROUND(L44/K44,4) -> 0.5 | AA44: =Z44=N44 -> TRUE | AB44: =K44=L44+M44 -> TRUE
A45: 43 | B45: 443/20 | C45: N | D45: GMINA OPATÓW | E45: 2406052 | F45: kłobucki | G45: Przebudowa odcinka drogi gminnej nr 664 010S - ul. Podleśna w miejscowości Wilkowiecko | H45: P | I45: 1.631 | J45: lipiec 2021 - październik 2021 | K45: 534118 | L45: 293764.9 | M45: =K45-L45 -> 240353.1 | N45: 0.55 | Q45: 293764.9 | Y45: =L45=SUM(O45:X45) -> TRUE | Z45: =ROUND(L45/K45,4) -> 0.55 | AA45: =Z45=N45 -> TRUE | AB45: =K45=L45+M45 -> TRUE
A46: 44 | B46: 444/20 | C46: N | D46: GMINA STRUMIEŃ | E46: 2403113 | F46: cieszyński | G46: Rozbudowa drogi gminnej nr 611149S ulicy Zbożowej w Pruchnej | H46: B | I46: 0.123 | J46: kwiecień 2021 - październik 2021 | K46: 336780 | L46: 185229 | M46: =K46-L46 -> 151551 | N46: 0.55 | Q46: 185229 | Y46: =L46=SUM(O46:X46) -> TRUE | Z46: =ROUND(L46/K46,4) -> 0.55 | AA46: =Z46=N46 -> TRUE | AB46: =K46=L46+M46 -> TRUE
A47: 45 | B47: 453/20 | C47: N | D47: GMINA JEJKOWICE | E47: 2412032 | F47: rybnicki | G47: Przebudowa drogi gminnej ul. Dworcowa w Jejkowicach | H47: P | I47: 0.682 | J47: maj 2021 - wrzesień 2021 | K47: 1154596 | L47: 577298 | M47: =K47-L47 -> 577298 | N47: 0.5 | Q47: 577298 | Y47: =L47=SUM(O47:X47) -> TRUE | Z47: =ROUND(L47/K47,4) -> 0.5 | AA47: =Z47=N47 -> TRUE | AB47: =K47=L47+M47 -> TRUE
A48: 46 | B48: 587/20 | C48: N | D48: GMINA STARCZA | E48: 2404162 | F48: częstochowski | G48: Przebudowa drogi gminnej Nr 706001S ulicy Sportowej w miejscowości Starcza | H48: P | I48: 0.576 | J48: kwiecień 2021 - wrzesień 2021 | K48: 1102066 | L48: 606136.3 | M48: =K48-L48 -> 495929.7 | N48: 0.55 | Q48: 606136.3 | Y48: =L48=SUM(O48:X48) -> TRUE | Z48: =ROUND(L48/K48,4) -> 0.55 | AA48: =Z48=N48 -> TRUE | AB48: =K48=L48+M48 -> TRUE
A49: 47 | B49: 574/20 | C49: N | D49: GMINA LIPIE | E49: 2406032 | F49: kłobucki | G49: Przebudowa drogi gminnej nr 667024S - ul. Główna w miejscowości Wapiennik, gm. Lipie | H49: P | I49: 1.232 | J49: marzec 2021 - październik 2021 | K49: 1634756 | L49: 817378 | M49: =K49-L49 -> 817378 | N49: 0.5 | Q49: 817378 | Y49: =L49=SUM(O49:X49) -> TRUE | Z49: =ROUND(L49/K49,4) -> 0.5 | AA49: =Z49=N49 -> TRUE | AB49: =K49=L49+M49 -> TRUE
... A52: 50 | B52: 464/20 | C52: N | D52: GMINA BORONÓW | E52: 2407022 | F52: lubliniecki | G52: Przebudowa drogi w sołectwie Grojec | H52: P | I52: 0.712 | J52: kwiecień 2021 - wrzesień 2021 | K52: 845858 | L52: 422929 | M52: =K52-L52 -> 422929 | N52: 0.5 | Q52: 422929 | Y52: =L52=SUM(O52:X52) -> TRUE | Z52: =ROUND(L52/K52,4) -> 0.5 | AA52: =Z52=N52 -> TRUE | AB52: =K52=L52+M52 -> TRUE
A53: 51 | B53: 483/20 | D53: GMINA BIERUŃ (rezygnacja wnioskodawcy z realizacji zadania) | E53: 2414011 | F53: bieruńsko-lędziński | G53: Przebudowa ul. Słowackiego i ul. Latochy w Bieruniu | Y53: =L53=SUM(O53:X53) -> TRUE | Z53: =ROUND(L53/K53,4) -> #DIV/0! | AA53: =Z53=N53 -> #DIV/0! | AB53: =K53=L53+M53 -> TRUE
A54: 52 | B54: 442/20 | C54: N | D54: GMINA OPATÓW | E54: 2406052 | F54: kłobucki | G54: Przebudowa drogi gminnej nr 664 005S - ul. Julianów w miejscowości Waleńczów | H54: P | I54: 1.631 | J54: lipiec 2021 - październik 2021 | K54: 2317363 | L54: 1274549.7 | M54: =K54-L54 -> 1042813.3 | N54: 0.55 | Q54: 1274549.7 | Y54: =L54=SUM(O54:X54) -> TRUE | Z54: =ROUND(L54/K54,4) -> 0.55 | AA54: =Z54=N54 -> TRUE | AB54: =K54=L54+M54 -> TRUE
A55: 53 | B55: 492/20 | C55: W | D55: GMINA PORĘBA | E55: 2416011 | F55: zawierciański | G55: Przebudowa ul. Roździeńskiego i ul. Wiejskiej w Porębie | H55: P | I55: 0.888 | J55: kwiecień 2021 - październik 2022 | K55: 4547921 | L55: 2501356.6 | M55: =K55-L55 -> 2046564.4 | N55: 0.55 | Q55: 851356.55 | R55: 1650000 | Y55: =L55=SUM(O55:X55) -> TRUE | Z55: =ROUND(L55/K55,4) -> 0.55 | AA55: =Z55=N55 -> TRUE | AB55: =K55=L55+M55 -> TRUE
A56: 54 | B56: 454/20 | C56: N | D56: GMINA BUCZKOWICE | E56: 2402032 | F56: bielski | G56: Remont drogi gminnej nr 627 126S ul. Radosnej w Rybarzowicach | H56: R | I56: 0.885 | J56: maj 2021 - październik 2021 | K56: 630000 | L56: 315000 | M56: =K56-L56 -> 315000 | N56: 0.5 | Q56: 315000 | Y56: =L56=SUM(O56:X56) -> TRUE | Z56: =ROUND(L56/K56,4) -> 0.5 | AA56: =Z56=N56 -> TRUE | AB56: =K56=L56+M56 -> TRUE
A57: 55 | B57: 518/20 | C57: N | D57: GMINA ŁODYGOWICE | E57: 2417082 | F57: żywiecki | G57: Remont ul. Ks. Nowaka w Pietrzykowicach (Gmina Łodygowice) | H57: R | I57: 0.454 | J57: maj 2021 - wrzesień 2021 | K57: 392704 | L57: 215987.2 | M57: =K57-L57 -> 176716.8 | N57: 0.55 | Q57: 215987.2 | Y57: =L57=SUM(O57:X57) -> TRUE | Z57: =ROUND(L57/K57,4) -> 0.55 | AA57: =Z57=N57 -> TRUE | AB57: =K57=L57+M57 -> TRUE
A58: 56 | B58: 490/20 | C58: N | D58: GMINA POPÓW | E58: 2406072 | F58: kłobucki | G58: Rozbudowa drogi gminnej w miejscowości Antonie | H58: B | I58: 0.361 | J58: luty 2021 - październik 2021 | K58: 882671 | L58: 441335.5 | M58: =K58-L58 -> 441335.5 | N58: 0.5 | Q58: 441335.5 | Y58: =L58=SUM(O58:X58) -> TRUE | Z58: =ROUND(L58/K58,4) -> 0.5 | AA58: =Z58=N58 -> TRUE | AB58: =K58=L58+M58 -> TRUE
A59: 57 | B59: 554/20 | C59: N | D59: GMINA MIERZĘCICE | E59: 2401052 | F59: będziński | G59: Przebudowa ulicy Nowowiejskiej w Gminie Mierzęcice | H59: P | I59: 0.9 | J59: marzec 2021 - listopad 2021 | K59: 805369 | L59: 442952.95 | M59: =K59-L59 -> 362416.05 | N59: 0.55 | Q59: 442952.95 | Y59: =L59=SUM(O59:X59) -> TRUE | Z59: =ROUND(L59/K59,4) -> 0.55 | AA59: =Z59=N59 -> TRUE | AB59: =K59=L59+M59 -> TRUE
A60: 58 | B60: 489/20 | C60: W | D60: GMINA POPÓW | E60: 2406072 | F60: kłobucki | G60: Rozbudowa ulic Turystycznej i Sosnowej w miejscowości Zawady, Gmina Popów | H60: B | I60: 0.515 | J60: styczeń 2021 - grudzień 2022 | K60: 1595219 | L60: 797609.5 | M60: =K60-L60 -> 797609.5 | N60: 0.5 | Q60: 30750 | R60: 766859.5 | Y60: =L60=SUM(O60:X60) -> TRUE | Z60: =ROUND(L60/K60,4) -> 0.5 | AA60: =Z60=N60 -> TRUE | AB60: =K60=L60+M60 -> TRUE
A61: 59 | B61: 552/20 | C61: N | D61: GMINA GODÓW | E61: 2415052 | F61: wodzisławski | G61: Przebudowa drogi gminnej ul. Ks. Roberta Wallacha w Skrzyszowie- 605 054S - odcinek 250 mb. | H61: P | I61: 0.25 | J61: styczeń 2021 - lipiec 2021 | K61: 527646 | L61: 290205.3 | M61: =K61-L61 -> 237440.7 | N61: 0.55 | Q61: 290205.3 | Y61: =L61=SUM(O61:X61) -> TRUE | Z61: =ROUND(L61/K61,4) -> 0.55 | AA61: =Z61=N61 -> TRUE | AB61: =K61=L61+M61 -> TRUE
A62: 60 | B62: 509/20 | C62: W | D62: GMINA OŻAROWICE | E62: 2413062 | F62: tarnogórski | G62: Budowa dróg gminnych ul. Spacerowa i Grabowa i przebudowa drogi gminnej ul. Jasionek | H62: B | I62: 2.15 | J62: marzec 2021 - listopad 2022 | K62: 4730033 | L62: 2365016.5 | M62: =K62-L62 -> 2365016.5 | N62: 0.5 | Q62: 900000 | R62: 1465016.5 | Y62: =L62=SUM(O62:X62) -> TRUE | Z62: =ROUND(L62/K62,4) -> 0.5 | AA62: =Z62=N62 -> TRUE | AB62: =K62=L62+M62 -> TRUE
A63: 61 | B63: 589/20 | C63: N | D63: GMINA WRĘCZYCA WIELKA | E63: 2406092 | F63: kłobucki | G63: Remont drogi gminnej w miejscowości Klepaczka, gm. Wręczyca Wielka | H63: R | I63: 0.995 | J63: marzec 2021 - listopad 2021 | K63: 1002113 | L63: 551162.15 | M63: =K63-L63 -> 450950.85 | N63: 0.55 | Q63: 551162.15 | Y63: =L63=SUM(O63:X63) -> TRUE | Z63: =ROUND(L63/K63,4) -> 0.55 | AA63: =Z63=N63 -> TRUE | AB63: =K63=L63+M63 -> TRUE
A64: 62 | B64: 591/20 | C64: N | D64: GMINA WILAMOWICE | E64: 2402093 | F64: bielski | G64: Remont ulicy Polnej w Pisarzowicach | H64: R | I64: 0.896 | J64: kwiecień 2021 - listopad 2021 | K64: 945151 | L64: 519833.05 | M64: =K64-L64 -> 425317.95 | N64: 0.55 | Q64: 519833.05 | Y64: =L64=SUM(O64:X64) -> TRUE | Z64: =ROUND(L64/K64,4) -> 0.55 | AA64: =Z64=N64 -> TRUE | AB64: =K64=L64+M64 -> TRUE
A65: 63 | B65: 476/20 | C65: N | D65: GMINA ŻARNOWIEC | E65: 2416102 | F65: zawierciański | G65: Przebudowa drogi gminnej nr 692009 S Wola Libertowska Szkoła km 0+000 - 0+690 | H65: P | I65: 0.69 | J65: kwiecień 2021 - listopad 2021 | K65: 722647 | L65: 361323.5 | M65: =K65-L65 -> 361323.5 | N65: 0.5 | Q65: 361323.5 | Y65: =L65=SUM(O65:X65) -> TRUE | Z65: =ROUND(L65/K65,4) -> 0.5 | AA65: =Z65=N65 -> TRUE | AB65: =K65=L65+M65 -> TRUE
A66: 64* | B66: 496/20 | C66: N | D66: GMINA WYRY | E66: 2408052 | F66: mikołowski | G66: Przebudowa ulicy Zawodzie w Wyrach | H66: P | I66: 0.669 | J66: kwiecień 2021 - listopad 2021 | K66: 2778338 | L66: 102101.77 | M66: =K66-L66 -> 2676236.2 | N66: 0.5 | Q66: 102101.77 | Y66: =L66=SUM(O66:X66) -> TRUE | Z66: =ROUND(L66/K66,4) -> 0.0367 | AA66: =Z66=N66 -> FALSE | AB66: =K66=L66+M66 -> TRUE
A67: RAZEM, z tego: | I67: =SUM(I3:I66) -> 57.65 | J67: x | K67: =SUM(K3:K66) -> 171358742 | L67: =SUM(L3:L66) -> 85849292 | M67: =SUM(M3:M66) -> 85509450 | N67: x | O67: =SUM(O3:O66) -> 0 | P67: =SUM(P3:P66) -> 0 | Q67: =SUM(Q3:Q66) -> 53074041 | R67: =SUM(R3:R66) -> 25627711 | S67: =SUM(S3:S66) -> 4015963 | T67: =SUM(T3:T66) -> 1092471 | U67: =SUM(U3:U66) -> 1011161.5 | V67: =SUM(V3:V66) -> 1027944 | ... X67: =SUM(X3:X66) -> 0 | Y67: =L67=SUM(O67:X67) -> TRUE | Z67: =ROUND(L67/K67,4) -> 0.501 | AB67: =K67=L67+M67 -> TRUE
A68: nowe zadania jednoroczne | I68: =SUMIF($C$3:$C$66,"N",I3:I66) -> 33.475 | J68: x | K68: =SUMIF($C$3:$C$66,"N",K3:K66) -> 80744823 | L68: =SUMIF($C$3:$C$66,"N",L3:L66) -> 40111270 | M68: =SUMIF($C$3:$C$66,"N",M3:M66) -> 40633553 | N68: x | O68: =SUMIF($C$3:$C$66,"N",O3:O66) -> 0 | P68: =SUMIF($C$3:$C$66,"N",P3:P66) -> 0 | Q68: =SUMIF($C$3:$C$66,"N",Q3:Q66) -> 40111270 | R68: =SUMIF($C$3:$C$66,"N",R3:R66) -> 0 | S68: =SUMIF($C$3:$C$66,"N",S3:S66) -> 0 | T68: =SUMIF($C$3:$C$66,"N",T3:T66) -> 0 | U68: =SUMIF($C$3:$C$66,"N",U3:U66) -> 0 | V68: =SUMIF($C$3:$C$66,"N",V3:V66) -> 0 | ... X68: =SUMIF($C$3:$C$66,"N",X3:X66) -> 0 | Y68: =L68=SUM(O68:X68) -> TRUE | Z68: =ROUND(L68/K68,4) -> 0.4968 | AB68: =K68=L68+M68 -> TRUE
A69: nowe zadania wieloletnie | I69: =SUMIF($C$3:$C$66,"W",I3:I66) -> 24.175 | J69: x | K69: =SUMIF($C$3:$C$66,"W",K3:K66) -> 90613919 | L69: =SUMIF($C$3:$C$66,"W",L3:L66) -> 45738022 | M69: =SUMIF($C$3:$C$66,"W",M3:M66) -> 44875897 | N69: x | O69: =SUMIF($C$3:$C$66,"W",O3:O66) -> 0 | P69: =SUMIF($C$3:$C$66,"W",P3:P66) -> 0 | Q69: =SUMIF($C$3:$C$66,"W",Q3:Q66) -> 12962771 | R69: =SUMIF($C$3:$C$66,"W",R3:R66) -> 25627711 | S69: =SUMIF($C$3:$C$66,"W",S3:S66) -> 4015963 | T69: =SUMIF($C$3:$C$66,"W",T3:T66) -> 1092471 | U69: =SUMIF($C$3:$C$66,"W",U3:U66) -> 1011161.5 | V69: =SUMIF($C$3:$C$66,"W",V3:V66) -> 1027944 | ... X69: =SUMIF($C$3:$C$66,"W",X3:X66) -> 0 | Y69: =L69=SUM(O69:X69) -> TRUE | Z69: =ROUND(L69/K69,4) -> 0.5048 | AB69: =K69=L69+M69 -> TRUE
A71: kolorem czerwonym oznaczono zadania wieloletnie
A72: B - budowa (rozbudowa), P - przebudowa, R - remont
A73: N - zadanie nowe, W - nowe zadanie wieloletnie
