Workbook

Sheet 24 - śląskie
A1: Lista zmieniona nr 8 zadań rekomendowanych do dofinansowania w ramach Rządowego Funduszu Rozwoju Dróg
F2: ZATWIERDZAM Dorota Wójtowicz z up. WOJEWODY ŚLĄSKIEGO -podpisano elektronicznie- Katowice, 6 października 2023 r.
A4: Dofinansowanie przyznane w naborze: na rok 2023
A6: Województwo: Śląskie
A11: Podsumowanie naboru:
A12: Kategoria drogi - rodzaj listy | B12: Liczba zadań | C12: Wartość zadań ogółem | D12: Deklarowana kwota środków własnych | E12: Kwota dofinasowania ogółem | F12: Kwota dofinansowania w podziale na lata
F13: 2019 | G13: 2020 | H13: 2021 | I13: 2022 | J13: 2023 | K13: 2024 | L13: 2025 | M13: 2026 | N13: 2027 | O13: 2028
A14: powiatowe - lista podstawowa, z tego: | B14: =COUNTA('pow podst'!K3:K44) -> 31 | C14: =SUM('pow podst'!J3:J44) -> 3.0663297e+08 | D14: =SUM('pow podst'!L3:L44) -> 1.5725069e+08 | E14: =SUM('pow podst'!K3:K44) -> 1.4938228e+08 | F14: =SUM('pow podst'!N3:N44) -> 0 | G14: =SUM('pow podst'!O3:O44) -> 0 | H14: =SUM('pow podst'!P3:P44) -> 11897858 | I14: =SUM('pow podst'!Q3:Q44) -> 31156628 | J14: =SUM('pow podst'!R3:R44) -> 69007833 | K14: =SUM('pow podst'!S3:S44) -> 31290055 | L14: =SUM('pow podst'!T3:T44) -> 6029909 | M14: =SUM('pow podst'!U3:U44) -> 0 | ... O14: =SUM('pow podst'!W3:W44) -> 0 | P14: =C14=(D14+E14) -> TRUE | Q14: =E14=SUM(F14:O14) -> TRUE
A15: kontynuowane zadania wieloletnie | B15: =COUNTIF('pow podst'!C3:C44,"K") -> 13 | C15: =SUMIF('pow podst'!C3:C44,"K",'pow podst'!J3:J44) -> 1.3871339e+08 | D15: =SUMIF('pow podst'!C3:C44,"K",'pow podst'!L3:L44) -> 68345230 | E15: =SUMIF('pow podst'!C3:C44,"K",'pow podst'!K3:K44) -> 70368161 | F15: =SUMIF('pow podst'!$C$3:$C$44,"K",'pow podst'!N3:N44) -> 0 | G15: =SUMIF('pow podst'!$C$3:$C$44,"K",'pow podst'!O3:O44) -> 0 | H15: =SUMIF('pow podst'!$C$3:$C$44,"K",'pow podst'!P3:P44) -> 11897858 | I15: =SUMIF('pow podst'!$C$3:$C$44,"K",'pow podst'!Q3:Q44) -> 31156628 | J15: =SUMIF('pow podst'!$C$3:$C$44,"K",'pow podst'!R3:R44) -> 24368070 | K15: =SUMIF('pow podst'!$C$3:$C$44,"K",'pow podst'!S3:S44) -> 2945604.3 | L15: =SUMIF('pow podst'!$C$3:$C$44,"K",'pow podst'!T3:T44) -> 0 | M15: =SUMIF('pow podst'!$C$3:$C$44,"K",'pow podst'!U3:U44) -> 0 | ... O15: =SUMIF('pow podst'!$C$3:$C$44,"K",'pow podst'!W3:W44) -> 0 | P15: =C15=(D15+E15) -> TRUE | Q15: =E15=SUM(F15:O15) -> TRUE
A16: nowe zadania jednoroczne | B16: =COUNTIF('pow podst'!C3:C44,"N") -> 11 | C16: =SUMIF('pow podst'!C3:C44,"N",'pow podst'!J3:J44) -> 49862510 | D16: =SUMIF('pow podst'!C3:C44,"N",'pow podst'!L3:L44) -> 24697697 | E16: =SUMIF('pow podst'!C3:C44,"N",'pow podst'!K3:K44) -> 25164813 | F16: =SUMIF('pow podst'!$C$3:$C$44,"N",'pow podst'!N3:N44) -> 0 | G16: =SUMIF('pow podst'!$C$3:$C$44,"N",'pow podst'!O3:O44) -> 0 | H16: =SUMIF('pow podst'!$C$3:$C$44,"N",'pow podst'!P3:P44) -> 0 | I16: =SUMIF('pow podst'!$C$3:$C$44,"N",'pow podst'!Q3:Q44) -> 0 | J16: =SUMIF('pow podst'!$C$3:$C$44,"N",'pow podst'!R3:R44) -> 25164813 | K16: =SUMIF('pow podst'!$C$3:$C$44,"N",'pow podst'!S3:S44) -> 0 | L16: =SUMIF('pow podst'!$C$3:$C$44,"N",'pow podst'!T3:T44) -> 0 | M16: =SUMIF('pow podst'!$C$3:$C$44,"N",'pow podst'!U3:U44) -> 0 | ... O16: =SUMIF('pow podst'!$C$3:$C$44,"N",'pow podst'!W3:W44) -> 0 | P16: =C16=(D16+E16) -> TRUE | Q16: =E16=SUM(F16:O16) -> TRUE
A17: nowe zadania wieloletnie | B17: =COUNTIF('pow podst'!C3:C44,"W") -> 7 | C17: =SUMIF('pow podst'!C3:C44,"W",'pow podst'!J3:J44) -> 1.1805707e+08 | D17: =SUMIF('pow podst'!C3:C44,"W",'pow podst'!L3:L44) -> 64207761 | E17: =SUMIF('pow podst'!C3:C44,"W",'pow podst'!K3:K44) -> 53849310 | F17: =SUMIF('pow podst'!$C$3:$C$44,"W",'pow podst'!N3:N44) -> 0 | G17: =SUMIF('pow podst'!$C$3:$C$44,"W",'pow podst'!O3:O44) -> 0 | H17: =SUMIF('pow podst'!$C$3:$C$44,"W",'pow podst'!P3:P44) -> 0 | I17: =SUMIF('pow podst'!$C$3:$C$44,"W",'pow podst'!Q3:Q44) -> 0 | J17: =SUMIF('pow podst'!$C$3:$C$44,"W",'pow podst'!R3:R44) -> 19474949 | K17: =SUMIF('pow podst'!$C$3:$C$44,"W",'pow podst'!S3:S44) -> 28344451 | L17: =SUMIF('pow podst'!$C$3:$C$44,"W",'pow podst'!T3:T44) -> 6029909 | M17: =SUMIF('pow podst'!$C$3:$C$44,"W",'pow podst'!U3:U44) -> 0 | ... O17: =SUMIF('pow podst'!$C$3:$C$44,"W",'pow podst'!W3:W44) -> 0 | P17: =C17=(D17+E17) -> TRUE | Q17: =E17=SUM(F17:O17) -> TRUE
A18: gminne - lista podstawowa, z tego: | B18: =COUNTA('gm podst'!L3:L71) -> 57 | C18: =SUM('gm podst'!K3:K71) -> 3.1886357e+08 | D18: =SUM('gm podst'!M3:M71) -> 1.7328542e+08 | E18: =SUM('gm podst'!L3:L71) -> 1.4557815e+08 | F18: =SUM('gm podst'!O3:O71) -> 0 | G18: =SUM('gm podst'!P3:P71) -> 0 | H18: =SUM('gm podst'!Q3:Q71) -> 9360007.4 | I18: =SUM('gm podst'!R3:R71) -> 19662609 | J18: =SUM('gm podst'!S3:S71) -> 70058643 | K18: =SUM('gm podst'!T3:T71) -> 26641758 | L18: =SUM('gm podst'!U3:U71) -> 10120578 | M18: =SUM('gm podst'!V3:V71) -> 5827282 | ... O18: =SUM('gm podst'!X3:X71) -> 1714275.5 | P18: =C18=(D18+E18) -> TRUE | Q18: =E18=SUM(F18:O18) -> TRUE
A19: kontynuowane zadania wieloletnie | B19: =COUNTIF('gm podst'!C3:C71,"K") -> 22 | C19: =SUMIF('gm podst'!C3:C71,"K",'gm podst'!K3:K71) -> 1.3221897e+08 | D19: =SUMIF('gm podst'!C3:C71,"K",'gm podst'!M3:M71) -> 72932278 | E19: =SUMIF('gm podst'!C3:C71,"K",'gm podst'!L3:L71) -> 59286693 | F19: =SUMIF('gm podst'!$C$3:$C$71,"K",'gm podst'!O3:O71) -> 0 | G19: =SUMIF('gm podst'!$C$3:$C$71,"K",'gm podst'!P3:P71) -> 0 | H19: =SUMIF('gm podst'!$C$3:$C$71,"K",'gm podst'!Q3:Q71) -> 9360007.4 | I19: =SUMIF('gm podst'!$C$3:$C$71,"K",'gm podst'!R3:R71) -> 19662609 | J19: =SUMIF('gm podst'!$C$3:$C$71,"K",'gm podst'!S3:S71) -> 24459872 | K19: =SUMIF('gm podst'!$C$3:$C$71,"K",'gm podst'!T3:T71) -> 3765099.5 | L19: =SUMIF('gm podst'!$C$3:$C$71,"K",'gm podst'!U3:U71) -> 1011161.5 | M19: =SUMIF('gm podst'!$C$3:$C$71,"K",'gm podst'!V3:V71) -> 1027944 | ... O19: =SUMIF('gm podst'!$C$3:$C$71,"K",'gm podst'!X3:X71) -> 0 | P19: =C19=(D19+E19) -> TRUE | Q19: =E19=SUM(F19:O19) -> TRUE
A20: nowe zadania jednoroczne | B20: =COUNTIF('gm podst'!C3:C71,"N") -> 19 | C20: =SUMIF('gm podst'!C3:C71,"N",'gm podst'!K3:K71) -> 74706764 | D20: =SUMIF('gm podst'!C3:C71,"N",'gm podst'!M3:M71) -> 40140709 | E20: =SUMIF('gm podst'!C3:C71,"N",'gm podst'!L3:L71) -> 34566056 | F20: =SUMIF('gm podst'!$C$3:$C$71,"N",'gm podst'!O3:O71) -> 0 | G20: =SUMIF('gm podst'!$C$3:$C$71,"N",'gm podst'!P3:P71) -> 0 | H20: =SUMIF('gm podst'!$C$3:$C$71,"N",'gm podst'!Q3:Q71) -> 0 | I20: =SUMIF('gm podst'!$C$3:$C$71,"N",'gm podst'!R3:R71) -> 0 | J20: =SUMIF('gm podst'!$C$3:$C$71,"N",'gm podst'!S3:S71) -> 34566056 | K20: =SUMIF('gm podst'!$C$3:$C$71,"N",'gm podst'!T3:T71) -> 0 | L20: =SUMIF('gm podst'!$C$3:$C$71,"N",'gm podst'!U3:U71) -> 0 | M20: =SUMIF('gm podst'!$C$3:$C$71,"N",'gm podst'!V3:V71) -> 0 | ... O20: =SUMIF('gm podst'!$C$3:$C$71,"N",'gm podst'!X3:X71) -> 0 | P20: =C20=(D20+E20) -> TRUE | Q20: =E20=SUM(F20:O20) -> TRUE
A21: nowe zadania wieloletnie | B21: =COUNTIF('gm podst'!C3:C71,"W") -> 16 | C21: =SUMIF('gm podst'!C3:C71,"W",'gm podst'!K3:K71) -> 1.1193784e+08 | D21: =SUMIF('gm podst'!C3:C71,"W",'gm podst'!M3:M71) -> 60212434 | E21: =SUMIF('gm podst'!C3:C71,"W",'gm podst'!L3:L71) -> 51725404 | F21: =SUMIF('gm podst'!$C$3:$C$71,"W",'gm podst'!O3:O71) -> 0 | G21: =SUMIF('gm podst'!$C$3:$C$71,"W",'gm podst'!P3:P71) -> 0 | H21: =SUMIF('gm podst'!$C$3:$C$71,"W",'gm podst'!Q3:Q71) -> 0 | I21: =SUMIF('gm podst'!$C$3:$C$71,"W",'gm podst'!R3:R71) -> 0 | J21: =SUMIF('gm podst'!$C$3:$C$71,"W",'gm podst'!S3:S71) -> 11032715 | K21: =SUMIF('gm podst'!$C$3:$C$71,"W",'gm podst'!T3:T71) -> 22876658 | L21: =SUMIF('gm podst'!$C$3:$C$71,"W",'gm podst'!U3:U71) -> 9109416.5 | M21: =SUMIF('gm podst'!$C$3:$C$71,"W",'gm podst'!V3:V71) -> 4799338 | ... O21: =SUMIF('gm podst'!$C$3:$C$71,"W",'gm podst'!X3:X71) -> 1714275.5 | P21: =C21=(D21+E21) -> TRUE | Q21: =E21=SUM(F21:O21) -> TRUE
A22: RAZEM listy podstawowe, z tego: | B22: =B14+B18 -> 88 | C22: =C14+C18 -> 6.2549654e+08 | D22: =D14+D18 -> 330536108 | E22: =E14+E18 -> 2.9496044e+08 | F22: =F14+F18 -> 0 | G22: =G14+G18 -> 0 | H22: =H14+H18 -> 21257866 | I22: =I14+I18 -> 50819237 | ... O22: =O14+O18 -> 1714275.5 | P22: =C22=(D22+E22) -> TRUE | Q22: =E22=SUM(F22:O22) -> TRUE
A23: kontynuowane zadania wieloletnie | B23: =B15+B19 -> 35 | C23: =C15+C19 -> 2.7093236e+08 | D23: =D15+D19 -> 1.4127751e+08 | E23: =E15+E19 -> 1.2965485e+08 | F23: =F15+F19 -> 0 | G23: =G15+G19 -> 0 | H23: =H15+H19 -> 21257866 | I23: =I15+I19 -> 50819237 | ... O23: =O15+O19 -> 0 | P23: =C23=(D23+E23) -> TRUE | Q23: =E23=SUM(F23:O23) -> TRUE
A24: nowe zadania jednoroczne | B24: =B16+B20 -> 30 | C24: =C16+C20 -> 1.2456927e+08 | D24: =D16+D20 -> 64838406 | E24: =E16+E20 -> 59730869 | F24: =F16+F20 -> 0 | G24: =G16+G20 -> 0 | H24: =H16+H20 -> 0 | I24: =I16+I20 -> 0 | ... O24: =O16+O20 -> 0 | P24: =C24=(D24+E24) -> TRUE | Q24: =E24=SUM(F24:O24) -> TRUE
A25: nowe zadania wieloletnie | B25: =B17+B21 -> 23 | C25: =C17+C21 -> 2.2999491e+08 | D25: =D17+D21 -> 1.2442019e+08 | E25: =E17+E21 -> 1.0557471e+08 | F25: =F17+F21 -> 0 | G25: =G17+G21 -> 0 | H25: =H17+H21 -> 0 | I25: =I17+I21 -> 0 | ... O25: =O17+O21 -> 1714275.5 | P25: =C25=(D25+E25) -> TRUE | Q25: =E25=SUM(F25:O25) -> TRUE
A26: powiatowe - lista rezerwowa | B26: =COUNTA('pow rez'!K3:K15) -> 0 | C26: =SUM('pow rez'!J3:J15) -> 0 | D26: =SUM('pow rez'!L3:L15) -> 0 | E26: =SUM('pow rez'!K3:K15) -> 0 | F26: =SUM('pow rez'!N3:N15) -> 0 | G26: =SUM('pow rez'!O3:O15) -> 0 | H26: =SUM('pow rez'!P3:P15) -> 0 | I26: =SUM('pow rez'!Q3:Q15) -> 0 | J26: =SUM('pow rez'!R3:R15) -> 0 | K26: =SUM('pow rez'!S3:S15) -> 0 | L26: =SUM('pow rez'!T3:T15) -> 0 | M26: =SUM('pow rez'!U3:U15) -> 0 | ... O26: =SUM('pow rez'!W3:W15) -> 0 | P26: =C26=(D26+E26) -> TRUE | Q26: =E26=SUM(F26:O26) -> TRUE
A27: nowe zadania jednoroczne | B27: =COUNTIF('pow rez'!C3:C15,"N") -> 0 | C27: =SUMIF('pow rez'!C3:C15,"N",'pow rez'!J3:J15) -> 0 | D27: =SUMIF('pow rez'!C3:C15,"N",'pow rez'!L3:L15) -> 0 | E27: =SUMIF('pow rez'!C3:C15,"N",'pow rez'!K3:K15) -> 0 | F27: =SUMIF('pow rez'!$C$3:$C$15,"N",'pow rez'!N3:N15) -> 0 | G27: =SUMIF('pow rez'!$C$3:$C$15,"N",'pow rez'!O3:O15) -> 0 | H27: =SUMIF('pow rez'!$C$3:$C$15,"N",'pow rez'!P3:P15) -> 0 | I27: =SUMIF('pow rez'!$C$3:$C$15,"N",'pow rez'!Q3:Q15) -> 0 | J27: =SUMIF('pow rez'!$C$3:$C$15,"N",'pow rez'!R3:R15) -> 0 | K27: =SUMIF('pow rez'!$C$3:$C$15,"N",'pow rez'!S3:S15) -> 0 | L27: =SUMIF('pow rez'!$C$3:$C$15,"N",'pow rez'!T3:T15) -> 0 | M27: =SUMIF('pow rez'!$C$3:$C$15,"N",'pow rez'!U3:U15) -> 0 | ... O27: =SUMIF('pow rez'!$C$3:$C$15,"N",'pow rez'!W3:W15) -> 0 | P27: =C27=(D27+E27) -> TRUE | Q27: =E27=SUM(F27:O27) -> TRUE
A28: nowe zadania wieloletnie | B28: =COUNTIF('pow rez'!C3:C15,"W") -> 0 | C28: =SUMIF('pow rez'!C3:C15,"W",'pow rez'!J3:J15) -> 0 | D28: =SUMIF('pow rez'!C3:C15,"W",'pow rez'!L3:L15) -> 0 | E28: =SUMIF('pow rez'!C3:C15,"W",'pow rez'!K3:K15) -> 0 | F28: =SUMIF('pow rez'!$C$3:$C$15,"W",'pow rez'!N3:N15) -> 0 | G28: =SUMIF('pow rez'!$C$3:$C$15,"W",'pow rez'!O3:O15) -> 0 | H28: =SUMIF('pow rez'!$C$3:$C$15,"W",'pow rez'!P3:P15) -> 0 | I28: =SUMIF('pow rez'!$C$3:$C$15,"W",'pow rez'!Q3:Q15) -> 0 | J28: =SUMIF('pow rez'!$C$3:$C$15,"W",'pow rez'!R3:R15) -> 0 | K28: =SUMIF('pow rez'!$C$3:$C$15,"W",'pow rez'!S3:S15) -> 0 | L28: =SUMIF('pow rez'!$C$3:$C$15,"W",'pow rez'!T3:T15) -> 0 | M28: =SUMIF('pow rez'!$C$3:$C$15,"W",'pow rez'!U3:U15) -> 0 | ... O28: =SUMIF('pow rez'!$C$3:$C$15,"W",'pow rez'!W3:W15) -> 0 | P28: =C28=(D28+E28) -> TRUE | Q28: =E28=SUM(F28:O28) -> TRUE
A29: gminne - lista rezerwowa | B29: =COUNTA('gm rez'!L3:L42) -> 27 | C29: =SUM('gm rez'!K3:K42) -> 61388558 | D29: =SUM('gm rez'!M3:M42) -> 30493335 | E29: =SUM('gm rez'!L3:L42) -> 30895223 | F29: =SUM('gm rez'!O3:O42) -> 0 | G29: =SUM('gm rez'!P3:P42) -> 0 | H29: =SUM('gm rez'!Q3:Q42) -> 0 | I29: =SUM('gm rez'!R3:R42) -> 0 | J29: =SUM('gm rez'!S3:S42) -> 19743523 | K29: =SUM('gm rez'!T3:T42) -> 8632107.5 | L29: =SUM('gm rez'!U3:U42) -> 2519592.5 | M29: =SUM('gm rez'!V3:V42) -> 0 | ... O29: =SUM('gm rez'!X3:X42) -> 0 | P29: =C29=(D29+E29) -> TRUE | Q29: =E29=SUM(F29:O29) -> TRUE
A30: nowe zadania jednoroczne | B30: =COUNTIF('gm rez'!C3:C42,"N") -> 18 | C30: =SUMIF('gm rez'!C3:C42,"N",'gm rez'!K3:K42) -> 27375071 | D30: =SUMIF('gm rez'!C3:C42,"N",'gm rez'!M3:M42) -> 13486591 | E30: =SUMIF('gm rez'!C3:C42,"N",'gm rez'!L3:L42) -> 13888480 | F30: =SUMIF('gm rez'!C3:C42,"N",'gm rez'!O3:O42) -> 0 | G30: =SUMIF('gm rez'!C3:C42,"N",'gm rez'!P3:P42) -> 0 | H30: =SUMIF('gm rez'!C3:C42,"N",'gm rez'!Q3:Q42) -> 0 | I30: =SUMIF('gm rez'!C3:C42,"N",'gm rez'!R3:R42) -> 0 | J30: 13888480 | K30: =SUMIF('gm rez'!F3:F42,"N",'gm rez'!T3:T42) -> 0 | L30: =SUMIF('gm rez'!G3:G42,"N",'gm rez'!U3:U42) -> 0 | M30: =SUMIF('gm rez'!H3:H42,"N",'gm rez'!V3:V42) -> 0 | N30: =SUMIF('gm rez'!I3:I42,"N",'gm rez'!W3:W42) -> 0 | O30: =SUMIF('gm rez'!J3:J42,"N",'gm rez'!X3:X42) -> 0 | P30: =C30=(D30+E30) -> TRUE | Q30: =E30=SUM(F30:O30) -> TRUE
A31: nowe zadania wieloletnie | B31: =COUNTIF('gm rez'!C3:C42,"W") -> 9 | C31: =SUMIF('gm rez'!C3:C42,"W",'gm rez'!K3:K42) -> 34013487 | D31: =SUMIF('gm rez'!C3:C42,"W",'gm rez'!M3:M42) -> 17006744 | E31: =SUMIF('gm rez'!C3:C42,"W",'gm rez'!L3:L42) -> 17006744 | F31: =SUMIF('gm rez'!C3:C42,"W",'gm rez'!O3:O42) -> 0 | G31: =SUMIF('gm rez'!C3:C42,"W",'gm rez'!P3:P42) -> 0 | H31: =SUMIF('gm rez'!C3:C42,"W",'gm rez'!Q3:Q42) -> 0 | I31: =SUMIF('gm rez'!C3:C42,"W",'gm rez'!R3:R42) -> 0 | J31: =SUMIF('gm rez'!C3:C42,"W",'gm rez'!S3:S42) -> 5855043.5 | K31: =SUMIF('gm rez'!C3:C42,"W",'gm rez'!T3:T42) -> 8632107.5 | L31: =SUMIF('gm rez'!C3:C42,"W",'gm rez'!U3:U42) -> 2519592.5 | M31: =SUMIF('gm rez'!C3:C42,"W",'gm rez'!V3:V42) -> 0 | N31: =SUMIF('gm rez'!C3:C42,"W",'gm rez'!W3:W42) -> 0 | O31: =SUMIF('gm rez'!C3:C42,"W",'gm rez'!X3:X42) -> 0 | P31: =C31=(D31+E31) -> TRUE | Q31: =E31=SUM(F31:O31) -> TRUE
A32: RAZEM listy rezerwowe, z tego: | B32: =B26+B29 -> 27 | C32: =C26+C29 -> 61388558 | D32: =D26+D29 -> 30493335 | E32: =E26+E29 -> 30895223 | F32: =F26+F29 -> 0 | G32: =G26+G29 -> 0 | H32: =H26+H29 -> 0 | I32: =I26+I29 -> 0 | ... O32: =O26+O29 -> 0 | P32: =C32=(D32+E32) -> TRUE | Q32: =E32=SUM(F32:O32) -> TRUE
A33: nowe zadania jednoroczne | B33: =B27+B30 -> 18 | C33: =C27+C30 -> 27375071 | D33: =D27+D30 -> 13486591 | E33: =E27+E30 -> 13888480 | F33: =F27+F30 -> 0 | G33: =G27+G30 -> 0 | H33: =H27+H30 -> 0 | I33: =I27+I30 -> 0 | ... O33: =O27+O30 -> 0 | P33: =C33=(D33+E33) -> TRUE | Q33: =E33=SUM(F33:O33) -> TRUE
A34: nowe zadania wieloletnie | B34: =B28+B31 -> 9 | C34: =C28+C31 -> 34013487 | D34: =D28+D31 -> 17006744 | E34: =E28+E31 -> 17006744 | F34: =F28+F31 -> 0 | G34: =G28+G31 -> 0 | H34: =H28+H31 -> 0 | I34: =I28+I31 -> 0 | ... O34: =O28+O31 -> 0 | P34: =C34=(D34+E34) -> TRUE | Q34: =E34=SUM(F34:O34) -> TRUE
A35: RAZEM listy, z tego: | B35: =B22+B32 -> 115 | C35: =C22+C32 -> 6.868851e+08 | D35: =D22+D32 -> 3.6102944e+08 | E35: =E22+E32 -> 3.2585566e+08 | F35: =F22+F32 -> 0 | G35: =G22+G32 -> 0 | H35: =H22+H32 -> 21257866 | I35: =I22+I32 -> 50819237 | ... O35: =O22+O32 -> 1714275.5 | P35: =C35=(D35+E35) -> TRUE | Q35: =E35=SUM(F35:O35) -> TRUE
A36: kontynuowane zadania wieloletnie | B36: =B23 -> 35 | C36: =C23 -> 2.7093236e+08 | D36: =D23 -> 1.4127751e+08 | E36: =E23 -> 1.2965485e+08 | F36: =F23 -> 0 | G36: =G23 -> 0 | H36: =H23 -> 21257866 | I36: =I23 -> 50819237 | ... O36: =O23 -> 0 | P36: =C36=(D36+E36) -> TRUE | Q36: =E36=SUM(F36:O36) -> TRUE
A37: nowe zadania jednoroczne | B37: =B24+B33 -> 48 | C37: =C24+C33 -> 1.5194435e+08 | D37: =D24+D33 -> 78324997 | E37: =E24+E33 -> 73619349 | F37: =F24+F33 -> 0 | G37: =G24+G33 -> 0 | H37: =H24+H33 -> 0 | I37: =I24+I33 -> 0 | ... O37: =O24+O33 -> 0 | P37: =C37=(D37+E37) -> TRUE | Q37: =E37=SUM(F37:O37) -> TRUE
A38: nowe zadania wieloletnie | B38: =B25+B34 -> 32 | C38: =C25+C34 -> 2.640084e+08 | D38: =D25+D34 -> 1.4142694e+08 | E38: =E25+E34 -> 1.2258146e+08 | F38: =F25+F34 -> 0 | G38: =G25+G34 -> 0 | H38: =H25+H34 -> 0 | I38: =I25+I34 -> 0 | ... O38: =O25+O34 -> 1714275.5 | P38: =C38=(D38+E38) -> TRUE | Q38: =E38=SUM(F38:O38) -> TRUE
B40: =B35=B36+B37+B38 -> TRUE | C40: =C35=C36+C37+C38 -> TRUE | D40: =D35=D36+D37+D38 -> TRUE | E40: =E35=E36+E37+E38 -> TRUE | F40: =F35=F36+F37+F38 -> TRUE | G40: =G35=G36+G37+G38 -> TRUE | H40: =H35=H36+H37+H38 -> TRUE | I40: =I35=I36+I37+I38 -> TRUE | ... O40: =O35=O36+O37+O38 -> TRUE
B41: =B23=B36 -> TRUE | C41: =C23=C36 -> TRUE | D41: =D23=D36 -> TRUE | E41: =E23=E36 -> TRUE | F41: =F23=F36 -> TRUE | G41: =G23=G36 -> TRUE | H41: =H23=H36 -> TRUE | I41: =I23=I36 -> TRUE | ... O41: =O23=O36 -> TRUE
B42: =B16+B20+B27+B30=B37 -> TRUE | C42: =C16+C20+C27+C30=C37 -> TRUE | D42: =D16+D20+D27+D30=D37 -> TRUE | E42: =E16+E20+E27+E30=E37 -> TRUE | F42: =F16+F20+F27+F30=F37 -> TRUE | G42: =G16+G20+G27+G30=G37 -> TRUE | H42: =H16+H20+H27+H30=H37 -> TRUE | I42: =I16+I20+I27+I30=I37 -> TRUE | ... O42: =O16+O20+O27+O30=O37 -> TRUE
B43: =B17+B21+B28+B31=B38 -> TRUE | C43: =C17+C21+C28+C31=C38 -> TRUE | D43: =D17+D21+D28+D31=D38 -> TRUE | E43: =E17+E21+E28+E31=E38 -> TRUE | F43: =F17+F21+F28+F31=F38 -> TRUE | G43: =G17+G21+G28+G31=G38 -> TRUE | H43: =H17+H21+H28+H31=H38 -> TRUE | I43: =I17+I21+I28+I31=I38 -> TRUE | ... O43: =O17+O21+O28+O31=O38 -> TRUE
B44: =B14=B15+B16+B17 -> TRUE | C44: =C14=C15+C16+C17 -> TRUE | D44: =D14=D15+D16+D17 -> TRUE | E44: =E14=E15+E16+E17 -> TRUE | F44: =F14=F15+F16+F17 -> TRUE | G44: =G14=G15+G16+G17 -> TRUE | H44: =H14=H15+H16+H17 -> TRUE | I44: =I14=I15+I16+I17 -> TRUE | ... O44: =O14=O15+O16+O17 -> TRUE
B45: =B18=B19+B20+B21 -> TRUE | C45: =C18=C19+C20+C21 -> TRUE | D45: =D18=D19+D20+D21 -> TRUE | E45: =E18=E19+E20+E21 -> TRUE | F45: =F18=F19+F20+F21 -> TRUE | G45: =G18=G19+G20+G21 -> TRUE | H45: =H18=H19+H20+H21 -> TRUE | I45: =I18=I19+I20+I21 -> TRUE | ... O45: =O18=O19+O20+O21 -> TRUE
B46: =B22=B23+B24+B25 -> TRUE | C46: =C22=C23+C24+C25 -> TRUE | D46: =D22=D23+D24+D25 -> TRUE | E46: =E22=E23+E24+E25 -> TRUE | F46: =F22=F23+F24+F25 -> TRUE | G46: =G22=G23+G24+G25 -> TRUE | H46: =H22=H23+H24+H25 -> TRUE | I46: =I22=I23+I24+I25 -> TRUE | ... O46: =O22=O23+O24+O25 -> TRUE
B47: =B26=B27+B28 -> TRUE | C47: =C26=C27+C28 -> TRUE | D47: =D26=D27+D28 -> TRUE | E47: =E26=E27+E28 -> TRUE | F47: =F26=F27+F28 -> TRUE | G47: =G26=G27+G28 -> TRUE | H47: =H26=H27+H28 -> TRUE | I47: =I26=I27+I28 -> TRUE | ... O47: =O26=O27+O28 -> TRUE
B48: =B29=B30+B31 -> TRUE | C48: =C29=C30+C31 -> TRUE | D48: =D29=D30+D31 -> TRUE | E48: =E29=E30+E31 -> TRUE | F48: =F29=F30+F31 -> TRUE | G48: =G29=G30+G31 -> TRUE | H48: =H29=H30+H31 -> TRUE | I48: =I29=I30+I31 -> TRUE | ... O48: =O29=O30+O31 -> TRUE
B49: =B32=+B33+B34 -> TRUE | C49: =C32=+C33+C34 -> TRUE | D49: =D32=+D33+D34 -> TRUE | E49: =E32=+E33+E34 -> TRUE | F49: =F32=+F33+F34 -> TRUE | G49: =G32=+G33+G34 -> TRUE | H49: =H32=+H33+H34 -> TRUE | I49: =I32=+I33+I34 -> TRUE | ... O49: =O32=+O33+O34 -> TRUE

Sheet pow podst
A1: L.p. | B1: Nr ewid. | C1: Zadanie nowe/kontynuowane/wieloletnie [N/K/W] | D1: Jednostka Samorządu Terytorialnego | E1: TERC | F1: Nazwa zadania | G1: Rodzaj zadania | H1: Długość odcinka (w km) | I1: Okres realizacji zadania | J1: Ogółem wartość projektu (w zł) | K1: Wnioskowana kwota dofinansowania (w zł) | L1: Deklarowana kwota środków własnych (w zł) | M1: % dofinansowania | N1: Kwota dofinansowania w podziale na lata
N2: 2019 | O2: 2020 | P2: 2021 | Q2: 2022 | R2: 2023 | S2: 2024 | T2: 2025 | U2: 2026 | V2: 2027 | W2: 2028 | X2: spr-lata | Y2: spr-procent | Z2: spr-dof | AA2: spr-montaż
A3: 1 | B3: 447/20 | C3: K | D3: MIASTO ŚWIĘTOCHŁOWICE | E3: 2476 | F3: Przebudowa układu komunikacyjnego w ciągu ul. Łagiewnickiej w Świętochłowicach wraz z przebudową infrastruktury tramwajowej | G3: P | H3: 2.026 | I3: czerwiec 2021 - październik 2023 | J3: 13165176 | K3: =P3+Q3+R3 -> 6582588.1 | L3: =J3-K3 -> 6582588.1 | M3: 0.5 | P3: 309000 | Q3: 5273588 | R3: 1000000.1 | X3: =K3=SUM(N3:W3) -> TRUE | Y3: =ROUND(K3/J3,4) -> 0.5 | Z3: =Y3=M3 -> TRUE | AA3: =J3=K3+L3 -> TRUE
A4: 2 | B4: 481/20 | C4: K | D4: MIASTO CZĘSTOCHOWA | E4: 2464 | F4: Rozbudowa ul. Jesiennej od ul. Rydza-Śmigłego do Al. 11-go Listopada w Częstochowie | G4: B | H4: 1.185 | I4: sierpień 2021 - wrzesień 2023 | J4: =K4+L4 -> 8847769.8 | K4: =P4+Q4 -> 4423884.9 | L4: 4423884.9 | M4: 0.5 | P4: 1620830.5 | Q4: 2803054.4 | X4: =K4=SUM(N4:W4) -> TRUE | Y4: =ROUND(K4/J4,4) -> 0.5 | Z4: =Y4=M4 -> TRUE | AA4: =J4=K4+L4 -> TRUE
A5: 3 | B5: 517/20 | C5: K | D5: POWIAT BIELSKI | E5: 2402 | F5: Przebudowa drogi powiatowej 4424 S na długości 3459 mb w miejscowości Rudzica - Międzyrzecze Dolne - Międzyrzecze Górne | G5: P | H5: 3.459 | I5: czerwiec 2021 - wrzesień 2023 | J5: 11573675 | K5: 5786837 | L5: =J5-K5 -> 5786837.7 | M5: 0.5 | P5: 3000000 | Q5: 2286837 | R5: 500000 | X5: =K5=SUM(N5:W5) -> TRUE | Y5: =ROUND(K5/J5,4) -> 0.5 | Z5: =Y5=M5 -> TRUE | AA5: =J5=K5+L5 -> TRUE
A6: 4 | B6: 514/20 | C6: K | D6: POWIAT PSZCZYŃSKI | E6: 2410 | F6: Przebudowa drogi powiatowej nr 4103S tj. ul. Pawiej w Wiśle Małej i ul. Jedności w Studzionce - etap II | G6: P | H6: 1.735 | I6: wrzesień 2021 - listopad 2023 | J6: 5011265 | K6: 2505632.5 | L6: =J6-K6 -> 2505632.5 | M6: 0.5 | P6: 1000000 | Q6: 1505632.5 | X6: =K6=SUM(N6:W6) -> TRUE | Y6: =ROUND(K6/J6,4) -> 0.5 | Z6: =Y6=M6 -> TRUE | AA6: =J6=K6+L6 -> TRUE
A7: 5 | B7: 431/20 | C7: K | D7: POWIAT WODZISŁAWSKI | E7: 2415 | F7: Przebudowa drogi powiatowej nr 3512S (ul. Raciborska) Bełsznica-Rogów | G7: P | H7: 1.963 | I7: październik 2021 - lipiec 2023 | J7: 8079521.6 | K7: =P7+Q7 -> 4443736.9 | L7: =J7-K7 -> 3635784.7 | M7: 0.55 | P7: 3648570.8 | Q7: 795166.1 | X7: =K7=SUM(N7:W7) -> TRUE | Y7: =ROUND(K7/J7,4) -> 0.55 | Z7: =Y7=M7 -> TRUE | AA7: =J7=K7+L7 -> TRUE
A8: 6 | B8: 516/20 | C8: K | D8: POWIAT BIELSKI | E8: 2402 | F8: Przebudowa ciągu dróg powiatowych 4489 S oraz 4488 S na długości 2415 mb w Dankowicach i Starej Wsi | G8: P | H8: 2.415 | I8: listopad 2021 - marzec 2023 | J8: 7097887.3 | K8: 3548943 | L8: =J8-K8 -> 3548944.3 | M8: 0.5 | P8: 2319457 | Q8: 1229486 | X8: =K8=SUM(N8:W8) -> TRUE | Y8: =ROUND(K8/J8,4) -> 0.5 | Z8: =Y8=M8 -> TRUE | AA8: =J8=K8+L8 -> TRUE
A9: 7 | B9: 742/21 | C9: K | D9: POWIAT BIELSKI | E9: 2402 | F9: Przebudowa drogi powiatowej nr 4441S Czechowice-Dziedzice-Kaniów, na długości 492 mb w Czechowicach Dziedzicach | G9: P | H9: 0.492 | I9: lipiec 2022-lipiec 2023 | J9: 3602134 | K9: 1801067 | L9: 1801067 | M9: 0.5 | Q9: 853271 | R9: 947796 | X9: TRUE | Y9: =ROUND(K9/J9,4) -> 0.5 | Z9: TRUE | AA9: TRUE
A10: 8 | B10: 815/21 | C10: K | D10: POWIAT RACIBORSKI | E10: 2411 | F10: Przebudowa drogi powiatowej nr 3506S na odcinku od skrzyżowania z DW 916 do skrzyżowania z DP 3528S w Krzanowicach oraz remont od skrzyżowania z DP 3528S do skrzyżowania z DW 917 i przebudowa drogi powiatowej nr 3529 S na odcinku od DK 45 w Tworkowie do początku obszaru zabudowanego Borucina | G10: P | H10: 7.6 | I10: czerwiec 2022-maj 2024 | J10: =K10+L10 -> 19291209 | K10: =Q10+R10+S10 -> 9645604.3 | L10: =9645604.27+0.01 -> 9645604.3 | M10: 0.5 | Q10: 3500000 | R10: 5000000 | S10: 1145604.3 | X10: TRUE | Y10: =ROUND(K10/J10,4) -> 0.5 | Z10: TRUE | AA10: TRUE
A11: 9 | B11: 790/21 | C11: K | D11: MIASTO MYSŁOWICE | E11: 2470 | F11: Przebudowa ulicy Długiej w Mysłowicach - etap I | G11: p | H11: 1.577 | I11: sierpień 2022-lipiec 2024 | J11: 12933258 | K11: 9053280.1 | L11: 3879977.9 | M11: 0.7 | Q11: 5185060.5 | R11: 3868219.5 | X11: TRUE | Y11: =ROUND(K11/J11,4) -> 0.7 | Z11: TRUE | AA11: TRUE
A12: 10 | B12: 838/21 | C12: K | D12: MIASTO DĄBROWA GÓRNICZA | E12: 2465 | F12: Przebudowa pasa drogowego ulicy Staszica i Oddziału A.K. Ordona w Dąbrowie Górniczej | G12: P | H12: 2.249 | I12: lipiec 2022-grudzień 2023 | J12: =K12+L12 -> 9585489.5 | K12: 3867383.5 | L12: 5718106 | M12: 0.5 | Q12: 1291639 | R12: 2575744.5 | X12: TRUE | Y12: =ROUND(K12/J12,4) -> 0.4035 | Z12: TRUE | AA12: TRUE
A13: 11 | B13: 821/21 | D13: POWIAT ZAWIERCIAŃSKI (rezygnacja wnioskodawcy z realizacji zadania) | E13: 2416 | F13: Przebudowa dróg powiatowych nr 1767 S i 1776 S w miejscowościach Wólka Ołudzka, Jeziorowice, Otola, Wola Libertowska i Żarnowiec | X13: TRUE | Y13: =ROUND(K13/J13,4) -> #DIV/0! | Z13: TRUE | AA13: TRUE
A14: 12 | B14: 758/21 | C14: K | D14: POWIAT WODZISŁAWSKI | E14: 2415 | F14: Przebudowa drogi powiatowej nr 5020S (ul. Czarnieckiego) w Wodzisławiu Śląskim | G14: P | H14: 2.097 | I14: lipiec 2022-listopad 2023 | J14: 12937705 | K14: 7115737.7 | L14: 5821967.2 | M14: 0.55 | Q14: 3182893.4 | R14: 3932844.3 | X14: TRUE | Y14: =ROUND(K14/J14,4) -> 0.55 | Z14: TRUE | AA14: TRUE
A15: 13 | B15: 816/21 | C15: K | D15: POWIAT CZĘSTOCHOWSKI | E15: 2404 | F15: Przebudowa drogi powiatowej nr 1072 S w miejscowości Stary Broniszew, gmina Mykanów | G15: P | H15: 2.24 | I15: kwiecień 2022-grudzień 2024 | J15: =K15+L15 -> 9101000 | K15: 3750000 | L15: 5351000 | M15: 0.5 | Q15: 150000 | R15: 1800000 | S15: 1800000 | X15: TRUE | Y15: =ROUND(K15/J15,4) -> 0.412 | Z15: TRUE | AA15: TRUE
A16: 14 | B16: 799/21 | C16: K | D16: POWIAT RACIBORSKI | E16: 2411 | F16: Przebudowa drogi powiatowej nr 3548S w Raciborzu od Placu Konstytucji 3 Maja do ul. Gwiaździstej, od ul. Wandy do rejonu skrzyżowania z ul. Sejmową i od skrzyżowania z ul. Węgierską do działki nr 106 oraz rozbudowa drogi powiatowej nr 3548S w Raciborzu od działki nr 59 do drogi wojewódzkiej nr 416 | G16: P | H16: 2.546 | I16: czerwiec 2022-grudzień 2023 | J16: =K16+L16 -> 17487301 | K16: 7843466 | L16: 9643834.9 | M16: 0.5 | Q16: 3100000 | R16: 4743466 | X16: TRUE | Y16: =ROUND(K16/J16,4) -> 0.4485 | Z16: TRUE | AA16: TRUE
A17: 15 | B17: 805/21 | D17: POWIAT PSZCZYŃSKI (rezygnacja wnioskodawcy z realizacji zadania) | E17: 2410 | F17: Przebudowa dróg powiatowych nr 4101S, 4105S oraz 4106S tj. ul. Zjednoczenia i Pszczyńskiej w Pawłowicach | X17: TRUE | Y17: =ROUND(K17/J17,4) -> #DIV/0! | Z17: TRUE | AA17: TRUE
A18: 16 | B18: 955/22 | C18: W | D18: POWIAT BIELSKI | E18: 2402 | F18: Przebudowa drogi powiatowej 4116S ul. Legionów w Czechowicach-Dziedzicach na odcinku od ul. Lipowskiej do granicy Bielska-Białej | G18: P | H18: 1.778 | I18: czerwiec 2023-listopad 2024 | J18: 17237892 | K18: 8618946 | L18: =J18-K18 -> 8618946 | M18: 0.5 | R18: 5000000 | S18: 3618946 | X18: TRUE | Y18: =ROUND(K18/J18,4) -> 0.5 | Z18: TRUE | AA18: TRUE
A19: 17 | B19: 956/22 | C19: W | D19: POWIAT BIELSKI | E19: 2402 | F19: Przebudowa drogi powiatowej nr 4444S Czechowice-Bestwina-Dankowice-Jawiszowice na długości 1881 mb w Dankowicach | G19: P | H19: 1.881 | I19: maj 2023-sierpień 2024 | J19: =K19+L19 -> 11804786 | K19: 5443584 | L19: 6361202.1 | M19: 0.5 | R19: 2943584 | S19: 2500000 | X19: TRUE | Y19: =ROUND(K19/J19,4) -> 0.4611 | Z19: TRUE | AA19: TRUE
A20: 18 | B20: 905/22 | C20: W | D20: POWIAT MYSZKOWSKI | E20: 2409 | F20: Przebudowa drogi powiatowej od ronda w m. Postęp do ronda w m. Myszków - Mrzygłód na odcinku długości ok. 8,5 km - Usprawnienie i poprawa bezpieczeństwa ruchu drogowego i pieszych | G20: P | H20: 1.733 | I20: luty 2023-czerwiec 2024 | J20: 19387885 | K20: 9693942.5 | L20: =J20-K20 -> 9693942.5 | M20: 0.5 | R20: 5816365.5 | S20: 3877577 | X20: TRUE | Y20: =ROUND(K20/J20,4) -> 0.5 | Z20: TRUE | AA20: TRUE
A21: 19 | B21: 931/22 | C21: N | D21: MIASTO JASTRZĘBIE ZDRÓJ | E21: 2467 | F21: Przebudowa ul. Jagiełły w Jastrzębiu-Zdroju | G21: P | H21: 1.005 | I21: kwiecień 2023-marzec 2024 | J21: 2763506.1 | K21: 1381753 | L21: 1381753.1 | M21: 0.5 | R21: =K21 -> 1381753 | X21: TRUE | Y21: =ROUND(K21/J21,4) -> 0.5 | Z21: TRUE | AA21: TRUE
A22: 20 | B22: 935/22 | C22: W | D22: MIASTO JAWORZNO | E22: 2468 | F22: Przebudowa ul. Szczakowskiej 6800 S wraz z budową ronda w Jaworznie | G22: P | H22: 1.45 | I22: marzec 2023-październik 2025 | J22: 25123598 | K22: 12561799 | L22: =J22-K22 -> 12561799 | M22: 0.5 | R22: 840000 | S22: 9642955 | T22: 2078844 | X22: TRUE | Y22: =ROUND(K22/J22,4) -> 0.5 | Z22: TRUE | AA22: TRUE
A23: 21 | B23: 924/22 | C23: W | D23: POWIAT TARNOGÓRSKI | E23: 2413 | F23: Przebudowa DP3224S ulica Mikulczycka w Świętoszowicach | G23: P | H23: 2.765 | I23: lipiec 2023-październik 2025 | J23: 20152130 | K23: 10076065 | L23: =J23-K23 -> 10076065 | M23: 0.5 | R23: 125000 | S23: 6000000 | T23: 3951065 | X23: TRUE | Y23: =ROUND(K23/J23,4) -> 0.5 | Z23: TRUE | AA23: TRUE
A24: 22 | B24: 960/22 | C24: N | D24: POWIAT PSZCZYŃSKI | E24: 2410 | F24: Przebudowa ul. Zebrzydowickiej w Pielgrzymowicach na odcinku od mostu nad rzeką Pielgrzymówką do granicy Powiatu Pszczyńskiego | G24: P | H24: 2.293 | I24: maj 2023 - maj 2024 | J24: 5469505.4 | K24: 3008227.9 | L24: 2461277.4 | M24: 0.55 | R24: 3008227.9 | X24: TRUE | Y24: =ROUND(K24/J24,4) -> 0.55 | Z24: TRUE | AA24: TRUE
A25: 23 | B25: 1000/22 | D25: POWIAT ZAWIERCIAŃSKI (rezygnacja wnioskodawcy z realizacji zadania) | E25: 2416 | F25: Przebudowa drogi powiatowej nr 1770 S - Etap I | X25: TRUE | Y25: =ROUND(K25/J25,4) -> #DIV/0! | Z25: TRUE | AA25: TRUE
A26: 24 | B26: 989/22 | D26: POWIAT CZĘSTOCHOWSKI (rezygnacja wnioskodawcy z realizacji zadania) | E26: 2404 | F26: Przebudowa drogi powiatowej nr 1029 S w miejscowości Garnek, gmina Kłomnice | X26: TRUE | Y26: =ROUND(K26/J26,4) -> #DIV/0! | Z26: TRUE | AA26: TRUE
A27: 25 | B27: 921/22 | D27: POWIAT RYBNICKI (rezygnacja wnioskodawcy z realizacji zadania) | E27: 2412 | F27: Przebudowa drogi powiatowej nr 5621S - ulica Odrodzenia w Dębieńsku | X27: TRUE | Y27: =ROUND(K27/J27,4) -> #DIV/0! | Z27: TRUE | AA27: TRUE
A28: 26 | B28: 954/22 | C28: W | D28: POWIAT MIKOŁOWSKI | E28: 2408 | F28: Przebudowa ul. Pszczyńskiej w Mikołowie - etap II | G28: P | H28: 0.595 | I28: maj 2023-listopad 2024 | J28: 8114998.4 | K28: =R28+S28 -> 3768438.5 | L28: =J28-K28 -> 4346559.9 | M28: 0.5 | R28: 2250000 | S28: 1518438.5 | X28: TRUE | Y28: =ROUND(K28/J28,4) -> 0.4644 | Z28: TRUE | AA28: TRUE
A29: 27 | B29: 934/22 | C29: N | D29: POWIAT GLIWICKI | E29: 2405 | F29: Rozbudowa drogi powiatowej Nr 2927S ul. Olchowa w Żernicy | G29: B | H29: 0.541 | I29: sierpień 2023-czerwiec 2024 | J29: 2419360.2 | K29: 1209680.1 | L29: 1209680.1 | M29: 0.5 | R29: 1209680.1 | X29: TRUE | Y29: =ROUND(K29/J29,4) -> 0.5 | Z29: TRUE | AA29: TRUE
A30: 28 | B30: 937/22 | D30: POWIAT ŻYWIECKI (rezygnacja wnioskodawcy z realizacji zadania) | E30: 2417 | F30: Przebudowa oraz remont drogi powiatowej nr 1435 S Cięcina-Węgierska Górka-Milówka w miejscowości Cięcina | X30: TRUE | Y30: =ROUND(K30/J30,4) -> #DIV/0! | Z30: TRUE | AA30: TRUE
A31: 29 | B31: 982/22 | C31: N | D31: MIASTO ŻORY | E31: 2479 | F31: Przebudowa drogi Al. Jana Pawła II w Żorach wraz z przebudową sieci elektroenergetycznej (oświetlenie) | G31: P | H31: 0.94 | I31: kwiecień 2023-marzec 2024 | J31: 5806720.6 | K31: 2903360.3 | L31: 2903360.3 | M31: 0.5 | R31: 2903360.3 | X31: TRUE | Y31: =ROUND(K31/J31,4) -> 0.5 | Z31: TRUE | AA31: TRUE
A32: 30 | B32: 959/22 | C32: N | D32: POWIAT BĘDZIŃSKI | E32: 2401 | F32: Przebudowa drogi powiatowej 4803S - ul. Bohaterów w Siewierzu | G32: P | H32: 0.297 | I32: maj 2023-kwiecień 2024 | J32: 3279041.6 | K32: 1279000 | L32: =J32-K32 -> 2000041.6 | M32: 0.5 | R32: 1279000 | X32: TRUE | Y32: =ROUND(K32/J32,4) -> 0.3901 | Z32: TRUE | AA32: TRUE
A33: 31 | B33: 958/22 | C33: N | D33: POWIAT BĘDZIŃSKI | E33: 2401 | F33: Przebudowa drogi powiatowej 4721S - ul. Zagórska w Będzinie | G33: P | H33: 0.79 | I33: maj 2023-kwiecień 2024 | J33: 3628943.2 | K33: 1814471 | L33: =J33-K33 -> 1814472.2 | M33: 0.5 | R33: 1814471 | X33: TRUE | Y33: =ROUND(K33/J33,4) -> 0.5 | Z33: TRUE | AA33: TRUE
A34: 32 | B34: 966/22 | C34: N | D34: POWIAT CIESZYŃSKI | E34: 2403 | F34: Rozbudowa odcinków dróg powiatowych 2623 S (ul. Katowicka) i 2624 S (ul. Cieszyńska) wraz z ich skrzyżowaniem w miejscowości Pogwizdów | G34: B | H34: 0.988 | I34: czerwiec 2023-maj 2024 | J34: 13499485 | K34: 7424716.8 | L34: 6074768.2 | M34: 0.55 | R34: =K34 -> 7424716.8 | X34: TRUE | Y34: =ROUND(K34/J34,4) -> 0.55 | Z34: TRUE | AA34: TRUE
A35: 33** | B35: 945/22 | C35: W | D35: MIASTO RYBNIK | E35: 2473 | F35: Rozbudowa ul. Sportowej w Rybniku na odcinku od przejazdu kolejowego do ul. Morcinka | G35: B | H35: 0.871 | I35: czerwiec 2023-wrzesień 2024 | J35: 16235781 | K35: =R35+S35 -> 3686534.5 | L35: =J35-K35 -> 12549246 | M35: 0.5 | R35: 2500000 | S35: 1186534.5 | X35: TRUE | Y35: =ROUND(K35/J35,4) -> 0.2271 | Z35: TRUE | AA35: TRUE
A36: 34 | B36: 949/22 | C36: N | D36: POWIAT WODZISŁAWSKI | E36: 2415 | F36: Przebudowa drogi powiatowej nr 5001S ul. Głożyńskiej w Radlinie (od skrzyżowania z ul. J. Rymera do skrzyżowania z ul. M. Strzody) | G36: P | H36: 0.392 | I36: lipiec 2023-czerwiec 2024 | J36: 4373236 | K36: 2405279.8 | L36: =J36-K36 -> 1967956.2 | M36: 0.55 | R36: 2405279.8 | S36: 0 | X36: TRUE | Y36: =ROUND(K36/J36,4) -> 0.55 | Z36: TRUE | AA36: TRUE
A37: 35 | B37: 904/22 | D37: POWIAT MYSZKOWSKI (rezygnacja wnioskodawcy z realizacji zadania) | E37: 2409 | F37: Budowa ścieżki pieszo-rowerowej Lgota Mokrzesz - Nowa Kuźnica - w ramach przebudowy drogi powiatowej nr DP3800S wraz z kanalizacją deszczową | X37: TRUE | Y37: =ROUND(K37/J37,4) -> #DIV/0! | Z37: TRUE | AA37: TRUE
A38: 36 | B38: 936/22 | D38: POWIAT ŻYWIECKI (rezygnacja wnioskodawcy z realizacji zadania) | E38: 2417 | F38: Przebudowa drogi powiatowej 1455 S wraz z budową chodnika dla pieszych, kanalizacji deszczowej i przebudową urządzeń obcych w m. Lipowa | X38: TRUE | Y38: =ROUND(K38/J38,4) -> #DIV/0! | Z38: TRUE | AA38: TRUE
A39: 37 | B39: 990/22 | D39: POWIAT CZĘSTOCHOWSKI (rezygnacja wnioskodawcy z realizacji zadania) | E39: 2404 | F39: Przebudowa drogi powiatowej nr 1057 S na odc. Wrzosowa - Huta Stara B, gmina Poczesna | X39: TRUE | Y39: =ROUND(K39/J39,4) -> #DIV/0! | Z39: TRUE | AA39: TRUE
A40: 38 | B40: 971/22 | D40: MIASTO SOSNOWIEC (rezygnacja wnioskodawcy z realizacji zadania) | E40: 2475 | F40: Rozbudowa skrzyżowania ul. Wileńskiej z ul. Łukasiewicza i ul. Minerów wraz z przebudową ul. Łukasiewicza | X40: TRUE | Y40: =ROUND(K40/J40,4) -> #DIV/0! | Z40: TRUE | AA40: TRUE
A41: 39 | B41: 961/22 | D41: POWIAT PSZCZYŃSKI (rezygnacja wnioskodawcy z realizacji zadania) | E41: 2410 | F41: Przebudowa ul. Chopina w Pszczynie na odcinku od ul. Staromiejskiej do ronda Św. Jadwigi | X41: TRUE | Y41: =ROUND(K41/J41,4) -> #DIV/0! | Z41: TRUE | AA41: TRUE
A42: 40 | B42: 922/22 | C42: N | D42: POWIAT RYBNICKI | E42: 2412 | F42: Przebudowa drogi powiatowej nr 5604S ulica Raciborska w Bogunicach | G42: P | H42: 0.84 | I42: marzec 2023-grudzień 2023 | J42: 3000859 | K42: 1500429.5 | L42: =J42-K42 -> 1500429.5 | M42: 0.5 | R42: =464836.72+1035592.78 -> 1500429.5 | X42: TRUE | Y42: =ROUND(K42/J42,4) -> 0.5 | Z42: TRUE | AA42: TRUE
A43: 41 | B43: 933/22 | C43: N | D43: POWIAT GLIWICKI | E43: 2405 | F43: Przebudowa i remont nawierzchni drogi powiatowej Nr 2970S ul. Wiejska w Pisarzowicach | G43: P | H43: 1.35 | I43: grudzień 2023-luty 2025 | J43: 4200000 | K43: 2100000 | L43: =J43-K43 -> 2100000 | M43: 0.5 | R43: 2100000 | X43: TRUE | Y43: =ROUND(K43/J43,4) -> 0.5 | Z43: TRUE | AA43: TRUE
A44: 42* | B44: 927/22 | C44: N | D44: MIASTO SIEMIANOWICE ŚLĄSKIE | E44: 2474 | F44: Remont drogi powiatowej 9637S (al. Młodych) w Siemianowicach Śląskich | G44: R | H44: 0.553 | I44: grudzień 2023-czerwiec 2024 | J44: 1421853 | K44: 137894.47 | L44: =J44-K44 -> 1283958.5 | M44: 0.5 | R44: 137894.47 | X44: TRUE | Y44: =ROUND(K44/J44,4) -> 0.097 | Z44: TRUE | AA44: TRUE
A45: RAZEM, z tego: | H45: =SUM(H3:H44) -> 52.646 | I45: x | J45: =SUM(J3:J44) -> 3.0663297e+08 | K45: =SUM(K3:K44) -> 1.4938228e+08 | L45: =SUM(L3:L44) -> 1.5725069e+08 | M45: x | N45: =SUM(N3:N44) -> 0 | O45: =SUM(O3:O44) -> 0 | P45: =SUM(P3:P44) -> 11897858 | Q45: =SUM(Q3:Q44) -> 31156628 | R45: =SUM(R3:R44) -> 69007833 | S45: =SUM(S3:S44) -> 31290055 | T45: =SUM(T3:T44) -> 6029909 | U45: =SUM(U3:U44) -> 0 | ... W45: =SUM(W3:W44) -> 0 | X45: =K45=SUM(N45:W45) -> TRUE | Y45: =ROUND(K45/J45,4) -> 0.4872 | Z45: x | AA45: =J45=K45+L45 -> TRUE
A46: kontynuowane zadania wieloletnie | H46: =SUMIF($C$3:$C$44,"K",H3:H44) -> 31.584 | I46: x | J46: =SUMIF($C$3:$C$44,"K",J3:J44) -> 1.3871339e+08 | K46: =SUMIF($C$3:$C$44,"K",K3:K44) -> 70368161 | L46: =SUMIF($C$3:$C$44,"K",L3:L44) -> 68345230 | M46: x | N46: =SUMIF($C$3:$C$44,"K",N3:N44) -> 0 | O46: =SUMIF($C$3:$C$44,"K",O3:O44) -> 0 | P46: =SUMIF($C$3:$C$44,"K",P3:P44) -> 11897858 | Q46: =SUMIF($C$3:$C$44,"K",Q3:Q44) -> 31156628 | R46: =SUMIF($C$3:$C$44,"K",R3:R44) -> 24368070 | S46: =SUMIF($C$3:$C$44,"K",S3:S44) -> 2945604.3 | T46: =SUMIF($C$3:$C$44,"K",T3:T44) -> 0 | U46: =SUMIF($C$3:$C$44,"K",U3:U44) -> 0 | ... W46: =SUMIF($C$3:$C$44,"K",W3:W44) -> 0 | X46: =K46=SUM(N46:W46) -> TRUE | Y46: =ROUND(K46/J46,4) -> 0.5073 | Z46: x | AA46: =J46=K46+L46 -> TRUE
A47: nowe zadania jednoroczne | H47: =SUMIF($C$3:$C$44,"N",H3:H44) -> 9.989 | I47: x | J47: =SUMIF($C$3:$C$44,"N",J3:J44) -> 49862510 | K47: =SUMIF($C$3:$C$44,"N",K3:K44) -> 25164813 | L47: =SUMIF($C$3:$C$44,"N",L3:L44) -> 24697697 | M47: x | N47: =SUMIF($C$3:$C$44,"N",N3:N44) -> 0 | O47: =SUMIF($C$3:$C$44,"N",O3:O44) -> 0 | P47: =SUMIF($C$3:$C$44,"N",P3:P44) -> 0 | Q47: =SUMIF($C$3:$C$44,"N",Q3:Q44) -> 0 | R47: =SUMIF($C$3:$C$44,"N",R3:R44) -> 25164813 | S47: =SUMIF($C$3:$C$44,"N",S3:S44) -> 0 | T47: =SUMIF($C$3:$C$44,"N",T3:T44) -> 0 | U47: =SUMIF($C$3:$C$44,"N",U3:U44) -> 0 | ... W47: =SUMIF($C$3:$C$44,"N",W3:W44) -> 0 | X47: =K47=SUM(N47:W47) -> TRUE | Y47: =ROUND(K47/J47,4) -> 0.5047 | Z47: x | AA47: =J47=K47+L47 -> TRUE
A48: nowe zadania wieloletnie | H48: =SUMIF($C$3:$C$44,"W",H3:H44) -> 11.073 | I48: x | J48: =SUMIF($C$3:$C$44,"W",J3:J44) -> 1.1805707e+08 | K48: =SUMIF($C$3:$C$44,"W",K3:K44) -> 53849310 | L48: =SUMIF($C$3:$C$44,"W",L3:L44) -> 64207761 | M48: x | N48: =SUMIF($C$3:$C$44,"W",N3:N44) -> 0 | O48: =SUMIF($C$3:$C$44,"W",O3:O44) -> 0 | P48: =SUMIF($C$3:$C$44,"W",P3:P44) -> 0 | Q48: =SUMIF($C$3:$C$44,"W",Q3:Q44) -> 0 | R48: =SUMIF($C$3:$C$44,"W",R3:R44) -> 19474949 | S48: =SUMIF($C$3:$C$44,"W",S3:S44) -> 28344451 | T48: =SUMIF($C$3:$C$44,"W",T3:T44) -> 6029909 | U48: =SUMIF($C$3:$C$44,"W",U3:U44) -> 0 | ... W48: =SUMIF($C$3:$C$44,"W",W3:W44) -> 0 | X48: =K48=SUM(N48:W48) -> TRUE | Y48: =ROUND(K48/J48,4) -> 0.4561 | Z48: x | AA48: =J48=K48+L48 -> TRUE
A50: B - budowa (rozbudowa), P - przebudowa, R - remont
A51: kolorem czerwonym oznaczono zadania wieloletnie
A52: N - nowe zadanie jednoroczne, K - kontynuowane zadanie wieloletnie z wcześniejszego naboru, W - nowe zadanie wieloletnie
A53: * Kwota dofinansowania zmniejszona do limitu dostępnych środków na rok 2023
A54: ** Kwota dofinansowania zmniejszona do limitu dostępnych środków na rok 2024

Sheet gm podst
A1: L.p. | B1: Nr ewid. | C1: Zadanie nowe/kontynuowane/wieloletnie [N/K/W] | D1: Jednostka Samorządu Terytorialnego | E1: TERC | F1: Powiat | G1: Nazwa zadania | H1: Rodzaj zadania | I1: Długość odcinka (w km) | J1: Okres realizacji zadania | K1: Ogółem wartość projektu (w zł) | L1: Wnioskowana kwota dofinansowania (w zł) | M1: Deklarowana kwota środków własnych (w zł) | N1: % dofinansowania | O1: Kwota dofinansowania w podziale na lata
O2: 2019 | P2: 2020 | Q2: 2021 | R2: 2022 | S2: 2023 | T2: 2024 | U2: 2025 | V2: 2026 | W2: 2027 | X2: 2028 | Y2: spr-lata | Z2: spr-procent | AA2: spr-dof | AB2: spr-montaż
A3: 1 | B3: 469/20 | C3: K | D3: GMINA GOLESZÓW | E3: 2403072 | F3: cieszyński | G3: Rozbudowa ul. Kojkowickiej w Puńcowie na odcinku 1,7 km wraz z przebudową mostu | H3: B | I3: 1.7 | J3: marzec 2021 - styczeń 2025 | K3: 7186326.8 | L3: 3952479.8 | M3: 3233847.1 | N3: 0.55 | Q3: 1000000 | R3: 1500000 | S3: 1452479.8 | Y3: =L3=SUM(O3:X3) -> TRUE | Z3: =ROUND(L3/K3,4) -> 0.55 | AA3: =Z3=N3 -> TRUE | AB3: =K3=L3+M3 -> TRUE
A4: 2 | B4: 549/20 | C4: K | D4: GMINA TARNOWSKIE GÓRY | E4: 2413041 | F4: tarnogórski | G4: Rozbudowa układu drogowego w rejonie ulic Królika, Szymały, Rymera w Tarnowskich Górach - etap C i D | H4: B | I4: 0.493 | J4: marzec 2021 - grudzień 2024 | K4: 3910205.9 | L4: 1394465.5 | M4: 2515740.4 | N4: 0.5 | Q4: 809929 | R4: 584536.5 | Y4: =L4=SUM(O4:X4) -> TRUE | Z4: =ROUND(L4/K4,4) -> 0.3566 | AA4: =Z4=N4 -> FALSE | AB4: =K4=L4+M4 -> TRUE
A5: 3 | B5: 559/20 | C5: K | D5: GMINA GODÓW | E5: 2415052 | F5: wodzisławski | G5: Budowa drogi - połączenia ulicy Szybowej z Olszyńską w Gminie Godów - odcinek 594 mb. | H5: B | I5: 0.594 | J5: lipiec 2021 - wrzesień 2023 | K5: 1060500 | L5: 583275 | M5: =K5-L5 -> 477225 | N5: 0.55 | Q5: 38500 | R5: 269500 | S5: 275275 | Y5: =L5=SUM(O5:X5) -> TRUE | Z5: =ROUND(L5/K5,4) -> 0.55 | AA5: =Z5=N5 -> TRUE | AB5: =K5=L5+M5 -> TRUE
A6: 4 | B6: 501/20 | C6: K | D6: GMINA RADZIONKÓW | E6: 2413031 | F6: tarnogórski | G6: Przebudowa ul. M.Dąbrowskiej w Radzionkowie (na odcinku od skrzyżowania z ul. Wspólną do skrzyżowania z ul. N.Żołnierza) | H6: P | I6: 0.982 | J6: lipiec 2021 - czerwiec 2024 | K6: =L6+M6 -> 6441389.5 | L6: =Q6+R6 -> 3220694 | M6: 3220695.5 | N6: 0.5 | Q6: 2388263.5 | R6: 832430.5 | Y6: =L6=SUM(O6:X6) -> TRUE | Z6: =ROUND(L6/K6,4) -> 0.5 | AA6: =Z6=N6 -> TRUE | AB6: =K6=L6+M6 -> TRUE
A7: 5 | B7: 446/20 | C7: K | D7: MIASTO ŚWIĘTOCHŁOWICE | E7: 2476011 | F7: Świętochłowice | G7: Przebudowa wraz z rozbudową układu komunikacyjnego ul. Przemysłowej (wewnętrznej) wraz z połączeniem do drogi wojewódzkiej DW902 (DTŚ) | H7: B | I7: 1.41 | J7: lipiec 2021 - lipiec 2023 | K7: 9553370.5 | L7: =Q7+R7+S7 -> 4776685.2 | M7: =K7-L7 -> 4776685.2 | N7: 0.5 | Q7: 1000000 | S7: 3776685.2 | Y7: =L7=SUM(O7:X7) -> TRUE | Z7: =ROUND(L7/K7,4) -> 0.5 | AA7: =Z7=N7 -> TRUE | AB7: =K7=L7+M7 -> TRUE
A8: 6 | B8: 419/20 | C8: K | D8: GMINA MIEDŹNO | E8: 2406042 | F8: kłobucki | G8: Rozbudowa dróg gminnych: 656040 S ul. Głównej, ul. ks. A. Morawca, 656044 S ul. Wesołej, ul. Nadrzecznej, 656040 S. ul. Sosnowej, 656041 S ul. Dębowej i Brzozowej w miejscowości Borowa gm. Miedźno | H8: B | I8: 4.091 | J8: grudzień 2021 - wrzesień 2026 | K8: 9410119 | L8: 4705059.5 | M8: =K8-L8 -> 4705059.5 | N8: 0.5 | Q8: 215937.5 | R8: 529840 | S8: 827705.5 | T8: 1092471 | U8: 1011161.5 | V8: 1027944 | Y8: =L8=SUM(O8:X8) -> TRUE | Z8: =ROUND(L8/K8,4) -> 0.5 | AA8: =Z8=N8 -> TRUE | AB8: =K8=L8+M8 -> TRUE
A9: 7 | B9: 582/20 | C9: K | D9: GMINA PAWONKÓW | E9: 2407072 | F9: lubliniecki | G9: Przebudowa dróg gminnych - ulicy Dębowej, Kanuskiej, Wiejskiej i Granicznej w Łagiewnikach Wielkich i Dralinach | H9: P | I9: 3.802 | J9: grudzień 2021 - maj 2023 | K9: =L9+M9 -> 3292495.6 | L9: =Q9+R9 -> 1646247 | M9: 1646248.6 | N9: 0.5 | Q9: 900000 | R9: 746247 | Y9: =L9=SUM(O9:X9) -> TRUE | Z9: =ROUND(L9/K9,4) -> 0.5 | AA9: =Z9=N9 -> TRUE | AB9: =K9=L9+M9 -> TRUE
A10: 8 | B10: 482/20 | C10: K | D10: MIASTO BIELSKO-BIAŁA | E10: 2461011 | F10: Bielsko-Biała | G10: Rozbudowa ul. Łowieckiej w Bielsku-Białej | H10: B | I10: 1.961 | J10: marzec 2021 - kwiecień 2023 | K10: 11404747 | L10: 5702373.7 | M10: =K10-L10 -> 5702373.7 | N10: 0.5 | Q10: 3007377.4 | R10: =L10-Q10 -> 2694996.3 | Y10: =L10=SUM(O10:X10) -> TRUE | Z10: =ROUND(L10/K10,4) -> 0.5 | AA10: =Z10=N10 -> TRUE | AB10: =K10=L10+M10 -> TRUE
A11: 9 | B11: 743/21 | C11: K | D11: GMINA BESTWINA | E11: 2402022 | F11: bielski | G11: Przebudowa ul. Sportowej w Bestwince | H11: P | I11: 1.411 | J11: kwiecień 2022-wrzesień 2023 | K11: 6627090 | L11: 2779413 | M11: 3847677 | N11: 0.5 | R11: 1500000 | S11: 1279413 | Y11: =L11=SUM(O11:X11) -> TRUE | Z11: =ROUND(L11/K11,4) -> 0.4194 | AA11: =Z11=N11 -> FALSE | AB11: =K11=L11+M11 -> TRUE
A12: 10 | B12: 792/21 | C12: K | D12: GMINA MYSZKÓW | E12: 2409011 | F12: myszkowski | G12: Rozbudowa drogi w ulicy Zamenhoffa wraz z budową kanalizacji sanitarnej i deszczowej w Myszkowie | H12: B | I12: 0.802 | J12: maj 2022-listopad 2023 | K12: =L12+M12 -> 6090080.6 | L12: 2797271 | M12: 3292809.6 | N12: 0.5 | R12: 1341709.5 | S12: 1455561.5 | Y12: =L12=SUM(O12:X12) -> TRUE | Z12: =ROUND(L12/K12,4) -> 0.4593 | AA12: =Z12=N12 -> FALSE | AB12: =K12=L12+M12 -> TRUE
A13: 11 | B13: 701/21 | C13: K | D13: GMINA POPÓW | E13: 2406072 | F13: kłobucki | G13: Rozbudowa ulicy Turystycznej i Sosnowej w miejscowości Zawady, gmina Popów | H13: B | I13: 0.515 | J13: kwiecień 2022-grudzień 2023 | K13: 2181855.2 | L13: 885439 | M13: 1296416.2 | N13: 0.5 | R13: 34440 | S13: 850999 | Y13: =L13=SUM(O13:X13) -> TRUE | Z13: =ROUND(L13/K13,4) -> 0.4058 | AA13: =Z13=N13 -> FALSE | AB13: =K13=L13+M13 -> TRUE
A14: 12 | B14: 856/21 | C14: K | D14: MIASTO BYTOM | E14: 2462011 | F14: Bytom | G14: Przebudowa ulicy Piekarskiej w związku z planowaną przez Tramwaje Śląskie S.A. przebudową torowiska tramwajowego w Bytomiu | H14: P | I14: 1.3 | J14: styczeń 2022-listopad 2023 | K14: 18516789 | L14: 8130300 | M14: 10386489 | N14: 0.5 | R14: 2750000 | S14: 5380300 | Y14: =L14=SUM(O14:X14) -> TRUE | Z14: =ROUND(L14/K14,4) -> 0.4391 | AA14: =Z14=N14 -> FALSE | AB14: =K14=L14+M14 -> TRUE
A15: 13 | B15: 754/21 | C15: K | D15: GMINA TARNOWSKIE GÓRY | E15: 2413041 | F15: tarnogórski | G15: Rozbudowa ul. Polnej w Tarnowskich Górach | H15: B | I15: 0.632 | J15: styczeń 2022-grudzień 2023 | K15: 5398099.7 | L15: 2131990.5 | M15: 3266109.2 | N15: 0.5 | R15: 1595042 | S15: 536948.5 | Y15: =L15=SUM(O15:X15) -> TRUE | Z15: =ROUND(L15/K15,4) -> 0.395 | AA15: =Z15=N15 -> FALSE | AB15: =K15=L15+M15 -> TRUE
A16: 14 | B16: 794/21 | C16: K | D16: GMINA RADZIONKÓW | E16: 2413031 | F16: tarnogórski | G16: Przebudowa ul. Artylerzystów w Radzionkowie | H16: P | I16: 0.647 | J16: maj 2022-lipiec 2023 | K16: 2989190.8 | L16: 1494595.4 | M16: 1494595.4 | N16: 0.5 | R16: 747297.7 | S16: 747297.7 | Y16: =L16=SUM(O16:X16) -> TRUE | Z16: =ROUND(L16/K16,4) -> 0.5 | AA16: =Z16=N16 -> TRUE | AB16: =K16=L16+M16 -> TRUE
A17: 15 | B17: 796/21 | C17: K | D17: GMINA PSZÓW | E17: 2415011 | F17: wodzisławski | G17: Remont ulicy Cisowej i ulicy Łanowej w Pszowie | H17: R | I17: 1.72 | J17: kwiecień 2022-grudzień 2023 | K17: 1932030.1 | L17: 1062616.6 | M17: 869413.56 | N17: 0.55 | R17: 341619.85 | S17: 720996.71 | Y17: =L17=SUM(O17:X17) -> TRUE | Z17: =ROUND(L17/K17,4) -> 0.55 | AA17: =Z17=N17 -> TRUE | AB17: =K17=L17+M17 -> TRUE
A18: 16 | B18: 723/21 | C18: K | D18: GMINA ŁAZISKA GÓRNE | E18: 2408011 | F18: mikołowski | G18: Budowa drogi ul. Bażantów w Łaziskach Górnych wraz z oświetleniem ulicznym i odwodnieniem drogi | H18: B | I18: 0.503 | J18: maj 2022-listopad 2023 | K18: 1756200 | L18: 756216 | M18: 999984 | N18: 0.5 | R18: 506765 | S18: 249451 | Y18: =L18=SUM(O18:X18) -> TRUE | Z18: =ROUND(L18/K18,4) -> 0.4306 | AA18: =Z18=N18 -> FALSE | AB18: =K18=L18+M18 -> TRUE
A19: 17 | B19: 787/21 | C19: K | D19: GMINA RACIBÓRZ | E19: 2411011 | F19: raciborski | G19: Przebudowa ul. Bolesława Prusa i ul. Słonecznej w Raciborzu | H19: P | I19: 0.578 | J19: kwiecień 2022-maj 2023 | K19: 2828979.9 | L19: 1414489.9 | M19: 1414489.9 | N19: 0.5 | R19: 627326.5 | S19: 787163.43 | Y19: =L19=SUM(O19:X19) -> TRUE | Z19: =ROUND(L19/K19,4) -> 0.5 | AA19: =Z19=N19 -> TRUE | AB19: =K19=L19+M19 -> TRUE
A20: 18 | B20: 735/21 | C20: K | D20: MIASTO RUDA ŚLĄSKA | E20: 2472011 | F20: Ruda Śląska | G20: Przebudowa dróg gminnych ul. Dworcowej (nr 172008S) i ul. Przedtorze (nr 172006S) w Rudzie Śląskiej | H20: P | I20: 0.493 | J20: październik 2022-październik 2023 | K20: =L20+M20 -> 2494769.2 | L20: 1133180 | M20: 1361589.2 | N20: 0.5 | R20: 566590 | S20: 566590 | Y20: =L20=SUM(O20:X20) -> TRUE | Z20: =ROUND(L20/K20,4) -> 0.4542 | AA20: =Z20=N20 -> FALSE | AB20: =K20=L20+M20 -> TRUE
A21: 19 | B21: 747/21 | C21: K | D21: GMINA OLSZTYN | E21: 2404122 | F21: częstochowski | G21: Budowa drogi gminnej w miejscowości Biskupice-gmina Olsztyn do granic miejscowości Choroń - gmina Poraj | H21: B | I21: 1.665 | J21: lipiec 2022-lipiec 2024 | K21: 6007000 | L21: 2466000 | M21: 3541000 | N21: 0.5 | R21: 72500 | S21: 1196750 | T21: 1196750 | Y21: =L21=SUM(O21:X21) -> TRUE | Z21: =ROUND(L21/K21,4) -> 0.4105 | AA21: =Z21=N21 -> FALSE | AB21: =K21=L21+M21 -> TRUE
A22: 20 | B22: 811/21 | C22: K | D22: GMINA PORAJ | E22: 2409042 | F22: myszkowski | G22: Budowa drogi gminnej w miejscowości Choroń-gmina Poraj do granicy miejscowości Biskupice - gmina Olsztyn | H22: B | I22: 0.99 | J22: lipiec 2022-lipiec 2024 | K22: =L22+M22 -> 4395595 | L22: 1123695 | M22: 3271900 | N22: 0.5 | R22: 0 | S22: 1123695 | Y22: =L22=SUM(O22:X22) -> TRUE | Z22: =ROUND(L22/K22,4) -> 0.2556 | AA22: =Z22=N22 -> FALSE | AB22: =K22=L22+M22 -> TRUE
A23: 21 | B23: 841/21 | C23: K | D23: MIASTO CHORZÓW | E23: 2463011 | F23: Chorzów | G23: Przebudowa ul. Władysława Truchana na odcinku od ul. Sienkiewicza do ul. Strzelców Bytomskich w Chorzowie | H23: P | I23: 0.61 | J23: czerwiec 2022-październik 2024 | K23: 10990137 | L23: 3975878.5 | M23: 7014258.4 | N23: 0.5 | R23: 1000000 | S23: 1500000 | T23: 1475878.5 | Y23: =L23=SUM(O23:X23) -> TRUE | Z23: =ROUND(L23/K23,4) -> 0.3618 | AA23: =Z23=N23 -> FALSE | AB23: =K23=L23+M23 -> TRUE
A24: 22 | B24: 711/21 | C24: K | D24: GMINA OŻAROWICE | E24: 2413062 | F24: tarnogórski | G24: Przebudowa drogi gminnej nr 687039 S (ul. Żubrza, Kolejowa, Wolności) | H24: P | I24: 1.79 | J24: marzec 2022-listopad 2023 | K24: =L24+M24 -> 7752000 | L24: 3154328.5 | M24: 4597671.5 | N24: 0.5 | R24: 1421768 | S24: 1732560.5 | Y24: =L24=SUM(O24:X24) -> TRUE | Z24: =ROUND(L24/K24,4) -> 0.4069 | AA24: =Z24=N24 -> FALSE | AB24: =K24=L24+M24 -> TRUE
A25: 23 | B25: 1014/22 | C25: W | D25: GMINA BĘDZIN | E25: 2401011 | F25: będziński | G25: Przebudowa dróg gminnych 300003S oraz 300019S, 300094S, przebudowa ciągów pieszych, parkingu, zatoki postojowej, oświetlenia obiektów infrastruktury technicznej w pasie drogowym ulic Śmigielskiego, Sznajdera oraz Rewolucjonistów | H25: P | I25: 2.165 | J25: marzec 2023-wrzesień 2024 | K25: 9000000 | L25: 3000000 | M25: =K25-L25 -> 6000000 | N25: 0.5 | S25: 1500000 | T25: 1500000 | Y25: =L25=SUM(O25:X25) -> TRUE | Z25: =ROUND(L25/K25,4) -> 0.3333 | AA25: =Z25=N25 -> FALSE | AB25: =K25=L25+M25 -> TRUE
A26: 24 | B26: 993/22 | C26: W | D26: GMINA GOLESZÓW | E26: 2403072 | F26: cieszyński | G26: Rozbudowa ulicy Wielodroga w Puńcowie na odcinku 1,5 km | H26: B | I26: 1.415 | J26: październik 2023-październik 2026 | K26: 10142538 | L26: 5071269 | M26: =K26-L26 -> 5071269 | N26: 0.5 | S26: 21269 | T26: 1500000 | U26: 1500000 | V26: 2050000 | Y26: =L26=SUM(O26:X26) -> TRUE | Z26: =ROUND(L26/K26,4) -> 0.5 | AA26: =Z26=N26 -> TRUE | AB26: =K26=L26+M26 -> TRUE
A27: 25 | B27: 972/22 | C27: W | D27: MIASTO SOSNOWIEC | E27: 2475011 | F27: Sosnowiec | G27: Budowa drogi łączącej ul. Wiązową z ul. Gospodarczą w Sosnowcu wraz z przebudową istniejącej części ul. Gospodarczej oraz przebudową ul. Siennej | H27: P | I27: 0.76 | J27: styczeń 2023-wrzesień 2024 | K27: 5985966 | L27: 2992983 | M27: =K27-L27 -> 2992983 | N27: 0.5 | S27: 150183 | T27: 2842800 | U27: 0 | V27: 0 | Y27: =L27=SUM(O27:X27) -> TRUE | Z27: =ROUND(L27/K27,4) -> 0.5 | AA27: =Z27=N27 -> TRUE | AB27: =K27=L27+M27 -> TRUE
A28: 26 | B28: 941/22 | C28: W | D28: GMINA RACIBÓRZ | E28: 2411011 | F28: raciborski | G28: Przebudowa ul. Ks. Stanisława Staszica w Raciborzu | H28: P | I28: 0.395 | J28: maj 2023-październik 2024 | K28: 5320778 | L28: =S28+T28 -> 2660389 | M28: 2660389 | N28: 0.5 | S28: 1330194.5 | T28: 1330194.5 | U28: 0 | V28: 0 | Y28: =L28=SUM(O28:X28) -> TRUE | Z28: =ROUND(L28/K28,4) -> 0.5 | AA28: =Z28=N28 -> TRUE | AB28: =K28=L28+M28 -> TRUE
A29: 27 | B29: 926/22 | D29: MIASTO CZĘSTOCHOWA (rezygnacja wnioskodawcy z realizacji zadania) | E29: 2464011 | F29: Częstochowa | G29: Przebudowa ulicy Jasnogórskiej w Częstochowie | Y29: =L29=SUM(O29:X29) -> TRUE | Z29: =ROUND(L29/K29,4) -> #DIV/0! | AA29: =Z29=N29 -> #DIV/0! | AB29: =K29=L29+M29 -> TRUE
A30: 28 | B30: 975/22 | D30: GMINA CZELADŹ (rezygnacja wnioskodawcy z realizacji zadania) | E30: 2401021 | F30: będziński | G30: Przebudowa ulicy 3-go Kwietnia w Czeladzi wraz z budową kanalizacji deszczowej | V30: 0 | Y30: =L30=SUM(O30:X30) -> TRUE | Z30: =ROUND(L30/K30,4) -> #DIV/0! | AA30: =Z30=N30 -> #DIV/0! | AB30: =K30=L30+M30 -> TRUE
A31: 29 | B31: 1004/22 | C31: N | D31: GMINA TOSZEK | E31: 2405073 | F31: gliwicki | G31: Przebudowa dróg gminnych DG 620326 S ul. Kotliszowickiej w Wilkowiczkach, DG 620325S ul. Wiejskiej w Wilkowiczkach | H31: P | I31: 2.65 | J31: marzec 2023-grudzień 2023 | K31: 5116340 | L31: 2558170 | M31: =K31-L31 -> 2558170 | N31: 0.5 | S31: 2558170 | T31: 0 | U31: 0 | V31: 0 | Y31: =L31=SUM(O31:X31) -> TRUE | Z31: =ROUND(L31/K31,4) -> 0.5 | AA31: =Z31=N31 -> TRUE | AB31: =K31=L31+M31 -> TRUE
A32: 30 | B32: 974/22 | C32: W | D32: GMINA BORONÓW | E32: 2407022 | F32: lubliniecki | G32: Przebudowa ul. Nadrzecznej wraz z oświetleniem w Boronowie | H32: P | I32: 0.425 | J32: marzec 2023-listopad 2024 | K32: 2112261 | L32: 1056130.5 | M32: =K32-L32 -> 1056130.5 | N32: 0.5 | S32: 5000 | T32: 1051130.5 | U32: 0 | V32: 0 | Y32: =L32=SUM(O32:X32) -> TRUE | Z32: =ROUND(L32/K32,4) -> 0.5 | AA32: =Z32=N32 -> TRUE | AB32: =K32=L32+M32 -> TRUE
A33: 31 | B33: 980/22 | C33: N | D33: MIASTO RUDA ŚLĄSKA | E33: 2472011 | F33: Ruda Śląska | G33: Rozbudowa ulicy Siewnej i ul. Mikołaja Reja w Rudzie Śląskiej wraz z budową kanalizacji deszczowej, oświetlenia ulicznego, kanału technologicznego, chodników i zjazdów | H33: B | I33: 0.298 | J33: kwiecień 2023-grudzień 2023 | K33: 1637774 | L33: 818886.99 | M33: =K33-L33 -> 818886.99 | N33: 0.5 | S33: 818886.99 | T33: 0 | U33: 0 | V33: 0 | Y33: =L33=SUM(O33:X33) -> TRUE | Z33: =ROUND(L33/K33,4) -> 0.5 | AA33: =Z33=N33 -> TRUE | AB33: =K33=L33+M33 -> TRUE
A34: 32 | B34: 984/22 | C34: N | D34: GMINA BIERUŃ | E34: 2414011 | F34: bieruńsko-lędziński | G34: Przebudowa ul. Soleckiej i ul. Sadowej w Bieruniu | H34: P | I34: 0.789 | J34: maj 2023-grudzień 2023 | K34: 3843912.2 | L34: 1921956.1 | M34: 1921956.1 | N34: 0.5 | S34: 1921956.1 | T34: 0 | U34: 0 | V34: 0 | Y34: =L34=SUM(O34:X34) -> TRUE | Z34: =ROUND(L34/K34,4) -> 0.5 | AA34: =Z34=N34 -> TRUE | AB34: =K34=L34+M34 -> TRUE
A35: 33 | B35: 991/22 | C35: N | D35: GMINA KNURÓW | E35: 2405011 | F35: gliwicki | G35: Przebudowa ul. 26 Stycznia w Knurowie na odcinku od ronda Cztery Pory Roku do skrzyżowania z ul. Lotników | H35: P | I35: 0.885 | J35: czerwiec 2023-maj 2024 | K35: 7706645.2 | L35: 3853322 | M35: =K35-L35 -> 3853323.2 | N35: 0.5 | S35: 3853322 | T35: 0 | U35: 0 | V35: 0 | Y35: =L35=SUM(O35:X35) -> TRUE | Z35: =ROUND(L35/K35,4) -> 0.5 | AA35: =Z35=N35 -> TRUE | AB35: =K35=L35+M35 -> TRUE
A36: 34 | B36: 1001/22 | D36: MIASTO PIEKARY ŚLĄSKIE (rezygnacja wnioskodawcy z realizacji zadania) | E36: 2471011 | F36: Piekary Śląskie | G36: Budowa drogi ulicy Grunwaldzkiej w Piekarach Śląskich
A37: 35 | B37: 963/22 | C37: W | D37: GMINA WILKOWICE | E37: 2402102 | F37: bielski | G37: Przebudowa ul. Sportowej oraz rozbudowa ul. Do Lasku w formule zaprojektuj-wybuduj | H37: B | I37: 0.806 | J37: maj 2023-czerwiec 2026 | K37: 5637987 | L37: 2818993.5 | M37: =K37-L37 -> 2818993.5 | N37: 0.5 | S37: 20000 | T37: 65165 | U37: 1830991 | V37: 902837.48 | Y37: =L37=SUM(O37:X37) -> TRUE | Z37: =ROUND(L37/K37,4) -> 0.5 | AA37: =Z37=N37 -> TRUE | AB37: =K37=L37+M37 -> TRUE
A38: 36 | B38: 947/22 | C38: W | D38: GMINA PSZCZYNA | E38: 2410053 | F38: pszczyński | G38: Rozbudowa ul. Dygasińskiego i ul. Wczasowej w Łące | H38: B | I38: 1.135 | J38: marzec 2023-październik 2024 | K38: 3880545.8 | L38: 1858130.5 | M38: 2022415.3 | N38: 0.5 | S38: 929065 | T38: 929065.5 | U38: 0 | V38: 0 | Y38: =L38=SUM(O38:X38) -> TRUE | Z38: =ROUND(L38/K38,4) -> 0.4788 | AA38: =Z38=N38 -> FALSE | AB38: =K38=L38+M38 -> TRUE
A39: 37 | B39: 930/22 | C39: N | D39: MIASTO ZABRZE | E39: 2478011 | F39: Zabrze | G39: Przebudowa ul. Chłopskiej w Zabrzu | H39: P | I39: 0.556 | J39: czerwiec 2023-maj 2024 | K39: 7208567 | L39: 3604283.5 | M39: =K39-L39 -> 3604283.5 | N39: 0.5 | S39: 3604283.5 | T39: 0 | U39: 0 | V39: 0 | Y39: =L39=SUM(O39:X39) -> TRUE | Z39: =ROUND(L39/K39,4) -> 0.5 | AA39: =Z39=N39 -> TRUE | AB39: =K39=L39+M39 -> TRUE
A40: 38 | B40: 901/22 | D40: GMINA STRUMIEŃ (rezygnacja wnioskodawcy z realizacji zadania) | E40: 2403113 | F40: cieszyński | G40: Przebudowa drogi gminnej nr 611066S ulicy Stokrotek w Zabłociu
A41: 39 | B41: 981/22 | C41: N | D41: MIASTO RUDA ŚLĄSKA | E41: 2472011 | F41: Ruda Śląska | G41: Rozbudowa ulicy Noblistów Śląskich w Rudzie Śląskiej w zakresie nawierzchni jezdni, zjazdów, odwodnienia, oświetlenia | H41: B | I41: 0.269 | J41: maj 2023 - grudzień 2023 | K41: 1284115.4 | L41: 642057.7 | M41: =K41-L41 -> 642057.7 | N41: 0.5 | S41: 642057.7 | T41: 0 | U41: 0 | V41: 0 | Y41: =L41=SUM(O41:X41) -> TRUE | Z41: =ROUND(L41/K41,4) -> 0.5 | AA41: =Z41=N41 -> TRUE | AB41: =K41=L41+M41 -> TRUE
A42: 40 | B42: 939/22 | C42: W | D42: MIASTO BIELSKO-BIAŁA | E42: 2461011 | F42: Bielsko-Biała | G42: Rozbudowa ul. Pocztowej i ul. Startowej w Bielsku-Białej - etap 2 | H42: B | I42: 1.02 | J42: czerwiec 2023-grudzień 2024 | K42: 9198556.2 | L42: 4599278.1 | M42: =K42-L42 -> 4599278.1 | N42: 0.5 | S42: 2000000 | T42: 2599278.1 | U42: 0 | V42: 0 | Y42: =L42=SUM(O42:X42) -> TRUE | Z42: =ROUND(L42/K42,4) -> 0.5 | AA42: =Z42=N42 -> TRUE | AB42: =K42=L42+M42 -> TRUE
A43: 41 | B43: 944/22 | C43: W | D43: MIASTO RYBNIK | E43: 2473011 | F43: Rybnik | G43: Przebudowa ul. Niewiadomskiej na odcinku od skrzyżowania z ul. Raciborską (DW 935) do granicy miasta | H43: P | I43: 0.893 | J43: czerwiec 2023-lipiec 2024 | K43: 6781902 | L43: 3390951 | M43: =K43-L43 -> 3390951 | N43: 0.5 | S43: 1500000 | T43: 1890951 | U43: 0 | V43: 0 | Y43: =L43=SUM(O43:X43) -> TRUE | Z43: =ROUND(L43/K43,4) -> 0.5 | AA43: =Z43=N43 -> TRUE | AB43: =K43=L43+M43 -> TRUE
A44: 42 | B44: 903/22 | C44: N | D44: GMINA KOZIEGŁOWY | E44: 2409023 | F44: myszkowski | G44: Przebudowa drogi gminnej Nr 595031S Koziegłówki ul. Kłodówka - Lgota Górna ul. Jurajska | H44: P | I44: 4.368 | J44: kwiecień 2023 -październik 2023 | K44: =L44+M44 -> 7273360.6 | L44: 3467594 | M44: 3805766.6 | N44: 0.5 | S44: 3467594 | T44: 0 | U44: 0 | V44: 0 | Y44: =L44=SUM(O44:X44) -> TRUE | Z44: =ROUND(L44/K44,4) -> 0.4768 | AA44: =Z44=N44 -> FALSE | AB44: =K44=L44+M44 -> TRUE
A45: 43 | B45: 917/22 | C45: N | D45: GMINA BOBROWNIKI | E45: 2401042 | F45: będziński | G45: Przebudowa drogi w Bobrownikach na ul. Słowackiego | H45: P | I45: 1.955 | J45: sierpień 2023-lipiec 2024 | K45: 8361080 | L45: 4180540 | M45: =K45-L45 -> 4180540 | N45: 0.5 | S45: 4180540 | T45: 0 | U45: 0 | V45: 0 | Y45: =L45=SUM(O45:X45) -> TRUE | Z45: =ROUND(L45/K45,4) -> 0.5 | AA45: =Z45=N45 -> TRUE | AB45: =K45=L45+M45 -> TRUE
A46: 44 | B46: 973/22 | C46: N | D46: GMINA CZECHOWICE-DZIEDZICE | E46: 2402043 | F46: bielski | G46: Budowa drogi dojazdowej gminnej ul. Cichy Kącik w Czechowicach-Dziedzicach | H46: B | I46: 0.454 | J46: marzec 2023-grudzień 2023 | K46: 1246035.2 | L46: 583495 | M46: 662540.23 | N46: 0.5 | S46: 583495 | T46: 0 | U46: 0 | V46: 0 | Y46: =L46=SUM(O46:X46) -> TRUE | Z46: =ROUND(L46/K46,4) -> 0.4683 | AA46: =Z46=N46 -> FALSE | AB46: =K46=L46+M46 -> TRUE
A47: 45 | B47: 987/22 | C47: W | D47: GMINA RADZIONKÓW | E47: 2413031 | F47: tarnogórski | G47: Rozbudowa drogi łączącej ul. Księżogórską z ul. M. Dąbrowskiej w Radzionkowie | H47: B | I47: 0.338 | J47: czerwiec 2023-grudzień 2024 | K47: 5000000 | L47: 2500000 | M47: =K47-L47 -> 2500000 | N47: 0.5 | S47: 1000000 | T47: 1500000 | U47: 0 | V47: 0 | Y47: =L47=SUM(O47:X47) -> TRUE | Z47: =ROUND(L47/K47,4) -> 0.5 | AA47: =Z47=N47 -> TRUE | AB47: =K47=L47+M47 -> TRUE
A48: 46 | B48: 946/22 | D48: GMINA OGRODZIENIEC (zadanie usunięte z listy na podstawie art. 28 ust. 7 ustawy z dnia 28 października 2018 r. o Rządowym Funduszu Rozwoju Dróg) | E48: 2416063 | F48: zawierciański | G48: Przebudowa dróg gminnych - ul. Sienkiewicza, ul. Kościuszki, ul. Wodnej w Ogrodzieńcu | Y48: =L48=SUM(O48:X48) -> TRUE | Z48: =ROUND(L48/K48,4) -> #DIV/0! | AA48: =Z48=N48 -> #DIV/0! | AB48: =K48=L48+M48 -> TRUE
A49: 47 | B49: 943/22 | C49: N | D49: GMINA KOSZĘCIN | E49: 2407062 | F49: lubliniecki | G49: Budowa drogi gminnej ul. Mieszka I w Koszęcinie | H49: B | I49: 0.353 | J49: maj 2023-listopad 2023 | K49: 1501998.2 | L49: 748720 | M49: 753278.17 | N49: 0.5 | S49: 748720 | T49: 0 | U49: 0 | V49: 0 | Y49: =L49=SUM(O49:X49) -> TRUE | Z49: =ROUND(L49/K49,4) -> 0.4985 | AA49: =Z49=N49 -> FALSE | AB49: =K49=L49+M49 -> TRUE
A50: 48 | B50: 910/22 | C50: N | D50: GMINA SKOCZÓW | E50: 2403103 | F50: cieszyński | G50: Rozbudowa ul. Powstańców Śląskich w Skoczowie | H50: B | I50: 0.275 | J50: wrzesień 2023-lipiec 2024 | K50: 1910671.3 | L50: 933800.5 | M50: 976870.84 | N50: 0.5 | S50: 933800.5 | T50: 0 | U50: 0 | V50: 0 | Y50: =L50=SUM(O50:X50) -> TRUE | Z50: =ROUND(L50/K50,4) -> 0.4887 | AA50: =Z50=N50 -> FALSE | AB50: =K50=L50+M50 -> TRUE
A51: 49 | B51: 1005/22 | C51: N | D51: GMINA LYSKI | E51: 2412042 | F51: rybnicki | G51: Przebudowa drogi gminnej ul. Sobieskiego w Żytnej | H51: P | I51: 0.759 | J51: kwiecień 2023-grudzień 2023 | K51: 1426000 | L51: 784300 | M51: =K51-L51 -> 641700 | N51: 0.55 | S51: 784300 | T51: 0 | U51: 0 | V51: 0 | Y51: =L51=SUM(O51:X51) -> TRUE | Z51: =ROUND(L51/K51,4) -> 0.55 | AA51: =Z51=N51 -> TRUE | AB51: =K51=L51+M51 -> TRUE
A52: 50 | B52: 923/22 | C52: N | D52: GMINA HERBY | E52: 2407042 | F52: lubliniecki | G52: Przebudowa dróg gminnych ul. Górnej i ul. Kwiatowej w miejscowości Lisów | H52: P | I52: 0.35 | J52: kwiecień 2023-marzec 2024 | K52: 812635.07 | L52: 406317.53 | M52: 406317.54 | N52: 0.5 | S52: 406317.53 | T52: 0 | U52: 0 | V52: 0 | Y52: =L52=SUM(O52:X52) -> TRUE | Z52: =ROUND(L52/K52,4) -> 0.5 | AA52: =Z52=N52 -> TRUE | AB52: =K52=L52+M52 -> TRUE
A53: 51 | B53: 912/22 | C53: W | D53: GMINA TARNOWSKIE GÓRY | E53: 2413041 | F53: tarnogórski | G53: Budowa chodnika przy ul. Staffa w Tarnowskich Górach | H53: B | I53: 0.731 | J53: marzec 2023-grudzień 2024 | K53: 1976656.9 | L53: 611456 | M53: =K53-L53 -> 1365200.9 | N53: 0.5 | S53: 568308 | T53: 43148 | U53: 0 | V53: 0 | Y53: =L53=SUM(O53:X53) -> TRUE | Z53: =ROUND(L53/K53,4) -> 0.3093 | AA53: =Z53=N53 -> FALSE | AB53: =K53=L53+M53 -> TRUE
A54: 52 | B54: 996/22 | C54: N | D54: GMINA TWORÓG | E54: 2413082 | F54: tarnogórski | G54: Remont ul. Wiejskiej w Brynku | H54: R | I54: 0.687 | J54: czerwiec 2023 -październik 2023 | K54: 1283560.2 | L54: 486850 | M54: 796710.24 | N54: 0.5 | S54: 486850 | T54: 0 | U54: 0 | V54: 0 | Y54: =L54=SUM(O54:X54) -> TRUE | Z54: =ROUND(L54/K54,4) -> 0.3793 | AA54: =Z54=N54 -> FALSE | AB54: =K54=L54+M54 -> TRUE
A55: 53 | B55: 916/22 | C55: W | D55: GMINA PYSKOWICE | E55: 2405021 | F55: gliwicki | G55: Przebudowa ulicy gen. Władysława Sikorskiego | H55: P | I55: 1.355 | J55: wrzesień 2023-sierpień 2025 | K55: 9927699 | L55: 4963849.5 | M55: =K55-L55 -> 4963849.5 | N55: 0.5 | S55: 100000 | T55: 3431924.5 | U55: 1431925 | V55: 0 | Y55: =L55=SUM(O55:X55) -> TRUE | Z55: =ROUND(L55/K55,4) -> 0.5 | AA55: =Z55=N55 -> TRUE | AB55: =K55=L55+M55 -> TRUE
A56: 54 | B56: 998/22 | C56: W | D56: GMINA CIASNA | E56: 2407032 | F56: lubliniecki | G56: Budowa kompletnej sieci dróg gminnych nowopowstałej strefy mieszkalno-usługowej położonej od ulicy Lipowej do linii lasu w miejscowości Ciasna gmina Ciasna | H56: B | I56: 3.913 | J56: marzec 2023-grudzień 2028 | K56: 19447948 | L56: =S56+T56+U56+V56+W56+X56 -> 9723974 | M56: =K56-L56 -> 9723974 | N56: 0.5 | S56: 430695.5 | T56: 1693001 | U56: 1846500.5 | V56: 1846500.5 | W56: 2193001 | X56: 1714275.5 | Y56: =L56=SUM(O56:X56) -> TRUE | Z56: =ROUND(L56/K56,4) -> 0.5 | AA56: =Z56=N56 -> TRUE | AB56: =K56=L56+M56 -> TRUE
A57: 55 | B57: 979/22 | D57: GMINA WRĘCZYCA WIELKA (rezygnacja wnioskodawcy z realizacji zadania) | E57: 2406092 | F57: kłobucki | G57: Rozbudowa drogi gminnej 560056S droga Truskolasy - Długi Kąt przez sołectwo Klepaczka od skrzyżowania z drogą powiatową 2063S do skrzyżowania z drogą powiatową 2057S Truskolasy ul. Kopernika
A58: 56 | B58: 952/22 | D58: MIASTO DĄBROWA GÓRNICZA (rezygnacja wnioskodawcy z realizacji zadania) | E58: 2465011 | F58: Dąbrowa Górnicza | G58: Przebudowa pasa drogowego ul. Księdza Grzegorza Augustynika wraz z wykonaniem dróg dla rowerów oraz ciągów pieszych w Dąbrowie Górniczej
A59: 57 | B59: 969/22 | D59: GMINA MIEDŹNO (rezygnacja wnioskodawcy z realizacji zadania) | E59: 2406042 | F59: kłobucki | G59: Rozbudowa DG 656014 S w miejscowości Kołaczkowice Duże, etap I i etap II, gmina Miedźno | Y59: =L59=SUM(O59:X59) -> TRUE | Z59: =ROUND(L59/K59,4) -> #DIV/0! | AA59: =Z59=N59 -> #DIV/0! | AB59: =K59=L59+M59 -> TRUE
A60: 58 | B60: 1013/22 | C60: W | D60: MIASTO CHORZÓW | E60: 2463011 | F60: Chorzów | G60: Budowa przedłużenia ulicy Bojarskiego od skrzyżowania z ul. Siemianowicką do ul. Bytkowskiej | H60: B | I60: 0.467 | J60: grudzień 2023-grudzień 2025 | K60: 10090000 | L60: =S60+T60+U60 -> 5045000 | M60: =K60-L60 -> 5045000 | N60: 0.5 | S60: 45000 | T60: =419224.649999999+1351022.38+729752.97 -> 2500000 | U60: 2500000 | Y60: =L60=SUM(O60:X60) -> TRUE | Z60: =ROUND(L60/K60,4) -> 0.5 | AA60: =Z60=N60 -> TRUE | AB60: =K60=L60+M60 -> TRUE
A61: 59 | B61: 988/22 | D61: GMINA PAWONKÓW (rezygnacja wnioskodawcy z realizacji zadania) | E61: 2407072 | F61: lubliniecki | G61: Przebudowa dróg gminnych relacji Draliny-Lisowice-Andrzejów w gminie Pawonków | Y61: =L61=SUM(O61:X61) -> TRUE | Z61: =ROUND(L61/K61,4) -> #DIV/0! | AA61: =Z61=N61 -> #DIV/0! | AB61: =K61=L61+M61 -> TRUE
A62: 60 | B62: 938/22 | D62: MIASTO BIELSKO-BIAŁA (rezygnacja wnioskodawcy z realizacji zadania) | E62: 2461011 | F62: Bielsko-Biała | G62: Rozbudowa i remont odcinka ul. Akademii Umiejętności w Bielsku-Białej | Y62: =L62=SUM(O62:X62) -> TRUE | Z62: =ROUND(L62/K62,4) -> #DIV/0! | AA62: =Z62=N62 -> #DIV/0! | AB62: =K62=L62+M62 -> TRUE
A63: 61 | B63: 968/22 | C63: N | D63: GMINA MIEDŹNO | E63: 2406042 | F63: kłobucki | G63: Rozbudowa DG 656047 S (ul. Sportowa) w miejscowości Ostrowy nad Okszą, gm. Miedźno | H63: B | I63: 0.541 | J63: październik 2023-wrzesień 2024 | K63: 1870608 | L63: 1028834.4 | M63: =K63-L63 -> 841773.6 | N63: 0.55 | S63: 1028834.4 | T63: 0 | U63: 0 | Y63: =L63=SUM(O63:X63) -> TRUE | Z63: =ROUND(L63/K63,4) -> 0.55 | AA63: =Z63=N63 -> TRUE | AB63: =K63=L63+M63 -> TRUE
A64: 62 | B64: 1017/22 | C64: N | D64: GMINA KONIECPOL | E64: 2404063 | F64: częstochowski | G64: Przebudowa ulicy Pułaskiego w Koniecpolu z przebudową skrzyżowania z ul. Prusa | H64: P | I64: 0.627 | J64: marzec 2023-październik 2023 | K64: 1934345 | L64: 967172.5 | M64: =K64-L64 -> 967172.5 | N64: 0.5 | S64: 967172.5 | T64: 0 | U64: 0 | Y64: =L64=SUM(O64:X64) -> TRUE | Z64: =ROUND(L64/K64,4) -> 0.5 | AA64: =Z64=N64 -> TRUE | AB64: =K64=L64+M64 -> TRUE
A65: 63 | B65: 1009/22 | C65: N | D65: GMINA SIEWIERZ | E65: 2401073 | F65: będziński | G65: Rozbudowa ul. Zawodzie w Wojkowicach Kościelnych w Gminie Siewierz | H65: B | I65: 1.39 | J65: grudzień 2023-listopad 2024 | K65: 10731420 | L65: 5365710 | M65: =K65-L65 -> 5365710 | N65: 0.5 | S65: =2856413.87+2509296.13 -> 5365710 | T65: 0 | U65: 0 | Y65: =L65=SUM(O65:X65) -> TRUE | Z65: =ROUND(L65/K65,4) -> 0.5 | AA65: =Z65=N65 -> TRUE | AB65: =K65=L65+M65 -> TRUE
A66: 64** | B66: 1012/22 | C66: W | D66: GMINA PSARY | E66: 2401062 | F66: będziński | G66: Przebudowa drogi gminnej ul. Głównej w Sarnowie | H66: P | I66: 0.84 | J66: listopad 2023-grudzień 2024 | K66: 3069000 | L66: 750000 | M66: =K66-L66 -> 2319000 | N66: 0.5 | S66: 750000 | T66: 0 | U66: 0 | Y66: =L66=SUM(O66:X66) -> TRUE | Z66: =ROUND(L66/K66,4) -> 0.2444 | AA66: =Z66=N66 -> FALSE | AB66: =K66=L66+M66 -> TRUE
A67: 65** | B67: 976/22 | C67: W | D67: MIASTO BYTOM | E67: 2462011 | F67: Bytom | G67: Przebudowa ulicy Tysiąclecia w Bytomiu | H67: P | I67: 0.943 | J67: lipiec 2023-listopad 2024 | K67: 4366000 | L67: 683000 | M67: =K67-L67 -> 3683000 | N67: 0.5 | S67: 683000 | T67: 0 | U67: 0 | Y67: =L67=SUM(O67:X67) -> TRUE | Z67: =ROUND(L67/K67,4) -> 0.1564 | AA67: =Z67=N67 -> FALSE | AB67: =K67=L67+M67 -> TRUE
A68: 66 | B68: 1011/22 | D68: GMINA PSARY (rezygnacja wnioskodawcy z realizacji zadania) | E68: 2401062 | F68: będziński | G68: Rozbudowa ulicy Kolejowej w Psarach
A69: 67 | B69: 992/22 | D69: GMINA GOLESZÓW (rezygnacja wnioskodawcy z realizacji zadania) | E69: 2403072 | F69: cieszyński | G69: Przebudowa drogi gminnej ul. Potoczki w Bażanowicach o długości 0,77 km
A70: 68 | B70: 906/22 | C70: N | D70: GMINA LUBLINIEC | E70: 2407011 | F70: lubliniecki | G70: Przebudowa odcinka drogi gminnej nr 440072 S ul. Plebiscytowa w Lublińcu z przebudową i rozbudową kanalizacji deszczowej, przebudowa oświetlenia ulicznego | H70: P | I70: 0.385 | J70: listopad 2023-pazdziernik 2024 | K70: 3568673 | L70: =S70 -> 1784336.5 | M70: =K70-L70 -> 1784336.5 | N70: 0.5 | S70: =1784336.5-1100969.13+630678.31+470290.82 -> 1784336.5 | T70: 0 | U70: 0
A71: 69* | B71: 1010/22 | C71: N | D71: GMINA SIEWIERZ | E71: 2401073 | F71: będziński | G71: Przebudowa ul. Piłsudskiego w Siewierzu | H71: P | I71: 0.757 | J71: marzec 2023-luty 2024 | K71: 5989024 | L71: 429709.18 | M71: =K71-L71 -> 5559314.8 | N71: 0.5 | S71: 429709.18 | T71: 0 | U71: 0
A72: RAZEM, z tego: | I72: =SUM(I3:I71) -> 64.638 | J72: x | K72: =SUM(K3:K71) -> 3.1886357e+08 | L72: =SUM(L3:L71) -> 1.4557815e+08 | M72: =SUM(M3:M71) -> 1.7328542e+08 | N72: x | O72: =SUM(O3:O71) -> 0 | P72: =SUM(P3:P71) -> 0 | Q72: =SUM(Q3:Q71) -> 9360007.4 | R72: =SUM(R3:R71) -> 19662609 | S72: =SUM(S3:S71) -> 70058643 | T72: =SUM(T3:T71) -> 26641758 | U72: =SUM(U3:U71) -> 10120578 | V72: =SUM(V3:V71) -> 5827282 | ... X72: =SUM(X3:X71) -> 1714275.5
A73: kontynuowane zadania wieloletnie | I73: =SUMIF($C$3:$C$71,"K",I3:I71) -> 28.689 | J73: x | K73: =SUMIF($C$3:$C$71,"K",K3:K71) -> 1.3221897e+08 | L73: =SUMIF($C$3:$C$71,"K",L3:L71) -> 59286693 | M73: =SUMIF($C$3:$C$71,"K",M3:M71) -> 72932278 | N73: x | O73: =SUMIF($C$3:$C$71,"K",O3:O71) -> 0 | P73: =SUMIF($C$3:$C$71,"K",P3:P71) -> 0 | Q73: =SUMIF($C$3:$C$71,"K",Q3:Q71) -> 9360007.4 | R73: =SUMIF($C$3:$C$71,"K",R3:R71) -> 19662609 | S73: =SUMIF($C$3:$C$71,"K",S3:S71) -> 24459872 | T73: =SUMIF($C$3:$C$71,"K",T3:T71) -> 3765099.5 | U73: =SUMIF($C$3:$C$71,"K",U3:U71) -> 1011161.5 | V73: =SUMIF($C$3:$C$71,"K",V3:V71) -> 1027944 | ... X73: =SUMIF($C$3:$C$71,"K",X3:X71) -> 0
A74: nowe zadania jednoroczne | I74: =SUMIF($C$3:$C$71,"N",I3:I71) -> 18.348 | J74: x | K74: =SUMIF($C$3:$C$71,"N",K3:K71) -> 74706764 | L74: =SUMIF($C$3:$C$71,"N",L3:L71) -> 34566056 | M74: =SUMIF($C$3:$C$71,"N",M3:M71) -> 40140709 | N74: x | O74: =SUMIF($C$3:$C$71,"N",O3:O71) -> 0 | P74: =SUMIF($C$3:$C$71,"N",P3:P71) -> 0 | Q74: =SUMIF($C$3:$C$71,"N",Q3:Q71) -> 0 | R74: =SUMIF($C$3:$C$71,"N",R3:R71) -> 0 | S74: =SUMIF($C$3:$C$71,"N",S3:S71) -> 34566056 | T74: =SUMIF($C$3:$C$71,"N",T3:T71) -> 0 | U74: =SUMIF($C$3:$C$71,"N",U3:U71) -> 0 | V74: =SUMIF($C$3:$C$71,"N",V3:V71) -> 0 | ... X74: =SUMIF($C$3:$C$71,"N",X3:X71) -> 0
A75: nowe zadania wieloletnie | I75: =SUMIF($C$3:$C$71,"W",I3:I71) -> 17.601 | J75: x | K75: =SUMIF($C$3:$C$71,"W",K3:K71) -> 1.1193784e+08 | L75: =SUMIF($C$3:$C$71,"W",L3:L71) -> 51725404 | M75: =SUMIF($C$3:$C$71,"W",M3:M71) -> 60212434 | N75: x | O75: =SUMIF($C$3:$C$71,"W",O3:O71) -> 0 | P75: =SUMIF($C$3:$C$71,"W",P3:P71) -> 0 | Q75: =SUMIF($C$3:$C$71,"W",Q3:Q71) -> 0 | R75: =SUMIF($C$3:$C$71,"W",R3:R71) -> 0 | S75: =SUMIF($C$3:$C$71,"W",S3:S71) -> 11032715 | T75: =SUMIF($C$3:$C$71,"W",T3:T71) -> 22876658 | U75: =SUMIF($C$3:$C$71,"W",U3:U71) -> 9109416.5 | V75: =SUMIF($C$3:$C$71,"W",V3:V71) -> 4799338 | ... X75: =SUMIF($C$3:$C$71,"W",X3:X71) -> 1714275.5
A77: B - budowa (rozbudowa), P - przebudowa, R - remont
A78: kolorem czerwonym oznaczono zadania wieloletnie
A79: N - nowe zadanie jednoroczne, K - kontynuowane zadanie wieloletnie z wcześniejszego naboru, W - nowe zadanie wieloletnie
A80: * Kwota dofinansowania zmniejszona do limitu dostępnych środków na rok 2023
A81: ** Kwota dofinansowania zmniejszona do limitu dostępnych środków na rok 2024

Sheet pow rez
A1: L.p. | B1: Nr ewid. | C1: Zadanie nowe/wieloletnie [N/W] | D1: Jednostka Samorządu Terytorialnego | E1: TERC | F1: Nazwa zadania | G1: Rodzaj zadania | H1: Długość odcinka (w km) | I1: Okres realizacji zadania | J1: Ogółem wartość projektu (w zł) | K1: Wnioskowana kwota dofinansowania (w zł) | L1: Deklarowana kwota środków własnych (w zł) | M1: % dofinansowania | N1: Kwota dofinansowania w podziale na lata
N2: 2019 | O2: 2020 | P2: 2021 | Q2: 2022 | R2: 2023 | S2: 2024 | T2: 2025 | U2: 2026 | V2: 2027 | W2: 2028 | X2: spr-lata | Y2: spr-procent | Z2: spr-dof | AA2: spr-montaż
A3: 1 | B3: 966/22 | D3: POWIAT CIESZYŃSKI (zadanie przeniesione na listę podstawową) | E3: 2403 | F3: Rozbudowa odcinków dróg powiatowych 2623 S (ul. Katowicka) i 2624 S (ul. Cieszyńska) wraz z ich skrzyżowaniem w miejscowości Pogwizdów | X3: TRUE | Y3: =ROUND(K3/J3,4) -> #DIV/0! | Z3: TRUE | AA3: TRUE
A4: 2 | B4: 945/22 | D4: MIASTO RYBNIK (zadanie przeniesione na listę podstawową) | E4: 2473 | F4: Rozbudowa ul. Sportowej w Rybniku na odcinku od przejazdu kolejowego do ul. Morcinka | X4: TRUE | Y4: =ROUND(K4/J4,4) -> #DIV/0! | Z4: TRUE | AA4: TRUE
A5: 3 | B5: 949/22 | D5: POWIAT WODZISŁAWSKI (zadanie przeniesione na listę podstawową) | E5: 2415 | F5: Przebudowa drogi powiatowej nr 5001S ul. Głożyńskiej w Radlinie (od skrzyżowania z ul. J. Rymera do skrzyżowania z ul. M. Strzody) | X5: TRUE | Y5: =ROUND(K5/J5,4) -> #DIV/0! | Z5: TRUE | AA5: TRUE
A6: 4 | B6: 904/22 | D6: POWIAT MYSZKOWSKI (zadanie przeniesione na listę podstawową) | E6: 2409 | F6: Budowa ścieżki pieszo-rowerowej Lgota Mokrzesz - Nowa Kuźnica - w ramach przebudowy drogi powiatowej nr DP3800S wraz z kanalizacją deszczową | X6: TRUE | Y6: =ROUND(K6/J6,4) -> #DIV/0! | Z6: TRUE | AA6: TRUE
A7: 5 | B7: 936/22 | D7: POWIAT ŻYWIECKI (zadanie przeniesione na listę podstawową) | E7: 2417 | F7: Przebudowa drogi powiatowej 1455 S wraz z budową chodnika dla pieszych, kanalizacji deszczowej i przebudową urządzeń obcych w m. Lipowa | X7: TRUE | Y7: =ROUND(K7/J7,4) -> #DIV/0! | Z7: TRUE | AA7: TRUE
A8: 6 | B8: 990/22 | D8: POWIAT CZĘSTOCHOWSKI (zadanie przeniesione na listę podstawową) | E8: 2404 | F8: Przebudowa drogi powiatowej nr 1057 S na odc. Wrzosowa - Huta Stara B, gmina Poczesna | X8: TRUE | Y8: =ROUND(K8/J8,4) -> #DIV/0! | Z8: TRUE | AA8: TRUE
A9: 7 | B9: 971/22 | D9: MIASTO SOSNOWIEC (zadanie przeniesione na listę podstawową) | E9: 2475 | F9: Rozbudowa skrzyżowania ul. Wileńskiej z ul. Łukasiewicza i ul. Minerów wraz z przebudową ul. Łukasiewicza | X9: TRUE | Y9: =ROUND(K9/J9,4) -> #DIV/0! | Z9: TRUE | AA9: TRUE
A10: 8 | B10: 925/22 | D10: POWIAT TARNOGÓRSKI (rezygnacja wnioskodawcy z realizacji zadania) | E10: 2413 | F10: Rozbudowa DP 3290S ulicy Grzybowej w Tarnowskich Górach | X10: TRUE | Y10: =ROUND(K10/J10,4) -> #DIV/0! | Z10: TRUE | AA10: TRUE
A11: 9 | B11: 961/22 | D11: POWIAT PSZCZYŃSKI (zadanie przeniesione na listę podstawową) | E11: 2410 | F11: Przebudowa ul. Chopina w Pszczynie na odcinku od ul. Staromiejskiej do ronda Św. Jadwigi | X11: TRUE | Y11: =ROUND(K11/J11,4) -> #DIV/0! | Z11: TRUE | AA11: TRUE
A12: 10 | B12: 922/22 | D12: POWIAT RYBNICKI (zadanie przeniesione na listę podstawową) | E12: 2412 | F12: Przebudowa drogi powiatowej nr 5604S ulica Raciborska w Bogunicach | X12: TRUE | Y12: =ROUND(K12/J12,4) -> #DIV/0! | Z12: TRUE | AA12: TRUE
A13: 11 | B13: 933/22 | D13: POWIAT GLIWICKI (zadanie przeniesione na listę podstawową) | E13: 2405 | F13: Przebudowa i remont nawierzchni drogi powiatowej Nr 2970S ul. Wiejska w Pisarzowicach | X13: TRUE | Y13: =ROUND(K13/J13,4) -> #DIV/0! | Z13: TRUE | AA13: TRUE
A14: 12 | B14: 953/22 | D14: POWIAT MIKOŁOWSKI (rezygnacja wnioskodawcy z realizacji zadania) | E14: 2408 | F14: Przebudowa ul. Chrobrego w Orzeszu od ul. Modrzewiowej do ul. Mokrej | X14: TRUE | Y14: =ROUND(K14/J14,4) -> #DIV/0! | Z14: TRUE | AA14: TRUE
A15: 13 | B15: 927/22 | D15: MIASTO SIEMIANOWICE ŚLĄSKIE (zadanie przeniesione na listę podstawową) | E15: 2474 | F15: Remont drogi powiatowej 9637S (al. Młodych) w Siemianowicach Śląskich | X15: TRUE | Y15: =ROUND(K15/J15,4) -> #DIV/0! | Z15: TRUE | AA15: TRUE
A16: RAZEM, z tego: | H16: =SUM(H3:H15) -> 0 | I16: x | J16: =SUM(J3:J15) -> 0 | K16: =SUM(K3:K15) -> 0 | L16: =SUM(L3:L15) -> 0 | M16: x | N16: =SUM(N3:N15) -> 0 | O16: =SUM(O3:O15) -> 0 | P16: =SUM(P3:P15) -> 0 | Q16: =SUM(Q3:Q15) -> 0 | R16: =SUM(R3:R15) -> 0 | S16: =SUM(S3:S15) -> 0 | T16: =SUM(T3:T15) -> 0 | U16: =SUM(U3:U15) -> 0 | ... W16: =SUM(W3:W15) -> 0
A17: nowe zadania jednoroczne | H17: =SUMIF($C$3:$C$15,"N",H3:H15) -> 0 | I17: x | J17: =SUMIF($C$3:$C$15,"N",J3:J15) -> 0 | K17: =SUMIF($C$3:$C$15,"N",K3:K15) -> 0 | L17: =SUMIF($C$3:$C$15,"N",L3:L15) -> 0 | M17: x | N17: =SUMIF($C$3:$C$15,"N",N3:N15) -> 0 | O17: =SUMIF($C$3:$C$15,"N",O3:O15) -> 0 | P17: =SUMIF($C$3:$C$15,"N",P3:P15) -> 0 | Q17: =SUMIF($C$3:$C$15,"N",Q3:Q15) -> 0 | R17: =SUMIF($C$3:$C$15,"N",R3:R15) -> 0 | S17: =SUMIF($C$3:$C$15,"N",S3:S15) -> 0 | T17: =SUMIF($C$3:$C$15,"N",T3:T15) -> 0 | U17: =SUMIF($C$3:$C$15,"N",U3:U15) -> 0 | ... W17: =SUMIF($C$3:$C$15,"N",W3:W15) -> 0
A18: nowe zadania wieloletnie | H18: =SUMIF($C$3:$C$15,"W",H3:H15) -> 0 | I18: x | J18: =SUMIF($C$3:$C$15,"W",J3:J15) -> 0 | K18: =SUMIF($C$3:$C$15,"W",K3:K15) -> 0 | L18: =SUMIF($C$3:$C$15,"W",L3:L15) -> 0 | M18: x | N18: =SUMIF($C$3:$C$15,"W",N3:N15) -> 0 | O18: =SUMIF($C$3:$C$15,"W",O3:O15) -> 0 | P18: =SUMIF($C$3:$C$15,"W",P3:P15) -> 0 | Q18: =SUMIF($C$3:$C$15,"W",Q3:Q15) -> 0 | R18: =SUMIF($C$3:$C$15,"W",R3:R15) -> 0 | S18: =SUMIF($C$3:$C$15,"W",S3:S15) -> 0 | T18: =SUMIF($C$3:$C$15,"W",T3:T15) -> 0 | U18: =SUMIF($C$3:$C$15,"W",U3:U15) -> 0 | ... W18: =SUMIF($C$3:$C$15,"W",W3:W15) -> 0
A20: B - budowa (rozbudowa), P - przebudowa, R - remont
A21: kolorem czerwonym oznaczono zadania wieloletnie
A22: N - zadanie nowe, W - nowe zadanie wieloletnie

Sheet gm rez
A1: L.p. | B1: Nr ewid. | C1: Zadanie nowe/wieloletnie [N/W] | D1: Jednostka Samorządu Terytorialnego | E1: TERC | F1: Powiat | G1: Nazwa zadania | H1: Rodzaj zadania | I1: Długość odcinka (w km) | J1: Okres realizacji zadania | K1: Ogółem wartość projektu (w zł) | L1: Wnioskowana kwota dofinansowania (w zł) | M1: Deklarowana kwota środków własnych (w zł) | N1: % dofinansowania | O1: Kwota dofinansowania w podziale na lata
O2: 2019 | P2: 2020 | Q2: 2021 | R2: 2022 | S2: 2023 | T2: 2024 | U2: 2025 | V2: 2026 | W2: 2027 | X2: 2028 | Y2: spr-lata | Z2: spr-procent | AA2: spr-dof | AB2: spr-montaż
A3: 1 | B3: 969/22 | D3: GMINA MIEDŹNO (zadanie przeniesione na listę podstawową) | E3: 2406042 | F3: kłobucki | G3: Rozbudowa DG 656014 S w miejscowości Kołaczkowice Duże, etap I i etap II, gmina Miedźno
A4: 2 | B4: 1013/22 | D4: MIASTO CHORZÓW (zadanie przeniesione na listę podstawową) | E4: 2463011 | F4: Chorzów | G4: Budowa przedłużenia ulicy Bojarskiego od skrzyżowania z ul. Siemianowicką do ul. Bytkowskiej
A5: 3 | B5: 988/22 | D5: GMINA PAWONKÓW (zadanie przeniesione na listę podstawową) | E5: 2407072 | F5: lubliniecki | G5: Przebudowa dróg gminnych relacji Draliny-Lisowice-Andrzejów w gminie Pawonków
A6: 4 | B6: 938/22 | D6: MIASTO BIELSKO-BIAŁA (zadanie przeniesione na listę podstawową) | E6: 2461011 | F6: Bielsko-Biała | G6: Rozbudowa i remont odcinka ul. Akademii Umiejętności w Bielsku-Białej
A7: 5 | B7: 968/22 | D7: GMINA MIEDŹNO (zadanie przeniesione na listę podstawową) | E7: 2406042 | F7: kłobucki | G7: Rozbudowa DG 656047 S (ul. Sportowa) w miejscowości Ostrowy nad Okszą, gm. Miedźno
A8: 6 | B8: 1017/22 | D8: GMINA KONIECPOL (zadanie przeniesione na listę podstawową) | E8: 2404063 | F8: częstochowski | G8: Przebudowa ulicy Pułaskiego w Koniecpolu z przebudową skrzyżowania z ul. Prusa
A9: 7 | B9: 1009/22 | D9: GMINA SIEWIERZ (zadanie przeniesione na listę podstawową) | E9: 2401073 | F9: będziński | G9: Rozbudowa ul. Zawodzie w Wojkowicach Kościelnych w Gminie Siewierz
A10: 8 | B10: 1012/22 | D10: GMINA PSARY (zadanie przeniesione na listę podstawową) | E10: 2401062 | F10: będziński | G10: Przebudowa drogi gminnej ul. Głównej w Sarnowie
A11: 9 | B11: 976/22 | D11: MIASTO BYTOM (zadanie przeniesione na listę podstawową) | E11: 2462011 | F11: Bytom | G11: Przebudowa ulicy Tysiąclecia w Bytomiu
A12: 10 | B12: 1011/22 | D12: GMINA PSARY (zadanie przeniesione na listę podstawową) | E12: 2401062 | F12: będziński | G12: Rozbudowa ulicy Kolejowej w Psarach
A13: 11 | B13: 992/22 | D13: GMINA GOLESZÓW (zadanie przeniesione na listę podstawową) | E13: 2403072 | F13: cieszyński | G13: Przebudowa drogi gminnej ul. Potoczki w Bażanowicach o długości 0,77 km
A14: 12 | B14: 906/22 | D14: GMINA LUBLINIEC (zadanie przeniesione na listę podstawową) | E14: 2407011 | F14: lubliniecki | G14: Przebudowa odcinka drogi gminnej nr 440072 S ul. Plebiscytowa w Lublińcu z przebudową i rozbudową kanalizacji deszczowej, przebudowa oświetlenia ulicznego
A15: 13 | B15: 1010/22 | D15: GMINA SIEWIERZ (zadanie przeniesione na listę podstawową) | E15: 2401073 | F15: będziński | G15: Przebudowa ul. Piłsudskiego w Siewierzu
A16: 14 | B16: 1018/22 | C16: N | D16: GMINA KONIECPOL | E16: 2404063 | F16: częstochowski | G16: Przebudowa ulicy Słowik i ulicy Górnej w Koniecpolu | H16: P | I16: 0.346 | J16: marzec 2023-październik 2023 | K16: 558967 | L16: 279483.5 | M16: =K16-L16 -> 279483.5 | N16: 0.5 | S16: 279483.5 | T16: 0 | U16: 0
A17: 15 | B17: 940/22 | C17: W | D17: GMINA RACIBÓRZ | E17: 2411011 | F17: raciborski | G17: Przebudowa i budowa drogi dojazdowej wraz z rondem do terenów inwestycyjnych położonych przy ul. Mikołowskiej w Raciborzu - uzbrojenie terenów inwestycyjnych przy ul. Mikołowskiej w Raciborzu | H17: P | I17: 0.625 | J17: kwiecień 2023-grudzień 2024 | K17: 4536888 | L17: 2268444 | M17: =K17-L17 -> 2268444 | N17: 0.5 | S17: 1134222 | T17: 1134222 | U17: 0
A18: 16 | B18: 1006/22 | C18: W | D18: GMINA ORZESZE | E18: 2408031 | F18: mikołowski | G18: Budowa odcinka ul. Zacisze w Orzeszu-Zawiści wraz z oświetleniem | H18: B | I18: 0.451 | J18: marzec 2023-październik 2024 | K18: 1766772 | L18: 883386 | M18: =K18-L18 -> 883386 | N18: 0.5 | S18: 30000 | T18: 853386 | U18: 0
A19: 17 | B19: 918/22 | C19: N | D19: GMINA CIESZYN | E19: 2403011 | F19: cieszyński | G19: Przebudowa ulicy Morcinka poprzez przebudowę zatoki autobusowej i budowę zatok postojowych w Cieszynie | H19: P | I19: 0.22 | J19: maj 2023-listopad 2023 | K19: 937574 | L19: 468787 | M19: =K19-L19 -> 468787 | N19: 0.5 | S19: 468787 | T19: 0 | U19: 0
A20: 18 | B20: 907/22 | C20: W | D20: GMINA LUBLINIEC | E20: 2407011 | F20: lubliniecki | G20: Przebudowa drogi gminnej ul. Spokojnej oraz ul. Emila Cyrana w Lublińcu wraz z przebudową i rozbudową kanalizacji deszczowej, przebudową obiektu mostowego na rzece Lublinicy w ramach zadania inwestycyjnego pn. " Rewitalizacja terenów przyległych do rzeki Lublinicy - etap III między ulicą Sportową a Spokojną" | H20: P | I20: 1.096 | J20: styczeń 2023-lipiec 2024 | K20: 9932456 | L20: 4966228 | M20: =K20-L20 -> 4966228 | N20: 0.5 | S20: 3476356 | T20: 1489872 | U20: 0
A21: 19 | B21: 995/22 | C21: N | D21: GMINA ŁAZY | E21: 2416053 | F21: zawierciański | G21: Przebudowa ulicy Kościuszki w Ciągowicach | H21: P | I21: 0.35 | J21: marzec 2023-listopad 2023 | K21: 1134020 | L21: 567010 | M21: =K21-L21 -> 567010 | N21: 0.5 | S21: 567010 | T21: 0 | U21: 0
A22: 20 | B22: 919/22 | C22: N | D22: GMINA ZAWIERCIE | E22: 2416021 | F22: zawierciański | G22: Przebudowa ciągu komunikacyjnego ulic Słowiczej, Jaskółczej i Bocianiej w Zawierciu | H22: P | I22: 1.148 | J22: marzec 2023-luty 2024 | K22: 5090441 | L22: 2545220.5 | M22: =K22-L22 -> 2545220.5 | N22: 0.5 | S22: 2545220.5 | T22: 0 | U22: 0
A23: 21 | B23: 914/22 | C23: N | D23: GMINA WODZISŁAW ŚLĄSKI | E23: 2415041 | F23: wodzisławski | G23: Przebudowa drogi gminnej obejmującej ulicę Ładną w Wodzisławiu Śląskim | H23: P | I23: 0.853 | J23: marzec 2023-luty 2024 | K23: 1296523 | L23: 713087.65 | M23: =K23-L23 -> 583435.35 | N23: 0.55 | S23: 713087.65 | T23: 0 | U23: 0
A24: 22 | B24: 911/22 | C24: N | D24: GMINA USTROŃ | E24: 2403021 | F24: cieszyński | G24: Rozbudowa ul. Folwarcznej w Ustroniu | H24: B | I24: 0.203 | J24: marzec 2023-listopad 2023 | K24: 2615042 | L24: 1307521 | M24: =K24-L24 -> 1307521 | N24: 0.5 | S24: 1307521 | T24: 0 | U24: 0
A25: 23 | B25: 1015/22 | C25: W | D25: GMINA OŻAROWICE | E25: 2413062 | F25: tarnogórski | G25: Budowa dróg gminnych ul. Spacerowa i Grabowa i przebudowa drogi gminnej ul. Jasionek | H25: B | I25: 2.15 | J25: sierpień 2023-czerwiec 2025 | K25: 5203036 | L25: 2601518 | M25: =K25-L25 -> 2601518 | N25: 0.5 | S25: 135018 | T25: 1550000 | U25: 916500
A26: 24 | B26: 908/22 | C26: N | D26: GMINA KŁOBUCK | E26: 2406013 | F26: kłobucki | G26: Przebudowa drogi gminnej nr 470 023S ul. kard. Stefana Wyszyńskiego w Kłobucku | H26: P | I26: 0.397 | J26: kwiecień 2023-październik 2023 | K26: 1770584 | L26: 885292 | M26: =K26-L26 -> 885292 | N26: 0.5 | S26: 885292 | T26: 0 | U26: 0
A27: 25 | B27: 1007/22 | C27: W | D27: GMINA ORZESZE | E27: 2408031 | F27: mikołowski | G27: Budowa ul. Brzozowej w Orzeszu-Jaśkowicach wraz z oświetleniem | H27: B | I27: 0.45 | J27: marzec 2023-październik 2024 | K27: 1590759 | L27: 795379.5 | M27: =K27-L27 -> 795379.5 | N27: 0.5 | S27: 30000 | T27: 765379.5 | U27: 0
A28: 26 | B28: 970/22 | C28: N | D28: GMINA KŁOMNICE | E28: 2404052 | F28: częstochowski | G28: Przebudowa ulicy Polnej w miejscowości Karczewice | H28: P | I28: 0.673 | J28: maj 2023-listopad 2023 | K28: 512391 | L28: 281815.05 | M28: =K28-L28 -> 230575.95 | N28: 0.55 | S28: 281815.05 | T28: 0 | U28: 0
A29: 27 | B29: 915/22 | C29: N | D29: GMINA WODZISŁAW ŚLĄSKI | E29: 2415041 | F29: wodzisławski | G29: Przebudowa drogi gminnej obejmującej ulicę Owocową w Wodzisławiu Śląskim | H29: P | I29: 0.616 | J29: marzec 2023-luty 2024 | K29: 1462016 | L29: 804108.8 | M29: =K29-L29 -> 657907.2 | N29: 0.55 | S29: 804108.8 | T29: 0 | U29: 0
A30: 28 | B30: 1002/22 | C30: W | D30: GMINA ŁAZISKA GÓRNE | E30: 2408011 | F30: mikołowski | G30: Przebudowa drogi ul. Spacerowej i Poziomkowej | H30: P | I30: 0.76 | J30: marzec 2023-listopad 2025 | K30: 5112100 | L30: 2556050 | M30: =K30-L30 -> 2556050 | N30: 0.5 | S30: 822516.5 | T30: 866766.5 | U30: 866767
A31: 29 | B31: 983/22 | C31: N | D31: GMINA MIKOŁÓW | E31: 2408021 | F31: mikołowski | G31: Rozbudowa ul. Podgórnej w Mikołowie - Etap I | H31: B | I31: 0.51 | J31: marzec 2023-listopad 2023 | K31: 3840455 | L31: 1920227.5 | M31: =K31-L31 -> 1920227.5 | N31: 0.5 | S31: 1920227.5 | T31: 0 | U31: 0
A32: 30 | B32: 986/22 | C32: N | D32: MIASTO PIEKARY ŚLĄSKIE | E32: 2471011 | F32: Piekary Śląskie | G32: Remont drogi ul. Gen. Jerzego Ziętka w Piekarach Śląskich | H32: R | I32: 0.48 | J32: czerwiec 2023-maj 2024 | K32: 2000000 | L32: 1000000 | M32: =K32-L32 -> 1000000 | N32: 0.5 | S32: 1000000 | T32: 0 | U32: 0
A33: 31 | B33: 932/22 | C33: N | D33: GMINA POCZESNA | E33: 2404132 | F33: częstochowski | G33: Przebudowa drogi gminnej ulicy Błękitnej w Brzezinach Kolonii, gmina Poczesna | H33: P | I33: 0.351 | J33: czerwiec 2023-maj 2024 | K33: 343039 | L33: 171519.5 | M33: =K33-L33 -> 171519.5 | N33: 0.5 | S33: 171519.5 | T33: 0 | U33: 0
A34: 32 | B34: 913/22 | C34: N | D34: GMINA TARNOWSKIE GÓRY | E34: 2413041 | F34: tarnogórski | G34: Przebudowa ulicy Słoneczników w Tarnowskich Górach | H34: P | I34: 0.262 | J34: marzec 2023-grudzień 2023 | K34: 1761140 | L34: 880570 | M34: =K34-L34 -> 880570 | N34: 0.5 | S34: 880570 | T34: 0 | U34: 0
A35: 33 | B35: 997/22 | C35: N | D35: GMINA BOJSZOWY | E35: 2414042 | F35: bieruńsko-lędziński | G35: Remont drogi gminnej 670140S - ul. Gwarnej w Bojszowach | H35: R | I35: 0.159 | J35: maj 2023-listopad 2023 | K35: 354045 | L35: 194724.75 | M35: =K35-L35 -> 159320.25 | N35: 0.55 | S35: 194724.75 | T35: 0 | U35: 0
A36: 34 | B36: 1008/22 | C36: W | D36: GMINA WYRY | E36: 2408052 | F36: mikołowski | G36: Przebudowa ul. Spokojnej w Wyrach w systemie zaprojektuj i wybuduj | H36: P | I36: 0.998 | J36: czerwiec 2023-grudzień 2024 | K36: 3687701 | L36: 1843850.5 | M36: =K36-L36 -> 1843850.5 | N36: 0.5 | S36: 67650 | T36: 1776200.5 | U36: 0
A37: 35 | B37: 902/22 | C37: N | D37: GMINA ZEBRZYDOWICE | E37: 2403122 | F37: cieszyński | G37: Przebudowa drogi gminnej ul. Folwarcznej w Kończycach Małych - etap II | H37: P | I37: 0.43 | J37: maj 2023-listopad 2023 | K37: 393914 | L37: 216652.7 | M37: =K37-L37 -> 177261.3 | N37: 0.55 | S37: 216652.7 | T37: 0 | U37: 0
A38: 36 | B38: 962/22 | C38: W | D38: GMINA WILKOWICE | E38: 2402102 | F38: bielski | G38: Budowa i przebudowa ul. Spacerowej oraz przebudowa ul. Wypoczynkowej w Wilkowicach w formule zaprojektuj-wybuduj | H38: P | I38: 0.346 | J38: maj 2023-grudzień 2025 | K38: 1586651 | L38: 793325.5 | M38: =K38-L38 -> 793325.5 | N38: 0.5 | S38: 10000 | T38: 47000 | U38: 736325.5
A39: 37 | B39: 965/22 | C39: N | D39: GMINA ZBROSŁAWICE | E39: 2413092 | F39: tarnogórski | G39: Budowa ulicy Porannej w Zbrosławicach | H39: B | I39: 0.25 | J39: marzec 2023-grudzień 2023 | K39: 855484 | L39: 427742 | M39: =K39-L39 -> 427742 | N39: 0.5 | S39: 427742 | T39: 0 | U39: 0
A40: 38 | B40: 948/22 | C40: W | D40: GMINA PSZCZYNA | E40: 2410053 | F40: pszczyński | G40: Przebudowa ul. Musioła i ul. Brandysa w Pszczynie | H40: P | I40: 0.307 | J40: marzec 2023-październik 2024 | K40: 597124 | L40: 298562 | M40: =K40-L40 -> 298562 | N40: 0.5 | S40: 149281 | T40: 149281 | U40: 0
A41: 39 | B41: 928/22 | C41: N | D41: MIASTO SIEMIANOWICE ŚLĄSKIE | E41: 2474011 | F41: Siemianowice Śląskie | G41: Remont dróg gminnych 250026S (ul. Dąbrowskiego), 250159S (ul. Wyspiańskiego), 250114S (ul. Pułaskiego), 250025S (ul. Damrota) w Siemianowicach Śląskich | H41: R | I41: 0.804 | J41: sierpień 2023-listopad 2023 | K41: 1645127 | L41: 822563.5 | M41: =K41-L41 -> 822563.5 | N41: 0.5 | S41: 822563.5 | T41: 0 | U41: 0
A42: 40 | B42: 994/22 | C42: N | D42: GMINA ŁAZY | E42: 2416053 | F42: zawierciański | G42: Przebudowa ul. Krzywej w Łazach wraz z uwzględnieniem odtworzenia odwodnienia ulicy | H42: P | I42: 0.43 | J42: marzec 2023-listopad 2023 | K42: 804309 | L42: 402154.5 | M42: =K42-L42 -> 402154.5 | N42: 0.5 | S42: 402154.5 | T42: 0 | U42: 0
A43: RAZEM, z tego: | I43: =SUM(I3:I42) -> 15.665 | J43: x | K43: =SUM(K3:K42) -> 61388558 | L43: =SUM(L3:L42) -> 30895223 | M43: =SUM(M3:M42) -> 30493335 | N43: x | O43: =SUM(O3:O42) -> 0 | P43: =SUM(P3:P42) -> 0 | Q43: =SUM(Q3:Q42) -> 0 | R43: =SUM(R3:R42) -> 0 | S43: =SUM(S3:S42) -> 19743523 | T43: =SUM(T3:T42) -> 8632107.5 | U43: =SUM(U3:U42) -> 2519592.5 | V43: =SUM(V3:V42) -> 0 | ... X43: =SUM(X3:X42) -> 0 | Y43: =L43=SUM(O43:X43) -> TRUE | Z43: =ROUND(L43/K43,4) -> 0.5033 | AB43: =K43=L43+M43 -> TRUE
A44: nowe zadania jednoroczne | I44: =SUMIF($C$3:$C$42,"N",I3:I42) -> 8.482 | J44: x | K44: =SUMIF($C$3:$C$42,"N",K3:K42) -> 27375071 | L44: =SUMIF($C$3:$C$42,"N",L3:L42) -> 13888480 | M44: =SUMIF($C$3:$C$42,"N",M3:M42) -> 13486591 | N44: x | O44: =SUMIF($C$3:$C$42,"N",O3:O42) -> 0 | P44: =SUMIF($C$3:$C$42,"N",P3:P42) -> 0 | Q44: =SUMIF($C$3:$C$42,"N",Q3:Q42) -> 0 | R44: =SUMIF($C$3:$C$42,"N",R3:R42) -> 0 | S44: =SUMIF($C$3:$C$42,"N",S3:S42) -> 13888480 | T44: =SUMIF($C$3:$C$42,"N",T3:T42) -> 0 | U44: =SUMIF($C$3:$C$42,"N",U3:U42) -> 0 | V44: =SUMIF($C$3:$C$42,"N",V3:V42) -> 0 | ... X44: =SUMIF($C$3:$C$42,"N",X3:X42) -> 0 | Y44: =L44=SUM(O44:X44) -> TRUE | Z44: =ROUND(L44/K44,4) -> 0.5073 | AB44: =K44=L44+M44 -> TRUE
A45: nowe zadania wieloletnie | I45: =SUMIF($C$3:$C$42,"W",I3:I42) -> 7.183 | J45: x | K45: =SUMIF($C$3:$C$42,"W",K3:K42) -> 34013487 | L45: =SUMIF($C$3:$C$42,"W",L3:L42) -> 17006744 | M45: =SUMIF($C$3:$C$42,"W",M3:M42) -> 17006744 | N45: x | O45: =SUMIF($C$3:$C$42,"W",O3:O42) -> 0 | P45: =SUMIF($C$3:$C$42,"W",P3:P42) -> 0 | Q45: =SUMIF($C$3:$C$42,"W",Q3:Q42) -> 0 | R45: =SUMIF($C$3:$C$42,"W",R3:R42) -> 0 | S45: =SUMIF($C$3:$C$42,"W",S3:S42) -> 5855043.5 | T45: =SUMIF($C$3:$C$42,"W",T3:T42) -> 8632107.5 | U45: =SUMIF($C$3:$C$42,"W",U3:U42) -> 2519592.5 | V45: =SUMIF($C$3:$C$42,"W",V3:V42) -> 0 | ... X45: =SUMIF($C$3:$C$42,"W",X3:X42) -> 0 | Y45: =L45=SUM(O45:X45) -> TRUE | Z45: =ROUND(L45/K45,4) -> 0.5 | AB45: =K45=L45+M45 -> TRUE
A47: kolorem czerwonym oznaczono zadania wieloletnie
A48: B - budowa (rozbudowa), P - przebudowa, R - remont
A49: N - zadanie nowe, W - nowe zadanie wieloletnie
