Workbook

Sheet TERC - "nazwa woj"
A1: Lista zadań rekomendowanych mających na celu wyłącznie poprawę bezpieczeństwa niechronionych uczestników ruchu, polegających w szczególności na budowie, przebudowie lub remoncie dróg dla pieszych, dróg dla pieszych i rowerów, dróg dla rowerów, przejść dla pieszych, przejazdów dla rowerów, peronów przystankowych wraz z dojściami do tych peronów do dofinansowania w ramach Rządowego Funduszu Rozwoju Dróg
A6: Dofinansowanie przyznane w naborze: 2023
A7: Województwo: śląskie
B9: ZATWIERDZAM
B14: ………………………………………………………………………………….
A16: Podsumowanie naboru:
A17: Kategoria drogi - rodzaj listy | B17: x | C17: Liczba zadań | D17: Wartość zadań ogółem | E17: Deklarowana kwota środków własnych | F17: Kwota dofinasowania ogółem | G17: 2023
A18: powiatowe - lista podstawowa, z tego: | B18: nowe zadania jednoroczne | C18: =COUNTA('pow podst'!P3:P18) -> 16 | D18: =SUM('pow podst'!O3:O18) -> 39579946 | E18: =SUM('pow podst'!Q3:Q18) -> 7915989.2 | F18: =SUM('pow podst'!P3:P18) -> 31663957 | G18: =SUM('pow podst'!S3:S18) -> 31663957 | H18: =D18=(E18+F18) -> TRUE | I18: =F18=SUM(G18:G18) -> TRUE
A19: gminne - lista podstawowa, z tego: | B19: nowe zadania jednoroczne | C19: =COUNTA('gm podst'!Q3:Q25) -> 23 | D19: =SUM('gm podst'!P3:P25) -> 28032960 | E19: =SUM('gm podst'!R3:R25) -> 5606592 | F19: =SUM('gm podst'!Q3:Q25) -> 22426368 | G19: =SUM('gm podst'!T3:T25) -> 22426368 | H19: =D19=(E19+F19) -> TRUE | I19: =F19=SUM(G19:G19) -> TRUE
A20: RAZEM listy podstawowe, z tego: | B20: nowe zadania jednoroczne | C20: =C18+C19 -> 39 | D20: =D18+D19 -> 67612906 | E20: =E18+E19 -> 13522581 | F20: =F18+F19 -> 54090325 | G20: =G18+G19 -> 54090325 | H20: =D20=(E20+F20) -> TRUE | I20: =F20=SUM(G20:G20) -> TRUE
A21: powiatowe - lista rezerwowa | B21: nowe zadania jednoroczne | C21: =COUNTA('pow rez'!P3:P19) -> 0 | D21: =SUM('pow rez'!O3:O19) -> 0 | E21: =SUM('pow rez'!Q13:Q19) -> 0 | F21: =SUM('pow rez'!P3:P19) -> 0 | G21: =SUM('pow rez'!S3:S19) -> 0 | H21: =D21=(E21+F21) -> TRUE | I21: =F21=SUM(G21:G21) -> TRUE
A22: gminne - lista rezerwowa | B22: nowe zadania jednoroczne | C22: =COUNTA('gm rez'!Q3:Q19) -> 0 | D22: =SUM('gm rez'!P3:P19) -> 0 | E22: =SUM('gm rez'!R3:R19) -> 0 | F22: =SUM('gm rez'!Q3:Q19) -> 0 | G22: =SUM('gm rez'!T3:T19) -> 0 | H22: =D22=(E22+F22) -> TRUE | I22: =F22=SUM(G22:G22) -> TRUE
A23: RAZEM listy rezerwowe | B23: nowe zadania jednoroczne | C23: =C21+C22 -> 0 | D23: =D21+D22 -> 0 | E23: =E21+E22 -> 0 | F23: =F21+F22 -> 0 | G23: =G21+G22 -> 0 | H23: =D23=(E23+F23) -> TRUE | I23: =F23=SUM(G23:G23) -> TRUE
A24: RAZEM listy | B24: nowe zadania jednoroczne | C24: =C20+C23 -> 39 | D24: =D20+D23 -> 67612906 | E24: =E20+E23 -> 13522581 | F24: =F20+F23 -> 54090325 | G24: =G20+G23 -> 54090325 | H24: =D24=(E24+F24) -> TRUE | I24: =F24=SUM(G24:G24) -> TRUE
C25: =C18+C19=C20 -> TRUE | D25: =D18+D19=D20 -> TRUE | E25: =E18+E19=E20 -> TRUE | F25: =F18+F19=F20 -> TRUE | G25: =G18+G19=G20 -> TRUE
C26: =C21+C22=C23 -> TRUE | D26: =D21+D22=D23 -> TRUE | E26: =E21+E22=E23 -> TRUE | F26: =F21+F22=F23 -> TRUE | G26: =G21+G22=G23 -> TRUE
C27: =C20+C23=C24 -> TRUE | D27: =D20+D23=D24 -> TRUE | E27: =E20+E23=E24 -> TRUE | F27: =F20+F23=F24 -> TRUE | G27: =G20+G23=G24 -> TRUE

Sheet pow podst
A1: L.p. | B1: Nr ewid. | C1: Zadanie nowe [N] | D1: Jednostka Samorządu Terytorialnego | E1: TERC | F1: Nazwa zadania | G1: Rodzaj zadania | H1: Długość dróg realizowanych w ramach zadania | K1: Liczba realizowanych elementów infrastruktury | N1: Okres realizacji zadania | O1: Ogółem wartość projektu (w zł) | P1: Wnioskowana kwota dofinansowania (w zł) | Q1: Deklarowana kwota środków własnych (w zł) | R1: % dofinansowania | S1: Kwota dofinansowania w podziale na lata
H2: drogi dla pieszych (km) | I2: drogi dla pieszych i rowerów (km) | J2: drogi dla rowerów (km) | K2: przejścia dla pieszych | L2: przejazdy dla rowerów | M2: perony przystankowe wraz z dojściami do tych peronów | S2: 2023 | T2: spr-lata | U2: spr-procent | V2: spr-dof | W2: spr-montaż
A3: 1 | B3: 1311/23 | C3: N | D3: MIASTO SIEMIANOWICE ŚLĄSKIE | E3: 2474011 | F3: Poprawa bezpieczeństwa niechronionych uczestników ruchu w Siemianowicach Śląskich - drogi powiatowe | G3: R | H3: 1.035 | I3: 0.718 | J3: 1.164 | K3: 6 | L3: 2 | M3: 3 | N3: wrzesień 2023-sierpień 2024 | O3: 2125500 | P3: =ROUNDDOWN(O3*R3,2) -> 1700400 | Q3: =O3-P3 -> 425100 | R3: 0.8 | S3: =P3 -> 1700400 | T3: =P3=SUM(S3:S3) -> TRUE | U3: =ROUND(P3/O3,4) -> 0.8 | V3: =U3=R3 -> TRUE | W3: =O3=P3+Q3 -> TRUE
A4: 2 | B4: 1328/23 | C4: N | D4: MIASTO BIELSKO-BIAŁA | E4: 2461011 | F4: Poprawa bezpieczeństwa niechronionych uczestników ruchu na odcinku ul. Partyzantów w Bielsku-Białej | G4: B | H4: 0.897 | J4: 0.897 | K4: 5 | L4: 2 | M4: 3 | N4: wrzesień 2023-sierpień 2024 | O4: 5069960 | P4: =ROUNDDOWN(O4*R4,2) -> 4055968 | Q4: =O4-P4 -> 1013992 | R4: 0.8 | S4: =P4 -> 4055968 | T4: =P4=SUM(S4:S4) -> TRUE | U4: =ROUND(P4/O4,4) -> 0.8 | V4: =U4=R4 -> TRUE | W4: =O4=P4+Q4 -> TRUE
A5: 3 | B5: 1318/23 | C5: N | D5: POWIAT KŁOBUCKI | E5: 2406 | F5: Poprawa bezpieczeństwa niechronionych uczestników ruchu w miejscowościach Kalej i Szarlejka | G5: B | H5: 2.882 | K5: 6 | M5: 6 | N5: wrzesień 2023-sierpień 2024 | O5: 7738500 | P5: =ROUNDDOWN(O5*R5,2) -> 6190800 | Q5: =O5-P5 -> 1547700 | R5: 0.8 | S5: =P5 -> 6190800 | T5: =P5=SUM(S5:S5) -> TRUE | U5: =ROUND(P5/O5,4) -> 0.8 | V5: =U5=R5 -> TRUE | W5: =O5=P5+Q5 -> TRUE
A6: 4 | B6: 1319/23 | C6: N | D6: POWIAT MYSZKOWSKI | E6: 2409 | F6: Poprawa bezpieczeństwa niechronionych uczestników ruchu w powiecie myszkowskim | G6: B | I6: 2.83 | N6: wrzesień 2023-sierpień 2024 | O6: 11927298 | P6: =ROUNDDOWN(O6*R6,2) -> 9541838.4 | Q6: =O6-P6 -> 2385459.6 | R6: 0.8 | S6: =P6 -> 9541838.4 | T6: =P6=SUM(S6:S6) -> TRUE | U6: =ROUND(P6/O6,4) -> 0.8 | V6: =U6=R6 -> TRUE | W6: =O6=P6+Q6 -> TRUE
A7: 5 | B7: 1316/23 | C7: N | D7: POWIAT CZĘSTOCHOWSKI | E7: 2404 | F7: Poprawa bezpieczeństwa niechronionych uczestników ruchu w gminie Olsztyn w miejscowości Olsztyn-Biskupice | G7: B | J7: 1.918 | N7: listopad 2023-październik 2024 | O7: 2301000 | P7: =ROUNDDOWN(O7*R7,2) -> 1840800 | Q7: =O7-P7 -> 460200 | R7: 0.8 | S7: =P7 -> 1840800 | T7: =P7=SUM(S7:S7) -> TRUE | U7: =ROUND(P7/O7,4) -> 0.8 | V7: =U7=R7 -> TRUE | W7: =O7=P7+Q7 -> TRUE
A8: 6 | B8: 1315/23 | C8: N | D8: POWIAT MIKOŁOWSKI | E8: 2408 | F8: Poprawa bezpieczeństwa niechronionych uczestników ruchu w powiecie mikołowskim | G8: P | I8: 0.353 | K8: 6 | N8: wrzesień 2023-sierpień 2024 | O8: 1085830 | P8: =ROUNDDOWN(O8*R8,2) -> 868664 | Q8: =O8-P8 -> 217166 | R8: 0.8 | S8: =P8 -> 868664 | T8: =P8=SUM(S8:S8) -> TRUE | U8: =ROUND(P8/O8,4) -> 0.8 | V8: =U8=R8 -> TRUE | W8: =O8=P8+Q8 -> TRUE
A9: 7 | B9: 1307/23 | C9: N | D9: MIASTO CHORZÓW | E9: 2463011 | F9: Poprawa bezpieczeństwa niechronionych uczestników ruchu w Chorzowie | G9: P | K9: 6 | N9: wrzesień 2023-sierpień 2024 | O9: 830000 | P9: =ROUNDDOWN(O9*R9,2) -> 664000 | Q9: =O9-P9 -> 166000 | R9: 0.8 | S9: =P9 -> 664000 | T9: =P9=SUM(S9:S9) -> TRUE | U9: =ROUND(P9/O9,4) -> 0.8 | V9: =U9=R9 -> TRUE | W9: =O9=P9+Q9 -> TRUE
A10: 8 | B10: 1309/23 | C10: N | D10: POWIAT GLIWICKI | E10: 2405 | F10: Poprawa bezpieczeństwa niechronionych uczestników ruchu w Pyskowicach i w Paniówkach | G10: B | H10: 0.83 | N10: wrzesień 2023-maj 2024 | O10: 2054000 | P10: =ROUNDDOWN(O10*R10,2) -> 1643200 | Q10: =O10-P10 -> 410800 | R10: 0.8 | S10: =P10 -> 1643200 | T10: =P10=SUM(S10:S10) -> TRUE | U10: =ROUND(P10/O10,4) -> 0.8 | V10: =U10=R10 -> TRUE | W10: =O10=P10+Q10 -> TRUE
A11: 9 | B11: 1313/23 | C11: N | D11: POWIAT ŻYWIECKI | E11: 2417 | F11: Poprawa bezpieczeństwa niechronionych uczestników ruchu w Żywcu i Juszczynie | G11: B | K11: 2 | N11: sierpień 2023-grudzień 2023 | O11: 162066 | P11: =ROUNDDOWN(O11*R11,2) -> 129652.8 | Q11: =O11-P11 -> 32413.2 | R11: 0.8 | S11: =P11 -> 129652.8 | T11: =P11=SUM(S11:S11) -> TRUE | U11: =ROUND(P11/O11,4) -> 0.8 | V11: =U11=R11 -> TRUE | W11: =O11=P11+Q11 -> TRUE
A12: 10 | B12: 1335/23 | C12: N | D12: MIASTO BYTOM | E12: 2462011 | F12: Poprawa bezpieczeństwa niechronionych uczestników ruchu w gminie Bytom | G12: P | H12: 0.635 | K12: 3 | L12: 2 | N12: październik 2023-wrzesień 2024 | O12: 874038 | P12: =ROUNDDOWN(O12*R12,2) -> 699230.4 | Q12: =O12-P12 -> 174807.6 | R12: 0.8 | S12: =P12 -> 699230.4 | T12: =P12=SUM(S12:S12) -> TRUE | U12: =ROUND(P12/O12,4) -> 0.8 | V12: =U12=R12 -> TRUE | W12: =O12=P12+Q12 -> TRUE
A13: 11 | B13: 1317/23 | C13: N | D13: POWIAT TARNOGÓRSKI | E13: 2413 | F13: Poprawa bezpieczeństwa niechronionych uczestników ruchu w gminie Tarnowskie Góry oraz w gminie Ożarowice | G13: R | H13: 1.072 | N13: czerwiec 2023-maj 2024 | O13: 1032000 | P13: =ROUNDDOWN(O13*R13,2) -> 825600 | Q13: =O13-P13 -> 206400 | R13: 0.8 | S13: =P13 -> 825600 | T13: =P13=SUM(S13:S13) -> TRUE | U13: =ROUND(P13/O13,4) -> 0.8 | V13: =U13=R13 -> TRUE | W13: =O13=P13+Q13 -> TRUE
A14: 12 | B14: 1333/23 | C14: N | D14: POWIAT BIELSKI | E14: 2402 | F14: Poprawa bezpieczeństwa niechronionych uczestników ruchu w miejscowości Landek w gminie Jasienica i miejscowości Ligota w gminie Czechowice-Dziedzice | G14: B | H14: 0.692 | N14: maj 2023-kwiecień 2024 | O14: 1818214 | P14: =ROUNDDOWN(O14*R14,2) -> 1454571.2 | Q14: =O14-P14 -> 363642.8 | R14: 0.8 | S14: =P14 -> 1454571.2 | T14: =P14=SUM(S14:S14) -> TRUE | U14: =ROUND(P14/O14,4) -> 0.8 | V14: =U14=R14 -> TRUE | W14: =O14=P14+Q14 -> TRUE
A15: 13 | B15: 1339/23 | C15: N | D15: MIASTO SOSNOWIEC | E15: 2475011 | F15: Poprawa bezpieczeństwa niechronionych uczestników ruchu w Sosnowcu - ul. mjr. H. Dobrzańskiego - Hubala | G15: B | K15: 3 | M15: 2 | N15: czerwiec 2023-maj 2024 | O15: 1166480 | P15: =ROUNDDOWN(O15*R15,2) -> 933184 | Q15: =O15-P15 -> 233296 | R15: 0.8 | S15: =P15 -> 933184 | T15: =P15=SUM(S15:S15) -> TRUE | U15: =ROUND(P15/O15,4) -> 0.8 | V15: =U15=R15 -> TRUE | W15: =O15=P15+Q15 -> TRUE
A16: 14 | B16: 1303/23 | C16: N | D16: POWIAT PSZCZYŃSKI | E16: 2410 | F16: Poprawa bezpieczeństwa niechronionych uczestników ruchu w ciągu drogi powiatowej nr 4121S tj ul. Staromiejskiej i ul. Żorskiej w Pszczynie | G16: B | H16: 0.424 | N16: listopad 2023-październik 2024 | O16: 868662 | P16: =ROUNDDOWN(O16*R16,2) -> 694929.6 | Q16: =O16-P16 -> 173732.4 | R16: 0.8 | S16: =P16 -> 694929.6 | T16: =P16=SUM(S16:S16) -> TRUE | U16: =ROUND(P16/O16,4) -> 0.8 | V16: =U16=R16 -> TRUE | W16: =O16=P16+Q16 -> TRUE
A17: 15 | B17: 1320/23 | C17: N | D17: POWIAT RYBNICKI | E17: 2412 | F17: Poprawa bezpieczeństwa niechronionych uczestników ruchu w powiecie rybnickim | G17: B | K17: 4 | N17: sierpień 2023-czerwiec 2024 | O17: 204180 | P17: =ROUNDDOWN(O17*R17,2) -> 163344 | Q17: =O17-P17 -> 40836 | R17: 0.8 | S17: =P17 -> 163344 | T17: =P17=SUM(S17:S17) -> TRUE | U17: =ROUND(P17/O17,4) -> 0.8 | V17: =U17=R17 -> TRUE | W17: =O17=P17+Q17 -> TRUE
A18: 16 | B18: 1322/23 | C18: N | D18: MIASTO JASTRZĘBIE - ZDRÓJ | E18: 2467011 | F18: Poprawa bezpieczeństwa niechronionych uczestników ruchu w Jastrzębiu-Zdroju | G18: R | I18: 0.354 | M18: 1 | N18: czerwiec 2023-listopad 2023 | O18: 322218 | P18: =ROUNDDOWN(O18*R18,2) -> 257774.4 | Q18: =O18-P18 -> 64443.6 | R18: 0.8 | S18: =P18 -> 257774.4 | T18: =P18=SUM(S18:S18) -> TRUE | U18: =ROUND(P18/O18,4) -> 0.8 | V18: =U18=R18 -> TRUE | W18: =O18=P18+Q18 -> TRUE
A19: RAZEM nowe zadania jednoroczne | H19: =SUM(H3:H18) -> 8.467 | I19: =SUM(I3:I18) -> 4.255 | J19: =SUM(J3:J18) -> 3.979 | K19: =SUM(K3:K18) -> 41 | L19: =SUM(L3:L18) -> 6 | M19: =SUM(M3:M18) -> 15 | N19: x | O19: =SUM(O3:O18) -> 39579946 | P19: =SUM(P3:P18) -> 31663957 | Q19: =SUM(Q3:Q18) -> 7915989.2 | R19: x | S19: =SUM(S3:S18) -> 31663957 | T19: =P19=SUM(S19:S19) -> TRUE | U19: =ROUND(P19/O19,4) -> 0.8 | V19: x | W19: =O19=P19+Q19 -> TRUE
H20: =H19+I19+J19 -> 16.701 | K20: =K19+L19+M19 -> 62
A21: B - budowa (rozbudowa), P - przebudowa, R - remont
A22: * Kwota dofinansowania zmniejszona do limitu dostępnych środków Rządowego Funduszu Rozwoju Dróg; zwiększenie dofinansowania możliwe w przypadku wystąpienia oszczędności. W przypadku braku oszczędności w Funduszu, realizacja zadania będzie wymagała zabezpieczenia wkładu własnego wnioskodawcy w większej wysokości.
I24: =H19+I19+J19=H20 -> TRUE | L24: =K19+L19+M19=K20 -> TRUE

Sheet gm podst
A1: L.p. | B1: Nr ewid. | C1: Zadanie nowe [N] | D1: Jednostka Samorządu Terytorialnego | E1: TERC | F1: Powiat | G1: Nazwa zadania | H1: Rodzaj zadania | I1: Długość dróg realizowanych w ramach zadania | L1: Liczba realizowanych elementów infrastruktury | O1: Okres realizacji zadania | P1: Ogółem wartość projektu (w zł) | Q1: Wnioskowana kwota dofinansowania (w zł) | R1: Deklarowana kwota środków własnych (w zł) | S1: % dofinansowania | T1: Kwota dofinansowania w podziale na lata
I2: drogi dla pieszych (km) | J2: drogi dla pieszych i rowerów (km) | K2: drogi dla rowerów (km) | L2: przejścia dla pieszych | M2: przejazdy dla rowerów | N2: perony przystankowe wraz z dojściami do tych peronów | T2: 2023 | U2: spr-lata | V2: spr-procent | W2: spr-dof | X2: spr-montaż
A3: 1 | B3: 1331/23 | C3: N | D3: GMINA RACIBÓRZ | E3: 2411011 | F3: raciborski | G3: Poprawa bezpieczeństwa niechronionych uczestników ruchu w Raciborzu | H3: B | I3: 2.11 | J3: 1.661 | K3: 0.723 | L3: 6 | M3: 6 | N3: 6 | O3: wrzesień 2023-sierpień 2024 | P3: 8718323 | Q3: =ROUNDDOWN(P3*S3,2) -> 6974658.4 | R3: =P3-Q3 -> 1743664.6 | S3: 0.8 | T3: =Q3 -> 6974658.4 | U3: =Q3=SUM(T3:T3) -> TRUE | V3: =ROUND(Q3/P3,4) -> 0.8 | W3: =V3=S3 -> TRUE | X3: =P3=Q3+R3 -> TRUE
A4: 2 | B4: 1324/23 | C4: N | D4: GMINA MIEDŹNO | E4: 2406042 | F4: częstochowski | G4: Poprawa bezpieczeństwa niechronionych uczestników ruchu w gminie Miedźno | H4: B | I4: 2.118 | O4: listopad 2023-październik 2024 | P4: 1931003 | Q4: =ROUNDDOWN(P4*S4,2) -> 1544802.4 | R4: =P4-Q4 -> 386200.6 | S4: 0.8 | T4: =Q4 -> 1544802.4 | U4: =Q4=SUM(T4:T4) -> TRUE | V4: =ROUND(Q4/P4,4) -> 0.8 | W4: =V4=S4 -> TRUE | X4: =P4=Q4+R4 -> TRUE
A5: 3 | B5: 1340/23 | C5: N | D5: MIASTO SOSNOWIEC | E5: 2475011 | F5: Sosnowiec | G5: Poprawa bezpieczeństwa niechronionych uczestników ruchu w Sosnowcu - drogi gminne | H5: B | I5: 0.52 | K5: 0.52 | L5: 4 | M5: 2 | O5: czerwiec 2023-maj 2024 | P5: 1786044 | Q5: =ROUNDDOWN(P5*S5,2) -> 1428835.2 | R5: =P5-Q5 -> 357208.8 | S5: 0.8 | T5: =Q5 -> 1428835.2 | U5: =Q5=SUM(T5:T5) -> TRUE | V5: =ROUND(Q5/P5,4) -> 0.8 | W5: =V5=S5 -> TRUE | X5: =P5=Q5+R5 -> TRUE
A6: 4 | B6: 1308/23 | C6: N | D6: GMINA SIEWIERZ | E6: 2401073 | F6: będziński | G6: Poprawa bezpieczeństwa niechronionych uczestników ruchu w gminie Siewierz | H6: P | I6: 0.557 | J6: 0.274 | O6: lipiec 2023-czerwiec 2024 | P6: 1228544 | Q6: =ROUNDDOWN(P6*S6,2) -> 982835.2 | R6: =P6-Q6 -> 245708.8 | S6: 0.8 | T6: =Q6 -> 982835.2 | U6: =Q6=SUM(T6:T6) -> TRUE | V6: =ROUND(Q6/P6,4) -> 0.8 | W6: =V6=S6 -> TRUE | X6: =P6=Q6+R6 -> TRUE
A7: 5 | B7: 1312/23 | C7: N | D7: GMINA DĘBOWIEC | E7: 2403062 | F7: cieszyński | G7: Poprawa bezpieczeństwa niechronionych uczestników ruchu w gminie Dębowiec | H7: B | I7: 0.935 | L7: 2 | O7: grudzień 2023-listopad 2024 | P7: 946000 | Q7: =ROUNDDOWN(P7*S7,2) -> 756800 | R7: =P7-Q7 -> 189200 | S7: 0.8 | T7: =Q7 -> 756800 | U7: =Q7=SUM(T7:T7) -> TRUE | V7: =ROUND(Q7/P7,4) -> 0.8 | W7: =V7=S7 -> TRUE | X7: =P7=Q7+R7 -> TRUE
A8: 6 | B8: 1330/23 | C8: N | D8: GMINA KŁOBUCK | E8: 2406013 | F8: kłobucki | G8: Poprawa bezpieczeństwa niechronionych uczestników ruchu w Kłobucku | H8: B | I8: 1.15 | L8: 3 | O8: listopad 2023-październik 2024 | P8: 2000000 | Q8: =ROUNDDOWN(P8*S8,2) -> 1600000 | R8: =P8-Q8 -> 400000 | S8: 0.8 | T8: =Q8 -> 1600000 | U8: =Q8=SUM(T8:T8) -> TRUE | V8: =ROUND(Q8/P8,4) -> 0.8 | W8: =V8=S8 -> TRUE | X8: =P8=Q8+R8 -> TRUE
A9: 7 | B9: 1306/23 | C9: N | D9: GMINA WRĘCZYCA WIELKA | E9: 2406092 | F9: kłobucki | G9: Poprawa bezpieczeństwa niechronionych uczestników ruchu w miejscowości Wręczyca Mała | H9: B | I9: 0.805 | O9: sierpień 2023-lipiec 2024 | P9: 1209500 | Q9: =ROUNDDOWN(P9*S9,2) -> 967600 | R9: =P9-Q9 -> 241900 | S9: 0.8 | T9: =Q9 -> 967600 | U9: =Q9=SUM(T9:T9) -> TRUE | V9: =ROUND(Q9/P9,4) -> 0.8 | W9: =V9=S9 -> TRUE | X9: =P9=Q9+R9 -> TRUE
A10: 8 | B10: 1314/23 | C10: N | D10: GMINA PANKI | E10: 2406062 | F10: kłobucki | G10: Poprawa bezpieczeństwa niechronionych uczestników ruchu w gminie Panki | H10: B | I10: 0.54 | O10: sierpień 2023-październik 2023 | P10: 452000 | Q10: =ROUNDDOWN(P10*S10,2) -> 361600 | R10: =P10-Q10 -> 90400 | S10: 0.8 | T10: =Q10 -> 361600 | U10: =Q10=SUM(T10:T10) -> TRUE | V10: =ROUND(Q10/P10,4) -> 0.8 | W10: =V10=S10 -> TRUE | X10: =P10=Q10+R10 -> TRUE
A11: 9 | B11: 1310/23 | C11: N | D11: MIASTO SIEMIANOWICE ŚLĄSKIE | E11: 2474011 | F11: Siemianowice Śląskie | G11: Poprawa bezpieczeństwa niechronionych uczestników ruchu w Siemianowicach Śląskich - drogi gminne | H11: P | I11: 0.33 | J11: 0.49 | L11: 2 | O11: wrzesień 2023-sierpień 2024 | P11: 862500 | Q11: =ROUNDDOWN(P11*S11,2) -> 690000 | R11: =P11-Q11 -> 172500 | S11: 0.8 | T11: =Q11 -> 690000 | U11: =Q11=SUM(T11:T11) -> TRUE | V11: =ROUND(Q11/P11,4) -> 0.8 | W11: =V11=S11 -> TRUE | X11: =P11=Q11+R11 -> TRUE
A12: 10 | B12: 1327/23 | C12: N | D12: MIASTO BIELSKO-BIAŁA | E12: 2461011 | F12: Bielsko-Biała | G12: Poprawa bezpieczeństwa niechronionych uczestników ruchu na drogach gminnych w Bielsku-Białej | H12: B | I12: 0.322 | L12: 6 | O12: wrzesień 2023-sierpień 2024 | P12: 1270040 | Q12: =ROUNDDOWN(P12*S12,2) -> 1016032 | R12: =P12-Q12 -> 254008 | S12: 0.8 | T12: =Q12 -> 1016032 | U12: =Q12=SUM(T12:T12) -> TRUE | V12: =ROUND(Q12/P12,4) -> 0.8 | W12: =V12=S12 -> TRUE | X12: =P12=Q12+R12 -> TRUE
A13: 11 | B13: 1305/23 | C13: N | D13: GMINA PYSKOWICE | E13: 2405021 | F13: gliwicki | G13: Poprawa bezpieczeństwa niechronionych uczestników ruchu w Pyskowicach | H13: B | I13: 0.515 | O13: wrzesień 2023-sierpień 2024 | P13: 468973 | Q13: =ROUNDDOWN(P13*S13,2) -> 375178.4 | R13: =P13-Q13 -> 93794.6 | S13: 0.8 | T13: =Q13 -> 375178.4 | U13: =Q13=SUM(T13:T13) -> TRUE | V13: =ROUND(Q13/P13,4) -> 0.8 | W13: =V13=S13 -> TRUE | X13: =P13=Q13+R13 -> TRUE
A14: 12 | B14: 1332/23 | C14: N | D14: GMINA KOZY | E14: 2402072 | F14: bielski | G14: Poprawa bezpieczeństwa niechronionych uczestników ruchu w gminie Kozy | H14: B | L14: 4 | O14: wrzesień 2023-sierpień 2024 | P14: 152680 | Q14: =ROUNDDOWN(P14*S14,2) -> 122144 | R14: =P14-Q14 -> 30536 | S14: 0.8 | T14: =Q14 -> 122144 | U14: =Q14=SUM(T14:T14) -> TRUE | V14: =ROUND(Q14/P14,4) -> 0.8 | W14: =V14=S14 -> TRUE | X14: =P14=Q14+R14 -> TRUE
A15: 13 | B15: 1337/23 | C15: N | D15: GMINA CIASNA | E15: 2407032 | F15: lubliniecki | G15: Poprawa bezpieczeństwa niechronionych uczestników ruchu w miejscowości Sieraków Śląski w Gminie Ciasna | H15: B | J15: 0.304 | L15: 1 | N15: 2 | O15: czerwiec 2023-maj 2024 | P15: 472179 | Q15: =ROUNDDOWN(P15*S15,2) -> 377743.2 | R15: =P15-Q15 -> 94435.8 | S15: 0.8 | T15: =Q15 -> 377743.2 | U15: =Q15=SUM(T15:T15) -> TRUE | V15: =ROUND(Q15/P15,4) -> 0.8 | W15: =V15=S15 -> TRUE | X15: =P15=Q15+R15 -> TRUE
A16: 14 | B16: 1329/23 | C16: N | D16: GMINA BIERUŃ | E16: 2414011 | F16: bieruńsko-lędziński | G16: Poprawa bezpieczeństwa niechronionych uczestników ruchu w gminie Bieruń | H16: P | L16: 2 | M16: 1 | O16: styczeń 2023-grudzień 2023 | P16: 90500 | Q16: =ROUNDDOWN(P16*S16,2) -> 72400 | R16: =P16-Q16 -> 18100 | S16: 0.8 | T16: =Q16 -> 72400 | U16: =Q16=SUM(T16:T16) -> TRUE | V16: =ROUND(Q16/P16,4) -> 0.8 | W16: =V16=S16 -> TRUE | X16: =P16=Q16+R16 -> TRUE
A17: 15 | B17: 1336/23 | C17: N | D17: MIASTO BYTOM | E17: 2462011 | F17: Bytom | G17: Poprawa bezpieczeństwa niechronionych uczestników ruchu w gminie Bytom | H17: P | I17: 0.53 | L17: 4 | O17: październik 2023-wrzesień 2024 | P17: 821515 | Q17: =ROUNDDOWN(P17*S17,2) -> 657212 | R17: =P17-Q17 -> 164303 | S17: 0.8 | T17: =Q17 -> 657212 | U17: =Q17=SUM(T17:T17) -> TRUE | V17: =ROUND(Q17/P17,4) -> 0.8 | W17: =V17=S17 -> TRUE | X17: =P17=Q17+R17 -> TRUE
A18: 16 | B18: 1302/23 | C18: N | D18: GMINA IMIELIN | E18: 2414021 | F18: bieruńsko-lędziński | G18: Poprawa bezpieczeństwa niechronionych uczestników ruchu w Imielinie | H18: B | I18: 0.67 | O18: kwiecień 2023-listopad 2023 | P18: 1055446 | Q18: =ROUNDDOWN(P18*S18,2) -> 844356.8 | R18: =P18-Q18 -> 211089.2 | S18: 0.8 | T18: =Q18 -> 844356.8 | U18: =Q18=SUM(T18:T18) -> TRUE | V18: =ROUND(Q18/P18,4) -> 0.8 | W18: =V18=S18 -> TRUE | X18: =P18=Q18+R18 -> TRUE
A19: 17 | B19: 1321/23 | C19: N | D19: MIASTO JASTRZĘBIE - ZDRÓJ | E19: 2467011 | F19: Jastrzębie-Zdrój | G19: Poprawa bezpieczeństwa niechronionych uczestników ruchu w Jastrzębiu-Zdroju | H19: B | J19: 0.215 | L19: 2 | M19: 1 | O19: czerwiec 2023-listopad 2023 | P19: 241782 | Q19: =ROUNDDOWN(P19*S19,2) -> 193425.6 | R19: =P19-Q19 -> 48356.4 | S19: 0.8 | T19: =Q19 -> 193425.6 | U19: =Q19=SUM(T19:T19) -> TRUE | V19: =ROUND(Q19/P19,4) -> 0.8 | W19: =V19=S19 -> TRUE | X19: =P19=Q19+R19 -> TRUE
A20: 18 | B20: 1325/23 | C20: N | D20: GMINA MYSZKÓW | E20: 2409011 | F20: myszkowski | G20: Poprawa bezpieczeństwa niechronionych uczestników ruchu w Myszkowie | H20: P | J20: 0.42 | O20: lipiec 2023-czerwiec 2024 | P20: 435309 | Q20: =ROUNDDOWN(P20*S20,2) -> 348247.2 | R20: =P20-Q20 -> 87061.8 | S20: 0.8 | T20: =Q20 -> 348247.2 | U20: =Q20=SUM(T20:T20) -> TRUE | V20: =ROUND(Q20/P20,4) -> 0.8 | W20: =V20=S20 -> TRUE | X20: =P20=Q20+R20 -> TRUE
A21: 19 | B21: 1326/23 | C21: N | D21: GMINA PSZCZYNA | E21: 2410053 | F21: pszczyński | G21: Poprawa bezpieczeństwa niechronionych uczestników ruchu w miejscowości Pszczyna | H21: B | J21: 0.561 | O21: październik 2023-wrzesień 2024 | P21: 1932497 | Q21: =ROUNDDOWN(P21*S21,2) -> 1545997.6 | R21: =P21-Q21 -> 386499.4 | S21: 0.8 | T21: =Q21 -> 1545997.6 | U21: =Q21=SUM(T21:T21) -> TRUE | V21: =ROUND(Q21/P21,4) -> 0.8 | W21: =V21=S21 -> TRUE | X21: =P21=Q21+R21 -> TRUE
A22: 20 | B22: 1323/23 | C22: N | D22: GMINA GOLESZÓW | E22: 2403072 | F22: cieszyński | G22: Poprawa bezpieczeństwa niechronionych uczestników ruchu w Goleszowie | H22: P | I22: 0.202 | O22: wrzesień 2023-sierpień 2024 | P22: 220500 | Q22: =ROUNDDOWN(P22*S22,2) -> 176400 | R22: =P22-Q22 -> 44100 | S22: 0.8 | T22: =Q22 -> 176400 | U22: =Q22=SUM(T22:T22) -> TRUE | V22: =ROUND(Q22/P22,4) -> 0.8 | W22: =V22=S22 -> TRUE | X22: =P22=Q22+R22 -> TRUE
A23: 21 | B23: 1334/23 | C23: N | D23: GMINA MIKOŁÓW | E23: 2408021 | F23: mikołowski | G23: Poprawa bezpieczeństwa niechronionych uczestników ruchu w Mikołowie | H23: B | L23: 6 | O23: listopad 2023-październik 2024 | P23: 330000 | Q23: =ROUNDDOWN(P23*S23,2) -> 264000 | R23: =P23-Q23 -> 66000 | S23: 0.8 | T23: =Q23 -> 264000 | U23: =Q23=SUM(T23:T23) -> TRUE | V23: =ROUND(Q23/P23,4) -> 0.8 | W23: =V23=S23 -> TRUE | X23: =P23=Q23+R23 -> TRUE
A24: 22 | B24: 1304/23 | C24: N | D24: GMINA WODZISŁAW ŚLĄSKI | E24: 2415041 | F24: wodzisławski | G24: Poprawa bezpieczeństwa niechronionych uczestników ruchu w Wodzisławiu Śląskim | H24: R | I24: 0.663 | O24: październik 2023-wrzesień 2024 | P24: 755625 | Q24: =ROUNDDOWN(P24*S24,2) -> 604500 | R24: =P24-Q24 -> 151125 | S24: 0.8 | T24: =Q24 -> 604500 | U24: =Q24=SUM(T24:T24) -> TRUE | V24: =ROUND(Q24/P24,4) -> 0.8 | W24: =V24=S24 -> TRUE | X24: =P24=Q24+R24 -> TRUE
A25: 23 | B25: 1301/23 | C25: N | D25: GMINA CZERWIONKA-LESZCZYNY | E25: 2412013 | F25: rybnicki | G25: Poprawa bezpieczeństwa niechronionych uczestników ruchu w gminie i mieście Czerwionka-Leszczyny (dzielnica Czerwionka) | H25: R | I25: 0.767 | O25: sierpień 2023-lipiec 2024 | P25: 652000 | Q25: =ROUNDDOWN(P25*S25,2) -> 521600 | R25: =P25-Q25 -> 130400 | S25: 0.8 | T25: =Q25 -> 521600 | U25: =Q25=SUM(T25:T25) -> TRUE | V25: =ROUND(Q25/P25,4) -> 0.8 | W25: =V25=S25 -> TRUE | X25: =P25=Q25+R25 -> TRUE
A26: RAZEM nowe zadania jednoroczne | I26: =SUM(I3:I25) -> 12.734 | J26: =SUM(J3:J25) -> 3.925 | K26: =SUM(K3:K25) -> 1.243 | L26: =SUM(L3:L25) -> 42 | M26: =SUM(M3:M25) -> 10 | N26: =SUM(N3:N25) -> 8 | O26: x | P26: =SUM(P3:P25) -> 28032960 | Q26: =SUM(Q3:Q25) -> 22426368 | R26: =SUM(R3:R25) -> 5606592 | S26: x | T26: =SUM(T3:T25) -> 22426368 | U26: =Q26=SUM(T26:T26) -> TRUE | V26: =ROUND(Q26/P26,4) -> 0.8 | W26: x | X26: =P26=Q26+R26 -> TRUE
I27: =I26+J26+K26 -> 17.902 | L27: =L26+M26+N26 -> 60
A28: B - budowa (rozbudowa), P - przebudowa, R - remont
A29: * Kwota dofinansowania zmniejszona do limitu dostępnych środków Rządowego Funduszu Rozwoju Dróg; zwiększenie dofinansowania możliwe w przypadku wystąpienia oszczędności. W przypadku braku oszczędności w Funduszu, realizacja zadania będzie wymagała zabezpieczenia wkładu własnego wnioskodawcy w większej wysokości.
J31: =I26+J26+K26=I27 -> TRUE | M31: =L26+M26+N26=L27 -> TRUE

Sheet pow rez
A1: L.p. | B1: Nr ewid. | C1: Zadanie nowe [N] | D1: Jednostka Samorządu Terytorialnego | E1: TERC | F1: Nazwa zadania | G1: Rodzaj zadania | H1: Długość dróg realizowanych w ramach zadania | K1: Liczba realizowanych elementów infrastruktury | N1: Okres realizacji zadania | O1: Ogółem wartość projektu (w zł) | P1: Wnioskowana kwota dofinansowania (w zł) | Q1: Deklarowana kwota środków własnych (w zł) | R1: % dofinansowania | S1: Kwota dofinansowania w podziale na lata
H2: drogi dla pieszych (km) | I2: drogi dla pieszych i rowerów (km) | J2: drogi dla rowerów (km) | K2: przejścia dla pieszych | L2: przejazdy dla rowerów | M2: perony przystankowe wraz z dojściami do tych peronów | S2: 2023 | T2: spr-lata | U2: spr-procent | V2: spr-dof | W2: spr-montaż
T3: =P3=SUM(S3:S3) -> TRUE | U3: =ROUND(P3/O3,4) -> #DIV/0! | V3: =U3=R3 -> #DIV/0! | W3: =O3=P3+Q3 -> TRUE
T4: =P4=SUM(S4:S4) -> TRUE | U4: =ROUND(P4/O4,4) -> #DIV/0! | V4: =U4=R4 -> #DIV/0! | W4: =O4=P4+Q4 -> TRUE
T5: =P5=SUM(S5:S5) -> TRUE | U5: =ROUND(P5/O5,4) -> #DIV/0! | V5: =U5=R5 -> #DIV/0! | W5: =O5=P5+Q5 -> TRUE
T6: =P6=SUM(S6:S6) -> TRUE | U6: =ROUND(P6/O6,4) -> #DIV/0! | V6: =U6=R6 -> #DIV/0! | W6: =O6=P6+Q6 -> TRUE
T7: =P7=SUM(S7:S7) -> TRUE | U7: =ROUND(P7/O7,4) -> #DIV/0! | V7: =U7=R7 -> #DIV/0! | W7: =O7=P7+Q7 -> TRUE
T8: =P8=SUM(S8:S8) -> TRUE | U8: =ROUND(P8/O8,4) -> #DIV/0! | V8: =U8=R8 -> #DIV/0! | W8: =O8=P8+Q8 -> TRUE
T9: =P9=SUM(S9:S9) -> TRUE | U9: =ROUND(P9/O9,4) -> #DIV/0! | V9: =U9=R9 -> #DIV/0! | W9: =O9=P9+Q9 -> TRUE
T10: =P10=SUM(S10:S10) -> TRUE | U10: =ROUND(P10/O10,4) -> #DIV/0! | V10: =U10=R10 -> #DIV/0! | W10: =O10=P10+Q10 -> TRUE
T11: =P11=SUM(S11:S11) -> TRUE | U11: =ROUND(P11/O11,4) -> #DIV/0! | V11: =U11=R11 -> #DIV/0! | W11: =O11=P11+Q11 -> TRUE
T12: =P12=SUM(S12:S12) -> TRUE | U12: =ROUND(P12/O12,4) -> #DIV/0! | V12: =U12=R12 -> #DIV/0! | W12: =O12=P12+Q12 -> TRUE
T13: =P13=SUM(S13:S13) -> TRUE | U13: =ROUND(P13/O13,4) -> #DIV/0! | V13: =U13=R13 -> #DIV/0! | W13: =O13=P13+Q13 -> TRUE
T14: =P14=SUM(S14:S14) -> TRUE | U14: =ROUND(P14/O14,4) -> #DIV/0! | V14: =U14=R14 -> #DIV/0! | W14: =O14=P14+Q14 -> TRUE
... T19: =P19=SUM(S19:S19) -> TRUE | U19: =ROUND(P19/O19,4) -> #DIV/0! | V19: =U19=R19 -> #DIV/0! | W19: =O19=P19+Q19 -> TRUE
A20: RAZEM nowe zadania jednoroczne | H20: =SUM(H3:H19) -> 0 | I20: =SUM(I3:I19) -> 0 | J20: =SUM(J3:J19) -> 0 | K20: =SUM(K3:K19) -> 0 | L20: =SUM(L3:L19) -> 0 | M20: =SUM(M3:M19) -> 0 | N20: x | O20: =SUM(O3:O19) -> 0 | P20: =SUM(P3:P19) -> 0 | Q20: =SUM(Q3:Q19) -> 0 | R20: x | S20: =SUM(S3:S19) -> 0 | T20: =P20=SUM(S20:S20) -> TRUE | U20: =ROUND(P20/O20,4) -> #DIV/0! | V20: x | W20: =O20=P20+Q20 -> TRUE
H21: =H20+I20+J20 -> 0 | K21: =K20+L20+M20 -> 0
A22: B - budowa (rozbudowa), P - przebudowa, R - remont
I25: =H20+I20+J20=H21 -> TRUE | L25: =K20+L20+M20=K21 -> TRUE

Sheet gm rez
A1: L.p. | B1: Nr ewid. | C1: Zadanie nowe [N] | D1: Jednostka Samorządu Terytorialnego | E1: TERC | F1: Powiat | G1: Nazwa zadania | H1: Rodzaj zadania | I1: Długość dróg realizowanych w ramach zadania | L1: Liczba realizowanych elementów infrastruktury | O1: Okres realizacji zadania | P1: Ogółem wartość projektu (w zł) | Q1: Wnioskowana kwota dofinansowania (w zł) | R1: Deklarowana kwota środków własnych (w zł) | S1: % dofinansowania | T1: Kwota dofinansowania w podziale na lata
I2: drogi dla pieszych (km) | J2: drogi dla pieszych i rowerów (km) | K2: drogi dla rowerów (km) | L2: przejścia dla pieszych | M2: przejazdy dla rowerów | N2: perony przystankowe wraz z dojściami do tych peronów | T2: 2023 | U2: spr-lata | V2: spr-procent | W2: spr-dof | X2: spr-montaż
U3: =Q3=SUM(T3:T3) -> TRUE | V3: =ROUND(Q3/P3,4) -> #DIV/0! | W3: =V3=S3 -> #DIV/0! | X3: =P3=Q3+R3 -> TRUE
U4: =Q4=SUM(T4:T4) -> TRUE | V4: =ROUND(Q4/P4,4) -> #DIV/0! | W4: =V4=S4 -> #DIV/0! | X4: =P4=Q4+R4 -> TRUE
U5: =Q5=SUM(T5:T5) -> TRUE | V5: =ROUND(Q5/P5,4) -> #DIV/0! | W5: =V5=S5 -> #DIV/0! | X5: =P5=Q5+R5 -> TRUE
U6: =Q6=SUM(T6:T6) -> TRUE | V6: =ROUND(Q6/P6,4) -> #DIV/0! | W6: =V6=S6 -> #DIV/0! | X6: =P6=Q6+R6 -> TRUE
U7: =Q7=SUM(T7:T7) -> TRUE | V7: =ROUND(Q7/P7,4) -> #DIV/0! | W7: =V7=S7 -> #DIV/0! | X7: =P7=Q7+R7 -> TRUE
U8: =Q8=SUM(T8:T8) -> TRUE | V8: =ROUND(Q8/P8,4) -> #DIV/0! | W8: =V8=S8 -> #DIV/0! | X8: =P8=Q8+R8 -> TRUE
U9: =Q9=SUM(T9:T9) -> TRUE | V9: =ROUND(Q9/P9,4) -> #DIV/0! | W9: =V9=S9 -> #DIV/0! | X9: =P9=Q9+R9 -> TRUE
U10: =Q10=SUM(T10:T10) -> TRUE | V10: =ROUND(Q10/P10,4) -> #DIV/0! | W10: =V10=S10 -> #DIV/0! | X10: =P10=Q10+R10 -> TRUE
U11: =Q11=SUM(T11:T11) -> TRUE | V11: =ROUND(Q11/P11,4) -> #DIV/0! | W11: =V11=S11 -> #DIV/0! | X11: =P11=Q11+R11 -> TRUE
U12: =Q12=SUM(T12:T12) -> TRUE | V12: =ROUND(Q12/P12,4) -> #DIV/0! | W12: =V12=S12 -> #DIV/0! | X12: =P12=Q12+R12 -> TRUE
U13: =Q13=SUM(T13:T13) -> TRUE | V13: =ROUND(Q13/P13,4) -> #DIV/0! | W13: =V13=S13 -> #DIV/0! | X13: =P13=Q13+R13 -> TRUE
U14: =Q14=SUM(T14:T14) -> TRUE | V14: =ROUND(Q14/P14,4) -> #DIV/0! | W14: =V14=S14 -> #DIV/0! | X14: =P14=Q14+R14 -> TRUE
... U19: =Q19=SUM(T19:T19) -> TRUE | V19: =ROUND(Q19/P19,4) -> #DIV/0! | W19: =V19=S19 -> #DIV/0! | X19: =P19=Q19+R19 -> TRUE
A20: RAZEM nowe zadania jednoroczne | I20: =SUM(I3:I19) -> 0 | J20: =SUM(J3:J19) -> 0 | K20: =SUM(K3:K19) -> 0 | L20: =SUM(L3:L19) -> 0 | M20: =SUM(M3:M19) -> 0 | N20: =SUM(N3:N19) -> 0 | O20: x | P20: =SUM(P3:P19) -> 0 | Q20: =SUM(Q3:Q19) -> 0 | R20: =SUM(R3:R19) -> 0 | S20: x | T20: =SUM(T3:T19) -> 0 | U20: =Q20=SUM(T20:T20) -> TRUE | V20: =ROUND(Q20/P20,4) -> #DIV/0! | W20: x | X20: =P20=Q20+R20 -> TRUE
I21: =I20+J20+K20 -> 0 | L21: =L20+M20+N20 -> 0
A22: B - budowa (rozbudowa), P - przebudowa, R - remont
J25: =I20+J20+K20=I21 -> TRUE | M25: =L20+M20+N20=L21 -> TRUE
