Workbook

Sheet TERC - "nazwa woj"
A1: Lista zmieniona nr 8 zadań powiatowych i zadań gminnych rekomendowanych do dofinansowania w ramach Rządowego Funduszu Rozwoju Dróg
F2: ZATWIERDZAM Dorota Wójtowicz z up. WOJEWODY ŚLĄSKIEGO -podpisano elektronicznym podpisem kwalifikowanym- Katowice, 19 lipca 2024 r.
A4: Dofinansowanie przyznane w naborze: 2024
A6: Województwo: śląskie
A14: Podsumowanie naboru:
A15: Kategoria drogi - rodzaj listy | B15: Liczba zadań | C15: Wartość zadań ogółem | D15: Deklarowana kwota środków własnych | E15: Kwota dofinansowania ogółem | J15: Kwota dofinansowania w podziale na lata
F16: 2019 | G16: 2020 | H16: 2021 | I16: 2022 | J16: 2023 | K16: 2024 | L16: 2025 | M16: 2026 | N16: 2027 | O16: 2028 | P16: 2029 | Q16: 2030
A17: powiatowe - lista podstawowa, z tego: | B17: =COUNTA('pow podst'!K3:K41) -> 34 | C17: =SUM('pow podst'!J3:J41) -> 3.9707375e+08 | D17: =SUM('pow podst'!L3:L41) -> 1.9159557e+08 | E17: =SUM('pow podst'!K3:K41) -> 2.0547819e+08 | F17: =SUM('pow podst'!N3:N41) -> 0 | G17: =SUM('pow podst'!O3:O41) -> 0 | H17: =SUM('pow podst'!P3:P41) -> 0 | I17: =SUM('pow podst'!Q3:Q41) -> 8835060.6 | J17: =SUM('pow podst'!R3:R41) -> 30143169 | K17: =SUM('pow podst'!S3:S41) -> 1.0001281e+08 | L17: =SUM('pow podst'!T3:T41) -> 30210699 | M17: =SUM('pow podst'!U3:U41) -> 31721480 | ... Q17: =SUM('pow podst'!Y3:Y41) -> 0 | R17: =C17=(D17+E17) -> TRUE | S17: =E17=SUM(F17:Q17) -> TRUE
A18: kontynuowane zadania wieloletnie | B18: =COUNTIF('pow podst'!C3:C41,"K") -> 10 | C18: =SUMIF('pow podst'!C3:C41,"K",'pow podst'!J3:J41) -> 1.5597239e+08 | D18: =SUMIF('pow podst'!C3:C41,"K",'pow podst'!L3:L41) -> 77359732 | E18: =SUMIF('pow podst'!C3:C41,"K",'pow podst'!K3:K41) -> 78612657 | F18: =SUMIF('pow podst'!C3:C41,"K",'pow podst'!N3:N41) -> 0 | G18: =SUMIF('pow podst'!C3:C41,"K",'pow podst'!O3:O41) -> 0 | H18: =SUMIF('pow podst'!C3:C41,"K",'pow podst'!P3:P41) -> 0 | I18: =SUMIF('pow podst'!C3:C41,"K",'pow podst'!Q3:Q41) -> 8835060.6 | J18: =SUMIF('pow podst'!C3:C41,"K",'pow podst'!R3:R41) -> 30143169 | K18: =SUMIF('pow podst'!C3:C41,"K",'pow podst'!S3:S41) -> 33604518 | L18: =SUMIF('pow podst'!C3:C41,"K",'pow podst'!T3:T41) -> 6029909 | M18: =SUMIF('pow podst'!C3:C41,"K",'pow podst'!U3:U41) -> 0 | N18: =SUMIF('pow podst'!C3:C41,"K",'pow podst'!V3:V41) -> 0 | O18: =SUMIF('pow podst'!C3:C41,"K",'pow podst'!W3:W41) -> 0 | P18: =SUMIF('pow podst'!D3:D41,"K",'pow podst'!X3:X41) -> 0 | Q18: =SUMIF('pow podst'!E3:E41,"K",'pow podst'!Y3:Y41) -> 0 | R18: =C18=(D18+E18) -> TRUE | S18: =E18=SUM(F18:Q18) -> TRUE
A19: nowe zadania jednoroczne | B19: =COUNTIF('pow podst'!C3:C41,"N") -> 14 | C19: =SUMIF('pow podst'!C3:C41,"N",'pow podst'!J3:J41) -> 66099625 | D19: =SUMIF('pow podst'!C3:C41,"N",'pow podst'!L3:L41) -> 26093466 | E19: =SUMIF('pow podst'!C3:C41,"N",'pow podst'!K3:K41) -> 40006158 | F19: =SUMIF('pow podst'!C3:C41,"N",'pow podst'!N3:N41) -> 0 | G19: =SUMIF('pow podst'!C3:C41,"N",'pow podst'!O3:O41) -> 0 | H19: =SUMIF('pow podst'!C3:C41,"N",'pow podst'!P3:P41) -> 0 | I19: =SUMIF('pow podst'!C3:C41,"N",'pow podst'!Q3:Q41) -> 0 | J19: =SUMIF('pow podst'!C3:C41,"N",'pow podst'!R3:R41) -> 0 | K19: =SUMIF('pow podst'!C3:C41,"N",'pow podst'!S3:S41) -> 40006158 | L19: =SUMIF('pow podst'!C3:C41,"N",'pow podst'!T3:T41) -> 0 | M19: =SUMIF('pow podst'!C3:C41,"N",'pow podst'!U3:U41) -> 0 | N19: =SUMIF('pow podst'!C3:C41,"N",'pow podst'!V3:V41) -> 0 | O19: =SUMIF('pow podst'!C3:C41,"N",'pow podst'!W3:W41) -> 0 | P19: =SUMIF('pow podst'!D3:D41,"N",'pow podst'!X3:X41) -> 0 | Q19: =SUMIF('pow podst'!E3:E41,"N",'pow podst'!Y3:Y41) -> 0 | R19: =C19=(D19+E19) -> TRUE | S19: =E19=SUM(F19:Q19) -> TRUE
A20: nowe zadania wieloletnie | B20: =COUNTIF('pow podst'!C3:C41,"W") -> 10 | C20: =SUMIF('pow podst'!C3:C41,"W",'pow podst'!J3:J41) -> 1.7500174e+08 | D20: =SUMIF('pow podst'!C3:C41,"W",'pow podst'!L3:L41) -> 88142370 | E20: =SUMIF('pow podst'!C3:C41,"W",'pow podst'!K3:K41) -> 86859370 | F20: =SUMIF('pow podst'!C3:C41,"W",'pow podst'!N3:N41) -> 0 | G20: =SUMIF('pow podst'!C3:C41,"W",'pow podst'!O3:O41) -> 0 | H20: =SUMIF('pow podst'!C3:C41,"W",'pow podst'!P3:P41) -> 0 | I20: =SUMIF('pow podst'!C3:C41,"W",'pow podst'!Q3:Q41) -> 0 | J20: =SUMIF('pow podst'!C3:C41,"W",'pow podst'!R3:R41) -> 0 | K20: =SUMIF('pow podst'!C3:C41,"W",'pow podst'!S3:S41) -> 26402130 | L20: =SUMIF('pow podst'!C3:C41,"W",'pow podst'!T3:T41) -> 24180790 | M20: =SUMIF('pow podst'!C3:C41,"W",'pow podst'!U3:U41) -> 31721480 | N20: =SUMIF('pow podst'!C3:C41,"W",'pow podst'!V3:V41) -> 4554970 | O20: =SUMIF('pow podst'!C3:C41,"W",'pow podst'!W3:W41) -> 0 | P20: =SUMIF('pow podst'!D3:D41,"W",'pow podst'!X3:X41) -> 0 | Q20: =SUMIF('pow podst'!E3:E41,"W",'pow podst'!Y3:Y41) -> 0 | R20: =C20=(D20+E20) -> TRUE | S20: =E20=SUM(F20:Q20) -> TRUE
A21: gminne - lista podstawowa, z tego: | B21: =COUNTA('gm podst'!L3:L118) -> 101 | C21: =SUM('gm podst'!K3:K118) -> 3.8533225e+08 | D21: =SUM('gm podst'!M3:M118) -> 2.0001782e+08 | E21: =SUM('gm podst'!L3:L118) -> 1.8531443e+08 | F21: =SUM('gm podst'!O3:O118) -> 0 | G21: =SUM('gm podst'!P3:P118) -> 0 | H21: =SUM('gm podst'!Q3:Q118) -> 4414130 | I21: =SUM('gm podst'!R3:R118) -> 4519307 | J21: =SUM('gm podst'!S3:S118) -> 16681381 | K21: =SUM('gm podst'!T3:T118) -> 1.1926355e+08 | L21: =SUM('gm podst'!U3:U118) -> 26270300 | M21: =SUM('gm podst'!V3:V118) -> 14165760 | ... Q21: =SUM('gm podst'!Z3:Z118) -> 0 | R21: =C21=(D21+E21) -> TRUE | S21: =E21=SUM(F21:Q21) -> TRUE
A22: kontynuowane zadania wieloletnie | B22: =COUNTIF('gm podst'!C3:C118,"K") -> 22 | C22: =SUMIF('gm podst'!C3:C118,"K",'gm podst'!K3:K118) -> 1.322036e+08 | D22: =SUMIF('gm podst'!C3:C118,"K",'gm podst'!M3:M118) -> 71465889 | E22: =SUMIF('gm podst'!C3:C118,"K",'gm podst'!L3:L118) -> 60737707 | F22: =SUMIF('gm podst'!C3:C118,"K",'gm podst'!O3:O118) -> 0 | G22: =SUMIF('gm podst'!C3:C118,"K",'gm podst'!P3:P118) -> 0 | H22: =SUMIF('gm podst'!C3:C118,"K",'gm podst'!Q3:Q118) -> 4414130 | I22: =SUMIF('gm podst'!C3:C118,"K",'gm podst'!R3:R118) -> 4519307 | J22: =SUMIF('gm podst'!C3:C118,"K",'gm podst'!S3:S118) -> 16681381 | K22: =SUMIF('gm podst'!C3:C118,"K",'gm podst'!T3:T118) -> 25803193 | L22: =SUMIF('gm podst'!C3:C118,"K",'gm podst'!U3:U118) -> 6336009.4 | M22: =SUMIF('gm podst'!C3:C118,"K",'gm podst'!V3:V118) -> 2983687 | N22: =SUMIF('gm podst'!C3:C118,"K",'gm podst'!W3:W118) -> 0 | O22: =SUMIF('gm podst'!C3:C118,"K",'gm podst'!X3:X118) -> 0 | P22: =SUMIF('gm podst'!D3:D118,"K",'gm podst'!Y3:Y118) -> 0 | Q22: =SUMIF('gm podst'!E3:E118,"K",'gm podst'!Z3:Z118) -> 0 | R22: =C22=(D22+E22) -> TRUE | S22: =E22=SUM(F22:Q22) -> TRUE
A23: nowe zadania jednoroczne | B23: =COUNTIF('gm podst'!C3:C118,"N") -> 56 | C23: =SUMIF('gm podst'!C3:C118,"N",'gm podst'!K3:K118) -> 1.0793061e+08 | D23: =SUMIF('gm podst'!C3:C118,"N",'gm podst'!M3:M118) -> 45824573 | E23: =SUMIF('gm podst'!C3:C118,"N",'gm podst'!L3:L118) -> 62106036 | F23: =SUMIF('gm podst'!C3:C118,"N",'gm podst'!O3:O118) -> 0 | G23: =SUMIF('gm podst'!C3:C118,"N",'gm podst'!P3:P118) -> 0 | H23: =SUMIF('gm podst'!C3:C118,"N",'gm podst'!Q3:Q118) -> 0 | I23: =SUMIF('gm podst'!C3:C118,"N",'gm podst'!R3:R118) -> 0 | J23: =SUMIF('gm podst'!C3:C118,"N",'gm podst'!S3:S118) -> 0 | K23: =SUMIF('gm podst'!C3:C118,"N",'gm podst'!T3:T118) -> 62106036 | L23: =SUMIF('gm podst'!C3:C118,"N",'gm podst'!U3:U118) -> 0 | M23: =SUMIF('gm podst'!C3:C118,"N",'gm podst'!V3:V118) -> 0 | N23: =SUMIF('gm podst'!C3:C118,"N",'gm podst'!W3:W118) -> 0 | O23: =SUMIF('gm podst'!C3:C118,"N",'gm podst'!X3:X118) -> 0 | P23: =SUMIF('gm podst'!D3:D118,"N",'gm podst'!Y3:Y118) -> 0 | Q23: =SUMIF('gm podst'!E3:E118,"N",'gm podst'!Z3:Z118) -> 0 | R23: =C23=(D23+E23) -> TRUE | S23: =E23=SUM(F23:Q23) -> TRUE
A24: nowe zadania wieloletnie | B24: =COUNTIF('gm podst'!C3:C118,"W") -> 23 | C24: =SUMIF('gm podst'!C3:C118,"W",'gm podst'!K3:K118) -> 1.4519804e+08 | D24: =SUMIF('gm podst'!C3:C118,"W",'gm podst'!M3:M118) -> 82727358 | E24: =SUMIF('gm podst'!C3:C118,"W",'gm podst'!L3:L118) -> 62470684 | F24: =SUMIF('gm podst'!C3:C118,"W",'gm podst'!O3:O118) -> 0 | G24: =SUMIF('gm podst'!C3:C118,"W",'gm podst'!P3:P118) -> 0 | H24: =SUMIF('gm podst'!C3:C118,"W",'gm podst'!Q3:Q118) -> 0 | I24: =SUMIF('gm podst'!C3:C118,"W",'gm podst'!R3:R118) -> 0 | J24: =SUMIF('gm podst'!C3:C118,"W",'gm podst'!S3:S118) -> 0 | K24: =SUMIF('gm podst'!C3:C118,"W",'gm podst'!T3:T118) -> 31354321 | L24: =SUMIF('gm podst'!C3:C118,"W",'gm podst'!U3:U118) -> 19934290 | M24: =SUMIF('gm podst'!C3:C118,"W",'gm podst'!V3:V118) -> 11182073 | N24: =SUMIF('gm podst'!C3:C118,"W",'gm podst'!W3:W118) -> 0 | O24: =SUMIF('gm podst'!C3:C118,"W",'gm podst'!X3:X118) -> 0 | P24: =SUMIF('gm podst'!D3:D118,"W",'gm podst'!Y3:Y118) -> 0 | Q24: =SUMIF('gm podst'!E3:E118,"W",'gm podst'!Z3:Z118) -> 0 | R24: =C24=(D24+E24) -> TRUE | S24: =E24=SUM(F24:Q24) -> TRUE
A25: RAZEM listy podstawowe, z tego: | B25: =B17+B21 -> 135 | C25: =C17+C21 -> 7.82406e+08 | D25: =D17+D21 -> 3.9161339e+08 | E25: =E17+E21 -> 3.9079261e+08 | F25: =F17+F21 -> 0 | G25: =G17+G21 -> 0 | H25: =H17+H21 -> 4414130 | I25: =I17+I21 -> 13354368 | ... Q25: =Q17+Q21 -> 0 | R25: =C25=(D25+E25) -> TRUE | S25: =E25=SUM(F25:Q25) -> TRUE
A26: kontynuowane zadania wieloletnie | B26: =B18+B22 -> 32 | C26: =C18+C22 -> 288175984 | D26: =D18+D22 -> 1.4882562e+08 | E26: =E18+E22 -> 1.3935036e+08 | F26: =F18+F22 -> 0 | G26: =G18+G22 -> 0 | H26: =H18+H22 -> 4414130 | I26: =I18+I22 -> 13354368 | ... Q26: =Q18+Q22 -> 0 | R26: =C26=(D26+E26) -> TRUE | S26: =E26=SUM(F26:Q26) -> TRUE
A27: nowe zadania jednoroczne | B27: =B19+B23 -> 70 | C27: =C19+C23 -> 1.7403023e+08 | D27: =D19+D23 -> 71918039 | E27: =E19+E23 -> 1.0211219e+08 | F27: =F19+F23 -> 0 | G27: =G19+G23 -> 0 | H27: =H19+H23 -> 0 | I27: =I19+I23 -> 0 | ... Q27: =Q19+Q23 -> 0 | R27: =C27=(D27+E27) -> TRUE | S27: =E27=SUM(F27:Q27) -> TRUE
A28: nowe zadania wieloletnie | B28: =B20+B24 -> 33 | C28: =C20+C24 -> 3.2019978e+08 | D28: =D20+D24 -> 1.7086973e+08 | E28: =E20+E24 -> 1.4933005e+08 | F28: =F20+F24 -> 0 | G28: =G20+G24 -> 0 | H28: =H20+H24 -> 0 | I28: =I20+I24 -> 0 | ... Q28: =Q20+Q24 -> 0 | R28: =C28=(D28+E28) -> TRUE | S28: =E28=SUM(F28:Q28) -> TRUE
A29: powiatowe - lista rezerwowa | B29: =COUNTA('pow rez'!K3:K5) -> 0 | C29: =SUM('pow rez'!J3:J5) -> 0 | D29: =SUM('pow rez'!L3:L5) -> 0 | E29: =SUM('pow rez'!K3:K5) -> 0 | F29: =SUM('pow rez'!N3:N5) -> 0 | G29: =SUM('pow rez'!O3:O5) -> 0 | H29: =SUM('pow rez'!P3:P5) -> 0 | I29: =SUM('pow rez'!Q3:Q5) -> 0 | J29: =SUM('pow rez'!R3:R5) -> 0 | K29: =SUM('pow rez'!S3:S5) -> 0 | L29: =SUM('pow rez'!T3:T5) -> 0 | M29: =SUM('pow rez'!U3:U5) -> 0 | ... Q29: =SUM('pow rez'!Y3:Y5) -> 0 | R29: =C29=(D29+E29) -> TRUE | S29: =E29=SUM(F29:Q29) -> TRUE
A30: nowe zadania jednoroczne | B30: =COUNTIF('pow rez'!C3:C5,"N") -> 0 | C30: =SUMIF('pow rez'!C3:C5,"N",'pow rez'!J3:J5) -> 0 | D30: =SUMIF('pow rez'!C3:C5,"N",'pow rez'!L3:L5) -> 0 | E30: =SUMIF('pow rez'!C3:C5,"N",'pow rez'!K3:K5) -> 0 | F30: =SUMIF('pow rez'!C3:C5,"N",'pow rez'!N3:N5) -> 0 | G30: =SUMIF('pow rez'!C3:C5,"N",'pow rez'!O3:O5) -> 0 | H30: =SUMIF('pow rez'!C3:C5,"N",'pow rez'!P3:P5) -> 0 | I30: =SUMIF('pow rez'!C3:C5,"N",'pow rez'!Q3:Q5) -> 0 | J30: =SUMIF('pow rez'!C3:C5,"N",'pow rez'!R3:R5) -> 0 | K30: =SUMIF('pow rez'!C3:C5,"N",'pow rez'!S3:S5) -> 0 | L30: =SUMIF('pow rez'!C3:C5,"N",'pow rez'!T3:T5) -> 0 | M30: =SUMIF('pow rez'!C3:C5,"N",'pow rez'!U3:U5) -> 0 | N30: =SUMIF('pow rez'!C3:C5,"N",'pow rez'!V3:V5) -> 0 | O30: =SUMIF('pow rez'!C3:C5,"N",'pow rez'!W3:W5) -> 0 | P30: =SUMIF('pow rez'!D3:D5,"N",'pow rez'!X3:X5) -> 0 | Q30: =SUMIF('pow rez'!E3:E5,"N",'pow rez'!Y3:Y5) -> 0 | R30: =C30=(D30+E30) -> TRUE | S30: =E30=SUM(F30:Q30) -> TRUE
A31: nowe zadania wieloletnie | B31: =COUNTIF('pow rez'!C3:C5,"W") -> 0 | C31: =SUMIF('pow rez'!C3:C5,"W",'pow rez'!J3:J5) -> 0 | D31: =SUMIF('pow rez'!C3:C5,"W",'pow rez'!L3:L5) -> 0 | E31: =SUMIF('pow rez'!C3:C5,"W",'pow rez'!K3:K5) -> 0 | F31: =SUMIF('pow rez'!C3:C5,"W",'pow rez'!N3:N5) -> 0 | G31: =SUMIF('pow rez'!C3:C5,"W",'pow rez'!O3:O5) -> 0 | H31: =SUMIF('pow rez'!C3:C5,"W",'pow rez'!P3:P5) -> 0 | I31: =SUMIF('pow rez'!C3:C5,"W",'pow rez'!Q3:Q5) -> 0 | J31: =SUMIF('pow rez'!C3:C5,"W",'pow rez'!R3:R5) -> 0 | K31: =SUMIF('pow rez'!C3:C5,"W",'pow rez'!S3:S5) -> 0 | L31: =SUMIF('pow rez'!C3:C5,"W",'pow rez'!T3:T5) -> 0 | M31: =SUMIF('pow rez'!C3:C5,"W",'pow rez'!U3:U5) -> 0 | N31: =SUMIF('pow rez'!C3:C5,"W",'pow rez'!V3:V5) -> 0 | O31: =SUMIF('pow rez'!C3:C5,"W",'pow rez'!W3:W5) -> 0 | P31: =SUMIF('pow rez'!D3:D5,"W",'pow rez'!X3:X5) -> 0 | Q31: =SUMIF('pow rez'!E3:E5,"W",'pow rez'!Y3:Y5) -> 0 | R31: =C31=(D31+E31) -> TRUE | S31: =E31=SUM(F31:Q31) -> TRUE
A32: gminne - lista rezerwowa | B32: =COUNTA('gm rez'!L3:L5) -> 0 | C32: =SUM('gm rez'!K3:K5) -> 0 | D32: =SUM('gm rez'!M3:M5) -> 0 | E32: =SUM('gm rez'!L3:L5) -> 0 | F32: =SUM('gm rez'!O3:O5) -> 0 | G32: =SUM('gm rez'!P3:P5) -> 0 | H32: =SUM('gm rez'!Q3:Q5) -> 0 | I32: =SUM('gm rez'!R3:R5) -> 0 | J32: =SUM('gm rez'!S3:S5) -> 0 | K32: =SUM('gm rez'!T3:T5) -> 0 | L32: =SUM('gm rez'!U3:U5) -> 0 | M32: =SUM('gm rez'!V3:V5) -> 0 | ... Q32: =SUM('gm rez'!Z3:Z5) -> 0 | R32: =C32=(D32+E32) -> TRUE | S32: =E32=SUM(F32:Q32) -> TRUE
A33: nowe zadania jednoroczne | B33: =COUNTIF('gm rez'!C3:C5,"N") -> 0 | C33: =SUMIF('gm rez'!C3:C5,"N",'gm rez'!K3:K5) -> 0 | D33: =SUMIF('gm rez'!C3:C5,"N",'gm rez'!M3:M5) -> 0 | E33: =SUMIF('gm rez'!C3:C5,"N",'gm rez'!L3:L5) -> 0 | F33: =SUMIF('gm rez'!C3:C5,"N",'gm rez'!O3:O5) -> 0 | G33: =SUMIF('gm rez'!C3:C5,"N",'gm rez'!P3:P5) -> 0 | H33: =SUMIF('gm rez'!C3:C5,"N",'gm rez'!Q3:Q5) -> 0 | I33: =SUMIF('gm rez'!C3:C5,"N",'gm rez'!R3:R5) -> 0 | J33: =SUMIF('gm rez'!C3:C5,"N",'gm rez'!S3:S5) -> 0 | K33: =SUMIF('gm rez'!C3:C5,"N",'gm rez'!T3:T5) -> 0 | L33: =SUMIF('gm rez'!C3:C5,"N",'gm rez'!U3:U5) -> 0 | M33: =SUMIF('gm rez'!C3:C5,"N",'gm rez'!V3:V5) -> 0 | N33: =SUMIF('gm rez'!C3:C5,"N",'gm rez'!W3:W5) -> 0 | O33: =SUMIF('gm rez'!C3:C5,"N",'gm rez'!X3:X5) -> 0 | P33: =SUMIF('gm rez'!D3:D5,"N",'gm rez'!Y3:Y5) -> 0 | Q33: =SUMIF('gm rez'!E3:E5,"N",'gm rez'!Z3:Z5) -> 0 | R33: =C33=(D33+E33) -> TRUE | S33: =E33=SUM(F33:Q33) -> TRUE
A34: nowe zadania wieloletnie | B34: =COUNTIF('gm rez'!C3:C5,"W") -> 0 | C34: =SUMIF('gm rez'!C3:C5,"W",'gm rez'!K3:K5) -> 0 | D34: =SUMIF('gm rez'!C3:C5,"W",'gm rez'!M3:M5) -> 0 | E34: =SUMIF('gm rez'!C3:C5,"W",'gm rez'!L3:L5) -> 0 | F34: =SUMIF('gm rez'!C3:C5,"W",'gm rez'!O3:O5) -> 0 | G34: =SUMIF('gm rez'!C3:C5,"W",'gm rez'!P3:P5) -> 0 | H34: =SUMIF('gm rez'!C3:C5,"W",'gm rez'!Q3:Q5) -> 0 | I34: =SUMIF('gm rez'!C3:C5,"W",'gm rez'!R3:R5) -> 0 | J34: =SUMIF('gm rez'!C3:C5,"W",'gm rez'!S3:S5) -> 0 | K34: =SUMIF('gm rez'!C3:C5,"W",'gm rez'!T3:T5) -> 0 | L34: =SUMIF('gm rez'!C3:C5,"W",'gm rez'!U3:U5) -> 0 | M34: =SUMIF('gm rez'!C3:C5,"W",'gm rez'!V3:V5) -> 0 | N34: =SUMIF('gm rez'!C3:C5,"W",'gm rez'!W3:W5) -> 0 | O34: =SUMIF('gm rez'!C3:C5,"W",'gm rez'!X3:X5) -> 0 | P34: =SUMIF('gm rez'!D3:D5,"W",'gm rez'!Y3:Y5) -> 0 | Q34: =SUMIF('gm rez'!E3:E5,"W",'gm rez'!Z3:Z5) -> 0 | R34: =C34=(D34+E34) -> TRUE | S34: =E34=SUM(F34:Q34) -> TRUE
A35: RAZEM listy rezerwowe | B35: =B29+B32 -> 0 | C35: =C29+C32 -> 0 | D35: =D29+D32 -> 0 | E35: =E29+E32 -> 0 | F35: =F29+F32 -> 0 | G35: =G29+G32 -> 0 | H35: =H29+H32 -> 0 | I35: =I29+I32 -> 0 | ... Q35: =Q29+Q32 -> 0 | R35: =C35=(D35+E35) -> TRUE | S35: =E35=SUM(F35:Q35) -> TRUE
A36: nowe zadania jednoroczne | B36: =B30+B33 -> 0 | C36: =C30+C33 -> 0 | D36: =D30+D33 -> 0 | E36: =E30+E33 -> 0 | F36: =F30+F33 -> 0 | G36: =G30+G33 -> 0 | H36: =H30+H33 -> 0 | I36: =I30+I33 -> 0 | ... Q36: =Q30+Q33 -> 0 | R36: =C36=(D36+E36) -> TRUE | S36: =E36=SUM(F36:Q36) -> TRUE
A37: nowe zadania wieloletnie | B37: =B31+B34 -> 0 | C37: =C31+C34 -> 0 | D37: =D31+D34 -> 0 | E37: =E31+E34 -> 0 | F37: =F31+F34 -> 0 | G37: =G31+G34 -> 0 | H37: =H31+H34 -> 0 | I37: =I31+I34 -> 0 | ... Q37: =Q31+Q34 -> 0 | R37: =C37=(D37+E37) -> TRUE | S37: =E37=SUM(F37:Q37) -> TRUE
A38: RAZEM listy | B38: =B25+B35 -> 135 | C38: =C25+C35 -> 7.82406e+08 | D38: =D25+D35 -> 3.9161339e+08 | E38: =E25+E35 -> 3.9079261e+08 | F38: =F25+F35 -> 0 | G38: =G25+G35 -> 0 | H38: =H25+H35 -> 4414130 | I38: =I25+I35 -> 13354368 | ... Q38: =Q25+Q35 -> 0 | R38: =C38=(D38+E38) -> TRUE | S38: =E38=SUM(F38:Q38) -> TRUE
A39: kontynuowane zadania wieloletnie | B39: =B26 -> 32 | C39: =C26 -> 288175984 | D39: =D26 -> 1.4882562e+08 | E39: =E26 -> 1.3935036e+08 | F39: =F26 -> 0 | G39: =G26 -> 0 | H39: =H26 -> 4414130 | I39: =I26 -> 13354368 | ... Q39: =Q26 -> 0 | R39: =C39=(D39+E39) -> TRUE | S39: =E39=SUM(F39:Q39) -> TRUE
A40: nowe zadania jednoroczne | B40: =B27+B36 -> 70 | C40: =C27+C36 -> 1.7403023e+08 | D40: =D27+D36 -> 71918039 | E40: =E27+E36 -> 1.0211219e+08 | F40: =F27+F36 -> 0 | G40: =G27+G36 -> 0 | H40: =H27+H36 -> 0 | I40: =I27+I36 -> 0 | ... Q40: =Q27+Q36 -> 0 | R40: =C40=(D40+E40) -> TRUE | S40: =E40=SUM(F40:Q40) -> TRUE
A41: nowe zadania wieloletnie | B41: =B28+B37 -> 33 | C41: =C28+C37 -> 3.2019978e+08 | D41: =D28+D37 -> 1.7086973e+08 | E41: =E28+E37 -> 1.4933005e+08 | F41: =F28+F37 -> 0 | G41: =G28+G37 -> 0 | H41: =H28+H37 -> 0 | I41: =I28+I37 -> 0 | ... Q41: =Q28+Q37 -> 0 | R41: =C41=(D41+E41) -> TRUE | S41: =E41=SUM(F41:Q41) -> TRUE
B42: =B17+B21=B25 -> TRUE | C42: =C17+C21=C25 -> TRUE | D42: =D17+D21=D25 -> TRUE | E42: =E17+E21=E25 -> TRUE | F42: =F17+F21=F25 -> TRUE | G42: =G17+G21=G25 -> TRUE | H42: =H17+H21=H25 -> TRUE | I42: =I17+I21=I25 -> TRUE | ... Q42: =Q17+Q21=Q25 -> TRUE
B43: =B18+B22=B26 -> TRUE | C43: =C18+C22=C26 -> TRUE | D43: =D18+D22=D26 -> TRUE | E43: =E18+E22=E26 -> TRUE | F43: =F18+F22=F26 -> TRUE | G43: =G18+G22=G26 -> TRUE | H43: =H18+H22=H26 -> TRUE | I43: =I18+I22=I26 -> TRUE | ... Q43: =Q18+Q22=Q26 -> TRUE
B44: =B19+B23=B27 -> TRUE | C44: =C19+C23=C27 -> TRUE | D44: =D19+D23=D27 -> TRUE | E44: =E19+E23=E27 -> TRUE | F44: =F19+F23=F27 -> TRUE | G44: =G19+G23=G27 -> TRUE | H44: =H19+H23=H27 -> TRUE | I44: =I19+I23=I27 -> TRUE | ... Q44: =Q19+Q23=Q27 -> TRUE
B45: =B20+B24=B28 -> TRUE | C45: =C20+C24=C28 -> TRUE | D45: =D20+D24=D28 -> TRUE | E45: =E20+E24=E28 -> TRUE | F45: =F20+F24=F28 -> TRUE | G45: =G20+G24=G28 -> TRUE | H45: =H20+H24=H28 -> TRUE | I45: =I20+I24=I28 -> TRUE | ... Q45: =Q20+Q24=Q28 -> TRUE
B46: =B29+B32=B35 -> TRUE | C46: =C29+C32=C35 -> TRUE | D46: =D29+D32=D35 -> TRUE | E46: =E29+E32=E35 -> TRUE | F46: =F29+F32=F35 -> TRUE | G46: =G29+G32=G35 -> TRUE | H46: =H29+H32=H35 -> TRUE | I46: =I29+I32=I35 -> TRUE | ... Q46: =Q29+Q32=Q35 -> TRUE
B47: =B33+B30=B36 -> TRUE | C47: =C33+C30=C36 -> TRUE | D47: =D33+D30=D36 -> TRUE | E47: =E33+E30=E36 -> TRUE | F47: =F33+F30=F36 -> TRUE | G47: =G33+G30=G36 -> TRUE | H47: =H33+H30=H36 -> TRUE | I47: =I33+I30=I36 -> TRUE | ... Q47: =Q33+Q30=Q36 -> TRUE
B48: =B31+B34=B37 -> TRUE | C48: =C31+C34=C37 -> TRUE | D48: =D31+D34=D37 -> TRUE | E48: =E31+E34=E37 -> TRUE | F48: =F31+F34=F37 -> TRUE | G48: =G31+G34=G37 -> TRUE | H48: =H31+H34=H37 -> TRUE | I48: =I31+I34=I37 -> TRUE | ... Q48: =Q31+Q34=Q37 -> TRUE
B49: =B25+B35=B38 -> TRUE | C49: =C25+C35=C38 -> TRUE | D49: =D25+D35=D38 -> TRUE | E49: =E25+E35=E38 -> TRUE | F49: =F25+F35=F38 -> TRUE | G49: =G25+G35=G38 -> TRUE | H49: =H25+H35=H38 -> TRUE | I49: =I25+I35=I38 -> TRUE | ... Q49: =Q25+Q35=Q38 -> TRUE

Sheet pow podst
A1: L.p. | B1: Nr ewid. | C1: Zadanie nowe/kontynuowane/wieloletnie [N/K/W] | D1: Jednostka Samorządu Terytorialnego | E1: TERC | F1: Nazwa zadania | G1: Rodzaj zadania | H1: Długość odcinka (w km) | I1: Okres realizacji zadania | J1: Ogółem wartość projektu (w zł) | K1: Wnioskowana kwota dofinansowania (w zł) | L1: Deklarowana kwota środków własnych (w zł) | M1: % dofinansowania | N1: Kwota dofinansowania w podziale na lata
N2: 2019 | O2: 2020 | P2: 2021 | Q2: 2022 | R2: 2023 | S2: 2024 | T2: 2025 | U2: 2026 | V2: 2027 | W2: 2028 | X2: 2029 | Y2: 2030 | Z2: spr-lata | AA2: spr-procent | AB2: spr-dof | AC2: spr-montaż
A3: 1 | B3: 815/21 | C3: K | D3: POWIAT RACIBORSKI | E3: 2411 | F3: Przebudowa drogi powiatowej nr 3506S na odcinku od skrzyżowania z DW 916 do skrzyżowania z DP 3528S w Krzanowicach oraz remont od skrzyżowania z DP 3528S do skrzyżowania z DW 917 i przebudowa drogi powiatowej nr 3529 S na odcinku od DK 45 w Tworkowie do początku obszaru zabudowanego Borucina | G3: P | H3: 7.6 | I3: czerwiec 2022-maj 2024 | J3: 19291209 | K3: 9645604.3 | L3: 9645604.3 | M3: 0.5 | Q3: 3500000 | R3: 5000000 | S3: 1145604.3 | Z3: =K3=SUM(N3:Y3) -> TRUE | AA3: =ROUND(K3/J3,4) -> 0.5 | AB3: =AA3=M3 -> TRUE | AC3: =J3=K3+L3 -> TRUE
A4: 2 | B4: 790/21 | C4: K | D4: MIASTO MYSŁOWICE | E4: 2470011 | F4: Przebudowa ulicy Długiej w Mysłowicach - etap I | G4: p | H4: 1.577 | I4: sierpień 2022-lipiec 2024 | J4: 12933258 | K4: 9053280.1 | L4: 3879977.9 | M4: 0.7 | Q4: 5185060.5 | R4: 3868219.5 | Z4: =K4=SUM(N4:Y4) -> TRUE | AA4: =ROUND(K4/J4,4) -> 0.7 | AB4: =AA4=M4 -> TRUE | AC4: =J4=K4+L4 -> TRUE
A5: 3 | B5: 816/21 | C5: K | D5: POWIAT CZĘSTOCHOWSKI | E5: 2404 | F5: Przebudowa drogi powiatowej nr 1072 S w miejscowości Stary Broniszew, gmina Mykanów | G5: P | H5: 2.24 | I5: kwiecień 2022-grudzień 2024 | J5: 9101000 | K5: 3750000 | L5: 5351000 | M5: 0.5 | Q5: 150000 | R5: 1800000 | S5: 1800000 | Z5: =K5=SUM(N5:Y5) -> TRUE | AA5: =ROUND(K5/J5,4) -> 0.412 | AB5: =AA5=M5 -> FALSE | AC5: =J5=K5+L5 -> TRUE
A6: 4 | B6: 955/22 | C6: K | D6: POWIAT BIELSKI | E6: 2402 | F6: Przebudowa drogi powiatowej 4116S ul. Legionów w Czechowicach-Dziedzicach na odcinku od ul. Lipowskiej do granicy Bielska-Białej | G6: P | H6: 1.778 | I6: czerwiec 2023-listopad 2024 | J6: 17853228 | K6: 8618946 | L6: 9234281.9 | M6: 0.5 | R6: 5000000 | S6: 3618946 | Z6: =K6=SUM(N6:Y6) -> TRUE | AA6: =ROUND(K6/J6,4) -> 0.4828 | AB6: =AA6=M6 -> FALSE | AC6: =J6=K6+L6 -> TRUE
A7: 5 | B7: 956/22 | C7: K | D7: POWIAT BIELSKI | E7: 2402 | F7: Przebudowa drogi powiatowej nr 4444S Czechowice-Bestwina-Dankowice-Jawiszowice na długości 1881 mb w Dankowicach | G7: P | H7: 1.881 | I7: maj 2023-sierpień 2024 | J7: 11804786 | K7: 5443584 | L7: 6361202.1 | M7: 0.5 | R7: 2943584 | S7: 2500000 | Z7: =K7=SUM(N7:Y7) -> TRUE | AA7: =ROUND(K7/J7,4) -> 0.4611 | AB7: =AA7=M7 -> FALSE | AC7: =J7=K7+L7 -> TRUE
A8: 6 | B8: 905/22 | C8: K | D8: POWIAT MYSZKOWSKI | E8: 2409 | F8: Przebudowa drogi powiatowej od ronda w m. Postęp do ronda w m. Myszków - Mrzygłód na odcinku długości ok. 8,5 km - Usprawnienie i poprawa bezpieczeństwa ruchu drogowego i pieszych | G8: P | H8: 1.733 | I8: luty 2023-czerwiec 2024 | J8: 19387885 | K8: 9693942.5 | L8: 9693942.5 | M8: 0.5 | R8: 5816365.5 | S8: 3877577 | Z8: =K8=SUM(N8:Y8) -> TRUE | AA8: =ROUND(K8/J8,4) -> 0.5 | AB8: =AA8=M8 -> TRUE | AC8: =J8=K8+L8 -> TRUE
A9: 7 | B9: 935/22 | C9: K | D9: MIASTO JAWORZNO | E9: 2468011 | F9: Przebudowa ul. Szczakowskiej 6800 S wraz z budową ronda w Jaworznie | G9: P | H9: 1.45 | I9: listopad 2023 - listopad 2025 | J9: =K9+L9 -> 25331898 | K9: 12561799 | L9: 12770099 | M9: 0.5 | R9: 840000 | S9: 9642955 | T9: 2078844 | Z9: =K9=SUM(N9:Y9) -> TRUE | AA9: =ROUND(K9/J9,4) -> 0.4959 | AB9: =AA9=M9 -> FALSE | AC9: =J9=K9+L9 -> TRUE
A10: 8 | B10: 924/22 | C10: K | D10: POWIAT TARNOGÓRSKI | E10: 2413 | F10: Przebudowa DP3224S ulica Mikulczycka w Świętoszowicach | G10: P | H10: 2.765 | I10: lipiec 2023-październik 2025 | J10: 16402132 | K10: =R10+S10+T10 -> 8201065 | L10: =J10-K10 -> 8201066.7 | M10: 0.5 | R10: 125000 | S10: 4125000 | T10: 3951065 | Z10: =K10=SUM(N10:Y10) -> TRUE | AA10: =ROUND(K10/J10,4) -> 0.5 | AB10: =AA10=M10 -> TRUE | AC10: =J10=K10+L10 -> TRUE
A11: 9 | B11: 954/22 | C11: K | D11: POWIAT MIKOŁOWSKI | E11: 2408 | F11: Przebudowa ul. Pszczyńskiej w Mikołowie - etap II | G11: P | H11: 0.595 | I11: maj 2023-listopad 2024 | J11: 8114998.4 | K11: 3768438.5 | L11: 4346559.9 | M11: 0.5 | R11: 2250000 | S11: 1518438.5 | Z11: =K11=SUM(N11:Y11) -> TRUE | AA11: =ROUND(K11/J11,4) -> 0.4644 | AB11: =AA11=M11 -> FALSE | AC11: =J11=K11+L11 -> TRUE
A12: 10 | B12: 945/22 | C12: K | D12: MIASTO RYBNIK | E12: 2473011 | F12: Rozbudowa ul. Sportowej w Rybniku na odcinku od przejazdu kolejowego do ul. Morcinka | G12: B | H12: 0.871 | I12: czerwiec 2023-wrzesień 2024 | J12: 15751995 | K12: =R12+S12 -> 7875997.5 | L12: =J12-K12 -> 7875997.5 | M12: 0.5 | R12: 2500000 | S12: =1186534.53+2395029.15+1794433.82 -> 5375997.5 | Z12: =K12=SUM(N12:Y12) -> TRUE | AA12: =ROUND(K12/J12,4) -> 0.5 | AB12: =AA12=M12 -> TRUE | AC12: =J12=K12+L12 -> TRUE
A13: 11 | B13: 1453/23 | C13: W | D13: MIASTO JAWORZNO | E13: 2468011 | F13: Budowa ul. Nowoszczakowskiej wraz z przebudową skrzyżowania z ul. Grunwaldzką DK79 w Jaworznie | G13: B | H13: 1.1 | I13: marzec 2024-październik 2026 | J13: 43995000 | K13: 21997500 | L13: =J13-K13 -> 21997500 | M13: 0.5 | S13: 5000000 | T13: 7000000 | U13: 9997500 | Z13: =K13=SUM(N13:Y13) -> TRUE | AA13: =ROUND(K13/J13,4) -> 0.5 | AB13: =AA13=M13 -> TRUE | AC13: =J13=K13+L13 -> TRUE
A14: 12 | B14: 1434/23 | C14: W | D14: POWIAT MYSZKOWSKI | E14: 2409 | F14: Przebudowa drogi powiatowej od ronda w m. Postęp do ronda w m. Myszków - Mrzygłód na odcinku długości ok. 8,5 km" - Usprawnienie i poprawa bezpieczeństwa ruchu drogowego i pieszych - Etap II | G14: P | H14: 1.763 | I14: marzec 2024-sierpień 2025 | J14: 20671953 | K14: 12403172 | L14: =J14-K14 -> 8268781.2 | M14: 0.6 | S14: 7441903.2 | T14: 4961268.6 | Z14: =K14=SUM(N14:Y14) -> TRUE | AA14: =ROUND(K14/J14,4) -> 0.6 | AB14: =AA14=M14 -> TRUE | AC14: =J14=K14+L14 -> TRUE
A15: 13 | B15: 1535/23 | C15: W | D15: MIASTO BIELSKO-BIAŁA | E15: 2461011 | F15: Rozbudowa ul. Piastowskiej w Bielsku-Białej | G15: B | H15: 2.227 | I15: lipiec 2024-kwiecień 2027 | J15: 45549700 | K15: 22774850 | L15: =J15-K15 -> 22774850 | M15: 0.5 | S15: 3416227.5 | T15: 6832455 | U15: 7971197.5 | V15: 4554970 | Z15: =K15=SUM(N15:Y15) -> TRUE | AA15: =ROUND(K15/J15,4) -> 0.5 | AB15: =AA15=M15 -> TRUE | AC15: =J15=K15+L15 -> TRUE
A16: 14 | B16: 1436/23 | C16: W | D16: POWIAT BIELSKI | E16: 2402 | F16: Rozbudowa drogi powiatowej 2633S Strumień - Jasienica w Jasienicy | G16: B | H16: 2.478 | I16: marzec 2024-lipiec 2026 | J16: 8005059 | K16: =ROUNDDOWN(J16*M16,2) -> 4402782.4 | L16: =J16-K16 -> 3602276.5 | M16: 0.55 | S16: 2887500 | T16: 0 | U16: 1515282.4 | Z16: =K16=SUM(N16:Y16) -> TRUE | AA16: =ROUND(K16/J16,4) -> 0.55 | AB16: =AA16=M16 -> TRUE | AC16: =J16=K16+L16 -> TRUE
A17: 15 | B17: 1484/23* | D17: POWIAT ZAWIERCIAŃSKI (rezygnacja Wnioskodawcy z realizacji zadania) | E17: 2416 | F17: Przebudowa dróg powiatowych nr 1767 S i 1776 S w miejscowościach Wólka Ołudzka, Jeziorowice, Otola, Wola Libertowska i Żarnowiec | Z17: =K17=SUM(N17:Y17) -> TRUE | AA17: =ROUND(K17/J17,4) -> #DIV/0! | AB17: =AA17=M17 -> #DIV/0! | AC17: =J17=K17+L17 -> TRUE
A18: 16 | B18: 1441/23 | D18: MIASTO CHORZÓW (rezygnacja Wnioskodawcy z realizacji zadania) | E18: 2463011 | F18: Rozbudowa ulicy Janasa w Chorzowie obejmująca rozbudowę odcinka od ul. 3 Maja do ul. Mariańskiej, budowę przedłużenia do ul. Łagiewnickiej wraz z rozbudową skrzyżowań oraz infrastruktury technicznej | Z18: =K18=SUM(N18:Y18) -> TRUE | AA18: =ROUND(K18/J18,4) -> #DIV/0! | AB18: =AA18=M18 -> #DIV/0! | AC18: =J18=K18+L18 -> TRUE
A19: 17 | B19: 1407/23 | D19: MIASTO RYBNIK (Rezygnacja wnioskodawcy z realizacji zadania) | E19: 2473011 | F19: Rozbudowa ul. Sportowej w Rybniku na odcinku od przejazdu kolejowego do ul. Morcinka | Z19: =K19=SUM(N19:Y19) -> TRUE | AA19: =ROUND(K19/J19,4) -> #DIV/0! | AB19: =AA19=M19 -> #DIV/0! | AC19: =J19=K19+L19 -> TRUE
A20: 18 | B20: 1437/23 | C20: W | D20: POWIAT BIELSKI | E20: 2402 | F20: Rozbudowa drogi powiatowej 4477S Czaniec-Bukowiec-Porąbka w gminie Porąbka etap II km 2+460 - 4+702 | G20: B | H20: 2.242 | I20: czerwiec 2024-listopad 2025 | J20: 12512199 | K20: =ROUNDDOWN(J20*M20,2) -> 6881709.6 | L20: 5630489.7 | M20: 0.55 | S20: 6881709.6 | Z20: =K20=SUM(N20:Y20) -> TRUE | AA20: =ROUND(K20/J20,4) -> 0.55 | AB20: =AA20=M20 -> TRUE | AC20: =J20=K20+L20 -> TRUE
A21: 19 | B21: 1519/23 | C21: N | D21: POWIAT RACIBORSKI | E21: 2411 | F21: Przebudowa drogi powiatowej nr 3509S w miejscowości Turze od wału przed mostem na rzece Rudzie do rejonu dz. 910/2 wraz z budową fragmentu nowego przebiegu tej drogi | G21: P | H21: 0.99 | I21: maj 2024-kwiecień 2025 | J21: 3862075.8 | K21: 3089660.6 | L21: 772415.16 | M21: 0.8 | S21: 3089660.6 | Z21: =K21=SUM(N21:Y21) -> TRUE | AA21: =ROUND(K21/J21,4) -> 0.8 | AB21: =AA21=M21 -> TRUE | AC21: =J21=K21+L21 -> TRUE
A22: 20 | B22: 1433/23 | C22: N | D22: POWIAT MYSZKOWSKI | E22: 2409 | F22: Budowa ścieżki pieszo-rowerowej od DW 789 - Koziegłówki - Mysłów - Osiek w ramach przebudowy drogi powiatowej nr 3801 S wraz z kanalizacją deszczową oraz częściową przebudową nawierzchni drogowej - Etap II | G22: P | H22: 2.757 | I22: luty 2024-listopad 2024 | J22: =K22+L22 -> 9936163.1 | K22: 5961697.9 | L22: 3974465.2 | M22: 0.6 | S22: 5961697.9 | Z22: =K22=SUM(N22:Y22) -> TRUE | AA22: =ROUND(K22/J22,4) -> 0.6 | AB22: =AA22=M22 -> TRUE | AC22: =J22=K22+L22 -> TRUE
A23: 21 | B23: 1467/23 | C23: W | D23: POWIAT CZĘSTOCHOWSKI | E23: 2404 | F23: Przebudowa drogi powiatowej nr 1057 S na odc. Wrzosowa - Huta Stara B, gmina Poczesna | G23: P | H23: 2.1 | I23: kwiecień 2024-maj 2026 | J23: 8005000 | K23: =S23+T23+U23 -> 4402750 | L23: =J23-K23 -> 3602250 | M23: 0.55 | S23: 277750 | T23: 550000 | U23: 3575000 | Z23: =K23=SUM(N23:Y23) -> TRUE | AA23: =ROUND(K23/J23,4) -> 0.55 | AB23: =AA23=M23 -> TRUE | AC23: =J23=K23+L23 -> TRUE
A24: 22 | B24: 1509/23 | C24: N | D24: POWIAT CIESZYŃSKI | E24: 2403 | F24: Rozbudowa drogi powiatowej 2702 S - ul. Słowiczej w Cieszynie wraz z przebudową skrzyżowania z ul. Hallera | G24: B | H24: 0.761 | I24: maj 2024 - kwiecień 2025 | J24: 9888176 | K24: 5932905.6 | L24: =J24-K24 -> 3955270.4 | M24: 0.6 | S24: 5932905.6 | Z24: =K24=SUM(N24:Y24) -> TRUE | AA24: =ROUND(K24/J24,4) -> 0.6 | AB24: =AA24=M24 -> TRUE | AC24: =J24=K24+L24 -> TRUE
A25: 23 | B25: 1468/23 | C25: W | D25: POWIAT CZĘSTOCHOWSKI | E25: 2404 | F25: Przebudowa drogi powiatowej nr 1050 S - ul. Przemysłowa w miejscowości Konopiska, gmina Konopiska | G25: P | H25: 3.08 | I25: kwiecień 2024-maj 2026 | J25: 6165000 | K25: =S25+T25+U25 -> 3390750 | L25: =J25-K25 -> 2774250 | M25: 0.55 | S25: 90750 | T25: 550000 | U25: 2750000 | Z25: =K25=SUM(N25:Y25) -> TRUE | AA25: =ROUND(K25/J25,4) -> 0.55 | AB25: =AA25=M25 -> TRUE | AC25: =J25=K25+L25 -> TRUE
A26: 24 | B26: 1448/23* | C26: W | D26: POWIAT TARNOGÓRSKI | E26: 2413 | F26: Rozbudowa DP 3290S ulicy Grzybowej w Tarnowskich Górach | G26: B | H26: 3.125 | I26: sierpień 2024-październik 2026 | J26: 22000000 | K26: =S26+T26+U26 -> 10337067 | L26: =J26-K26 -> 11662933 | M26: 0.55 | S26: 137500 | T26: 4287066.5 | U26: =1874050.11999999+997094.5+3041355.38 -> 5912500 | Z26: =K26=SUM(N26:Y26) -> TRUE | AA26: =ROUND(K26/J26,4) -> 0.4699 | AB26: =AA26=M26 -> FALSE | AC26: =J26=K26+L26 -> TRUE
A27: 25 | B27: 1449/23* | C27: W | D27: POWIAT GLIWICKI | E27: 2405 | F27: Rozbudowa skrzyżowania drogi powiatowej Nr 2981S ul. 1 Maja z drogą powiatową Nr 2982S ul. Wilsona w Knurowie | G27: B | H27: 0.218 | I27: marzec 2024-październik 2025 | J27: =K27+L27 -> 2342000 | K27: =S27+T27 -> 90000 | L27: 2252000 | M27: 0.6 | S27: 90000 | T27: 0 | Z27: =K27=SUM(N27:Y27) -> TRUE | AA27: =ROUND(K27/J27,4) -> 0.0384 | AB27: =AA27=M27 -> FALSE | AC27: =J27=K27+L27 -> TRUE
A28: 26 | B28: 1491/23 | C28: N | D28: MIASTO ZABRZE | E28: 2478011 | F28: Przebudowa obiektów inżynierskich na terenie miasta Zabrze - Most w ciągu ul. Trębackiej nad rzeką Bytomką | G28: P | H28: 0.136 | I28: kwiecień 2024-marzec 2025 | J28: 3872009 | K28: =ROUNDDOWN(J28*M28,2) -> 3097607.2 | L28: =J28-K28 -> 774401.8 | M28: 0.8 | S28: 3097607.2 | Z28: =K28=SUM(N28:Y28) -> TRUE | AA28: =ROUND(K28/J28,4) -> 0.8 | AB28: =AA28=M28 -> TRUE | AC28: =J28=K28+L28 -> TRUE
A29: 27 | B29: 1410/23 | C29: N | D29: POWIAT WODZISŁAWSKI | E29: 2415 | F29: Przebudowa drogi powiatowej nr 5037S ul. 1 Maja w Gołkowicach | G29: P | H29: 0.687 | I29: maj 2024-kwiecień 2025 | J29: 5516232.3 | K29: 3309739.4 | L29: =J29-K29 -> 2206492.9 | M29: 0.6 | S29: =K29 -> 3309739.4 | Z29: =K29=SUM(N29:Y29) -> TRUE | AA29: =ROUND(K29/J29,4) -> 0.6 | AB29: =AA29=M29 -> TRUE | AC29: =J29=K29+L29 -> TRUE
A30: 28 | B30: 1414/23 | C30: N | D30: POWIAT KŁOBUCKI | E30: 2406 | F30: Remont drogi powiatowej nr 2048 S relacji Kalej - Szarlejka | G30: R | H30: 5.307 | I30: czerwiec 2024-sierpień 2024 | J30: 1974927.6 | K30: 1184956.6 | L30: 789971.06 | M30: 0.6 | S30: 1184956.6 | Z30: =K30=SUM(N30:Y30) -> TRUE | AA30: =ROUND(K30/J30,4) -> 0.6 | AB30: =AA30=M30 -> TRUE | AC30: =J30=K30+L30 -> TRUE
A31: 29 | B31: 1521/23 | C31: N | D31: POWIAT BĘDZIŃSKI | E31: 2401 | F31: Przebudowa drogi powiatowej 4801S - ul. Częstochowska w Siewierzu | G31: P | H31: 0.85 | I31: sierpień 2024-lipiec 2025 | J31: 10000000 | K31: 5500000 | L31: =J31-K31 -> 4500000 | M31: 0.55 | S31: 5500000 | Z31: =K31=SUM(N31:Y31) -> TRUE | AA31: =ROUND(K31/J31,4) -> 0.55 | AB31: =AA31=M31 -> TRUE | AC31: =J31=K31+L31 -> TRUE
A32: 30 | B32: 1518/23* | C32: W | D32: MIASTO SOSNOWIEC | E32: 2475011 | F32: Rozbudowa skrzyżowania ul. Wileńskiej z ul. I. Łukasiewicza i ul. Minerów wraz z przebudową ul. I. Łukasiewicza | G32: B | H32: 0.32 | I32: styczeń 2024-grudzień 2025 | J32: 5755829 | K32: =S32+T32 -> 178789.5 | L32: =J32-K32 -> 5577039.5 | M32: 0.5 | S32: 178789.5 | T32: 0 | Z32: =K32=SUM(N32:Y32) -> TRUE | AA32: =ROUND(K32/J32,4) -> 0.0311 | AB32: =AA32=M32 -> FALSE | AC32: =J32=K32+L32 -> TRUE
A33: 31 | B33: 1419/23 | D33: POWIAT RYBNICKI (Rezygnacja wnioskodawcy z realizacji zadania) | E33: 2412 | F33: Przebudowa drogi powiatowej nr 5604S ulica Raciborska w Bogunicach | Z33: =K33=SUM(N33:Y33) -> TRUE | AA33: =ROUND(K33/J33,4) -> #DIV/0! | AB33: =AA33=M33 -> #DIV/0! | AC33: =J33=K33+L33 -> TRUE
A34: 32 | B34: 1522/23 | C34: N | D34: POWIAT BĘDZIŃSKI | E34: 2401 | F34: Przebudowa drogi powiatowej 4701S - ul. Katowicka w Czeladzi - etap II | G34: P | H34: 0.242 | I34: marzec 2024-luty 2025 | J34: 1784731.5 | K34: 981602 | L34: 803129.46 | M34: 0.55 | S34: 981602 | Z34: =K34=SUM(N34:Y34) -> TRUE | AA34: =ROUND(K34/J34,4) -> 0.55 | AB34: =AA34=M34 -> TRUE | AC34: =J34=K34+L34 -> TRUE
A35: 33 | B35: 1486/23 | C35: N | D35: POWIAT PSZCZYŃSKI | E35: 2410 | F35: Remont dróg powiatowych ul. Śląskiej w Krzyżowicach oraz Boryńskiej w Warszowicach | G35: R | H35: 3.26 | I35: marzec 2024-wrzesień 2024 | J35: =K35+L35 -> 2734466.8 | K35: 1640680.1 | L35: 1093786.7 | M35: 0.6 | S35: 1640680.1 | Z35: =K35=SUM(N35:Y35) -> TRUE | AA35: =ROUND(K35/J35,4) -> 0.6 | AB35: =AA35=M35 -> TRUE | AC35: =J35=K35+L35 -> TRUE
A36: 34 | B36: 1487/23 | C36: N | D36: POWIAT PSZCZYŃSKI | E36: 2410 | F36: Remont dróg powiatowych ul. Katowickiej, ul. Chopina, ul. Batalionów Chłopskich w Pszczynie | G36: R | H36: 3.04 | I36: kwiecień 2024 - wrzesień 2024 | J36: =K36+L36 -> 3021579.8 | K36: 1812947.9 | L36: 1208631.9 | M36: 0.6 | S36: 1812947.9 | Z36: =K36=SUM(N36:Y36) -> TRUE | AA36: =ROUND(K36/J36,4) -> 0.6 | AB36: =AA36=M36 -> TRUE | AC36: =J36=K36+L36 -> TRUE
A37: 35 | B37: 1447/23 | C37: N | D37: POWIAT TARNOGÓRSKI | E37: 2413 | F37: Remont DP 3209S ul. Powstańców Śląskich w Tworogu i ul. Wiejska w Nowej Wsi Tworoskiej | G37: R | H37: 1.688 | I37: lipiec 2024-czerwiec 2025 | J37: 5000000 | K37: 2750000 | L37: =J37-K37 -> 2250000 | M37: 0.55 | S37: 2750000 | Z37: =K37=SUM(N37:Y37) -> TRUE | AA37: =ROUND(K37/J37,4) -> 0.55 | AB37: =AA37=M37 -> TRUE | AC37: =J37=K37+L37 -> TRUE
A38: 36 | B38: 1510/23 | C38: N | D38: POWIAT CIESZYŃSKI | E38: 2403 | F38: Rozbudowa drogi powiatowej nr 2693S ul. Przepilińskiego w Cieszynie na odcinku od skrzyżowania z ul. Stawową do skrzyżowania z ul. Kajzara | G38: B | H38: 0.881 | I38: maj 2024 - kwiecień 2025 | J38: 6722244 | K38: 3673917.6 | L38: =J38-K38 -> 3048326.4 | M38: 0.6 | S38: 3673917.6 | Z38: =K38=SUM(N38:Y38) -> TRUE | AA38: =ROUND(K38/J38,4) -> 0.5465 | AB38: =AA38=M38 -> FALSE | AC38: =J38=K38+L38 -> TRUE
A39: 37 | B39: 1415/23 | C39: N | D39: POWIAT MIKOŁOWSKI | E39: 2408 | F39: Przebudowa ul. Chrobrego w Orzeszu od ul. Modrzewiowej do ul. Mokrej - etap II | G39: P | H39: 0.256 | I39: czerwiec 2024-listopad 2024 | J39: 1295283.5 | K39: 677055.5 | L39: 618228 | M39: 0.55 | S39: 677055.5 | Z39: =K39=SUM(N39:Y39) -> TRUE | AA39: =ROUND(K39/J39,4) -> 0.5227 | AB39: =AA39=M39 -> FALSE | AC39: =J39=K39+L39 -> TRUE
A40: 38 | B40: 1505/23 | D40: POWIAT GLIWICKI (Rezygnacja wnioskodawcy z realizacji zadania) | E40: 2405 | F40: Przebudowa i remont nawierzchni drogi powiatowej Nr 2970 S ul. Wiejska w Pisarzowicach | Z40: =K40=SUM(N40:Y40) -> TRUE | AA40: =ROUND(K40/J40,4) -> #DIV/0! | AB40: =AA40=M40 -> #DIV/0! | AC40: =J40=K40+L40 -> TRUE
A41: 39 | B41: 1429/23 | C41: N | D41: MIASTO SIEMIANOWICE ŚLĄSKIE | E41: 2474011 | F41: Remont drogi powiatowej 9628S (ul. Parkowa) w Siemianowicach Śląskich | G41: R | H41: 0.546 | I41: marzec 2024-październik 2024 | J41: 491735.11 | K41: =S41 -> 393388.08 | L41: =J41-K41 -> 98347.03 | M41: 0.8 | S41: 393388.08 | Z41: =K41=SUM(N41:Y41) -> TRUE | AA41: =ROUND(K41/J41,4) -> 0.8 | AB41: =AA41=M41 -> TRUE | AC41: =J41=K41+L41 -> TRUE
A42: RAZEM, z tego: | H42: =SUM(H3:H41) -> 62.544 | I42: x | J42: =SUM(J3:J41) -> 3.9707375e+08 | K42: =SUM(K3:K41) -> 2.0547819e+08 | L42: =SUM(L3:L41) -> 1.9159557e+08 | M42: x | N42: =SUM(N3:N41) -> 0 | O42: =SUM(O3:O41) -> 0 | P42: =SUM(P3:P41) -> 0 | Q42: =SUM(Q3:Q41) -> 8835060.6 | R42: =SUM(R3:R41) -> 30143169 | S42: =SUM(S3:S41) -> 1.0001281e+08 | T42: =SUM(T3:T41) -> 30210699 | U42: =SUM(U3:U41) -> 31721480 | ... Y42: =SUM(Y3:Y41) -> 0 | Z42: =K42=SUM(N42:Y42) -> TRUE | AA42: =ROUND(K42/J42,4) -> 0.5175 | AB42: x | AC42: =J42=K42+L42 -> TRUE
A43: kontynuowane zadania wieloletnie | H43: =SUMIF($C$3:$C$41,"K",H3:H41) -> 22.49 | I43: x | J43: =SUMIF($C$3:$C$41,"K",J3:J41) -> 1.5597239e+08 | K43: =SUMIF($C$3:$C$41,"K",K3:K41) -> 78612657 | L43: =SUMIF($C$3:$C$41,"K",L3:L41) -> 77359732 | M43: x | N43: =SUMIF($C$3:$C$41,"K",N3:N41) -> 0 | O43: =SUMIF($C$3:$C$41,"K",O3:O41) -> 0 | P43: =SUMIF($C$3:$C$41,"K",P3:P41) -> 0 | Q43: =SUMIF($C$3:$C$41,"K",Q3:Q41) -> 8835060.6 | R43: =SUMIF($C$3:$C$41,"K",R3:R41) -> 30143169 | S43: =SUMIF($C$3:$C$41,"K",S3:S41) -> 33604518 | T43: =SUMIF($C$3:$C$41,"K",T3:T41) -> 6029909 | U43: =SUMIF($C$3:$C$41,"K",U3:U41) -> 0 | ... Y43: =SUMIF($C$3:$C$41,"K",Y3:Y41) -> 0 | Z43: =K43=SUM(N43:Y43) -> TRUE | AA43: =ROUND(K43/J43,4) -> 0.504 | AB43: x | AC43: =J43=K43+L43 -> TRUE
A44: nowe zadania jednoroczne | H44: =SUMIF($C$3:$C$41,"N",H3:H41) -> 21.401 | I44: x | J44: =SUMIF($C$3:$C$41,"N",J3:J41) -> 66099625 | K44: =SUMIF($C$3:$C$41,"N",K3:K41) -> 40006158 | L44: =SUMIF($C$3:$C$41,"N",L3:L41) -> 26093466 | M44: x | N44: =SUMIF($C$3:$C$41,"N",N3:N41) -> 0 | O44: =SUMIF($C$3:$C$41,"N",O3:O41) -> 0 | P44: =SUMIF($C$3:$C$41,"N",P3:P41) -> 0 | Q44: =SUMIF($C$3:$C$41,"N",Q3:Q41) -> 0 | R44: =SUMIF($C$3:$C$41,"N",R3:R41) -> 0 | S44: =SUMIF($C$3:$C$41,"N",S3:S41) -> 40006158 | T44: =SUMIF($C$3:$C$41,"N",T3:T41) -> 0 | U44: =SUMIF($C$3:$C$41,"N",U3:U41) -> 0 | ... Y44: =SUMIF($C$3:$C$41,"N",Y3:Y41) -> 0 | Z44: =K44=SUM(N44:Y44) -> TRUE | AA44: =ROUND(K44/J44,4) -> 0.6052 | AB44: x | AC44: =J44=K44+L44 -> TRUE
A45: nowe zadania wieloletnie | H45: =SUMIF($C$3:$C$41,"W",H3:H41) -> 18.653 | I45: x | J45: =SUMIF($C$3:$C$41,"W",J3:J41) -> 1.7500174e+08 | K45: =SUMIF($C$3:$C$41,"W",K3:K41) -> 86859370 | L45: =SUMIF($C$3:$C$41,"W",L3:L41) -> 88142370 | M45: x | N45: =SUMIF($C$3:$C$41,"W",N3:N41) -> 0 | O45: =SUMIF($C$3:$C$41,"W",O3:O41) -> 0 | P45: =SUMIF($C$3:$C$41,"W",P3:P41) -> 0 | Q45: =SUMIF($C$3:$C$41,"W",Q3:Q41) -> 0 | R45: =SUMIF($C$3:$C$41,"W",R3:R41) -> 0 | S45: =SUMIF($C$3:$C$41,"W",S3:S41) -> 26402130 | T45: =SUMIF($C$3:$C$41,"W",T3:T41) -> 24180790 | U45: =SUMIF($C$3:$C$41,"W",U3:U41) -> 31721480 | ... Y45: =SUMIF($C$3:$C$41,"W",Y3:Y41) -> 0 | Z45: =K45=SUM(N45:Y45) -> TRUE | AA45: =ROUND(K45/J45,4) -> 0.4963 | AB45: x | AC45: =J45=K45+L45 -> TRUE
A47: B - budowa (rozbudowa), P - przebudowa, R - remont
A48: kolorem czerwonym oznaczono zadania wieloletnie
A49: N - nowe zadanie jednoroczne, K - kontynuowane zadanie wieloletnie z wcześniejszego naboru, W - nowe zadanie wieloletnie
A50: * Kwota dofinansowania zmniejszona do limitu dostępnych środków Rządowego Funduszu Rozwoju Dróg; zwiększenie dofinansowania możliwe w przypadku wystąpienia oszczędności. W przypadku braku oszczędności w Funduszu, realizacja zadania będzie wymagała zabezpieczenia wkładu własnego wnioskodawcy w większej wysokości.

Sheet gm podst
A1: L.p. | B1: Nr ewid. | C1: Zadanie nowe/kontynuowane/wieloletnie [N/K/W] | D1: Jednostka Samorządu Terytorialnego | E1: TERC | F1: Powiat | G1: Nazwa zadania | H1: Rodzaj zadania | I1: Długość odcinka (w km) | J1: Okres realizacji zadania | K1: Ogółem wartość projektu (w zł) | L1: Wnioskowana kwota dofinansowania (w zł) | M1: Deklarowana kwota środków własnych (w zł) | N1: % dofinansowania | O1: Kwota dofinansowania w podziale na lata
O2: 2019 | P2: 2020 | Q2: 2021 | R2: 2022 | S2: 2023 | T2: 2024 | U2: 2025 | V2: 2026 | W2: 2027 | X2: 2028 | Y2: 2029 | Z2: 2030 | AA2: spr-lata | AB2: spr-procent | AC2: spr-dof | AD2: spr-montaż
A3: 1 | B3: 469/20 | C3: K | D3: GMINA GOLESZÓW | E3: 2403072 | F3: cieszyński | G3: Rozbudowa ul. Kojkowickiej w Puńcowie na odcinku 1,7 km wraz z przebudową mostu | H3: B | I3: 1.7 | J3: marzec 2021 - styczeń 2025 | K3: 7186326.8 | L3: 3952479.8 | M3: 3233847.1 | N3: 0.55 | Q3: 1000000 | R3: 1500000 | S3: 1452479.8 | AA3: =L3=SUM(O3:Z3) -> TRUE | AB3: =ROUND(L3/K3,4) -> 0.55 | AC3: =AB3=N3 -> TRUE | AD3: =K3=L3+M3 -> TRUE
A4: 2 | B4: 549/20 | C4: K | D4: GMINA TARNOWSKIE GÓRY | E4: 2413041 | F4: tarnogórski | G4: Rozbudowa układu drogowego w rejonie ulic Królika, Szymały, Rymera w Tarnowskich Górach - etap C i D | H4: B | I4: 0.493 | J4: marzec 2021 - grudzień 2026 | K4: 3910205.9 | L4: 1394465.5 | M4: 2515740.4 | N4: 0.5 | Q4: 809929 | R4: 584536.5 | AA4: =L4=SUM(O4:Z4) -> TRUE | AB4: =ROUND(L4/K4,4) -> 0.3566 | AC4: =AB4=N4 -> FALSE | AD4: =K4=L4+M4 -> TRUE
A5: 3 | B5: 501/20 | C5: K | D5: GMINA RADZIONKÓW | E5: 2413031 | F5: tarnogórski | G5: Przebudowa ul. M.Dąbrowskiej w Radzionkowie (na odcinku od skrzyżowania z ul. Wspólną do skrzyżowania z ul. N.Żołnierza) | H5: P | I5: 0.982 | J5: lipiec 2021 - czerwiec 2024 | K5: 6441389.5 | L5: 3220694 | M5: 3220695.5 | N5: 0.5 | Q5: 2388263.5 | R5: 832430.5 | AA5: =L5=SUM(O5:Z5) -> TRUE | AB5: =ROUND(L5/K5,4) -> 0.5 | AC5: =AB5=N5 -> TRUE | AD5: =K5=L5+M5 -> TRUE
A6: 4 | B6: 419/20 | C6: K | D6: GMINA MIEDŹNO | E6: 2406042 | F6: kłobucki | G6: Rozbudowa dróg gminnych: 656040 S ul. Głównej, ul. ks. A. Morawca, 656044 S ul. Wesołej, ul. Nadrzecznej, 656040 S. ul. Sosnowej, 656041 S ul. Dębowej i Brzozowej w miejscowości Borowa gm. Miedźno | H6: B | I6: 4.091 | J6: grudzień 2021 - wrzesień 2026 | K6: 9410119 | L6: 4705059.5 | M6: 4705059.5 | N6: 0.5 | Q6: 215937.5 | R6: 529840 | S6: 827705.5 | T6: 1092471 | U6: 1011161.5 | V6: 1027944 | AA6: =L6=SUM(O6:Z6) -> TRUE | AB6: =ROUND(L6/K6,4) -> 0.5 | AC6: =AB6=N6 -> TRUE | AD6: =K6=L6+M6 -> TRUE
A7: 5 | B7: 747/21 | C7: K | D7: GMINA OLSZTYN | E7: 2404122 | F7: częstochowski | G7: Budowa drogi gminnej w miejscowości Biskupice-gmina Olsztyn do granic miejscowości Choroń - gmina Poraj | H7: B | I7: 1.665 | J7: lipiec 2022-lipiec 2024 | K7: 6007000 | L7: 2466000 | M7: 3541000 | N7: 0.5 | R7: 72500 | S7: 1196750 | T7: 1196750 | AA7: =L7=SUM(O7:Z7) -> TRUE | AB7: =ROUND(L7/K7,4) -> 0.4105 | AC7: =AB7=N7 -> FALSE | AD7: =K7=L7+M7 -> TRUE
A8: 6 | B8: 811/21 | C8: K | D8: GMINA PORAJ | E8: 2409042 | F8: myszkowski | G8: Budowa drogi gminnej w miejscowości Choroń-gmina Poraj do granicy miejscowości Biskupice - gmina Olsztyn | H8: B | I8: 0.99 | J8: lipiec 2022-lipiec 2024 | K8: 3271900 | L8: 1123695 | M8: 2148205 | N8: 0.5 | R8: 0 | S8: 1123695 | AA8: =L8=SUM(O8:Z8) -> TRUE | AB8: =ROUND(L8/K8,4) -> 0.3434 | AC8: =AB8=N8 -> FALSE | AD8: =K8=L8+M8 -> TRUE
A9: 7 | B9: 841/21 | C9: K | D9: MIASTO CHORZÓW | E9: 2463011 | F9: Chorzów | G9: Przebudowa ul. Władysława Truchana na odcinku od ul. Sienkiewicza do ul. Strzelców Bytomskich w Chorzowie | H9: P | I9: 0.61 | J9: czerwiec 2022-październik 2024 | K9: 10990137 | L9: 3975878.5 | M9: 7014258.4 | N9: 0.5 | R9: 1000000 | S9: 1500000 | T9: 1475878.5 | AA9: =L9=SUM(O9:Z9) -> TRUE | AB9: =ROUND(L9/K9,4) -> 0.3618 | AC9: =AB9=N9 -> FALSE | AD9: =K9=L9+M9 -> TRUE
A10: 8 | B10: 1014/22 | C10: K | D10: GMINA BĘDZIN | E10: 2401011 | F10: będziński | G10: Przebudowa dróg gminnych 300003S oraz 300019S, 300094S, przebudowa ciągów pieszych, parkingu, zatoki postojowej, oświetlenia obiektów infrastruktury technicznej w pasie drogowym ulic Śmigielskiego, Sznajdera oraz Rewolucjonistów | H10: P | I10: 2.165 | J10: marzec 2023-wrzesień 2024 | K10: 9000000 | L10: 3000000 | M10: 6000000 | N10: 0.5 | S10: 1500000 | T10: 1500000 | AA10: =L10=SUM(O10:Z10) -> TRUE | AB10: =ROUND(L10/K10,4) -> 0.3333 | AC10: =AB10=N10 -> FALSE | AD10: =K10=L10+M10 -> TRUE
A11: 9 | B11: 993/22 | C11: K | D11: GMINA GOLESZÓW | E11: 2403072 | F11: cieszyński | G11: Rozbudowa ulicy Wielodroga w Puńcowie na odcinku 1,5 km | H11: B | I11: 1.415 | J11: październik 2023-październik 2026 | K11: =L11+M11 -> 8105811 | L11: =S11+T11+U11+V11 -> 4052905.5 | M11: 4052905.5 | N11: 0.5 | S11: 0 | T11: 1500000 | U11: 1500000 | V11: 1052905.5 | AA11: =L11=SUM(O11:Z11) -> TRUE | AB11: =ROUND(L11/K11,4) -> 0.5 | AC11: =AB11=N11 -> TRUE | AD11: =K11=L11+M11 -> TRUE
A12: 10 | B12: 972/22 | C12: K | D12: MIASTO SOSNOWIEC | E12: 2475011 | F12: Sosnowiec | G12: Budowa drogi łączącej ul. Wiązową z ul. Gospodarczą w Sosnowcu wraz z przebudową istniejącej części ul. Gospodarczej oraz przebudową ul. Siennej | H12: P | I12: 0.76 | J12: styczeń 2023-wrzesień 2024 | K12: 6368770 | L12: 2992983 | M12: 3375787 | N12: 0.5 | S12: 150183 | T12: 2842800 | AA12: =L12=SUM(O12:Z12) -> TRUE | AB12: =ROUND(L12/K12,4) -> 0.4699 | AC12: =AB12=N12 -> FALSE | AD12: =K12=L12+M12 -> TRUE
A13: 11 | B13: 941/22 | C13: K | D13: GMINA RACIBÓRZ | E13: 2411011 | F13: raciborski | G13: Przebudowa ul. Ks. Stanisława Staszica w Raciborzu | H13: P | I13: 0.395 | J13: maj 2023-październik 2024 | K13: 5260678.5 | L13: =S13+T13 -> 2630339.2 | M13: =K13-L13 -> 2630339.2 | N13: 0.5 | S13: 1330194.5 | T13: 1300144.7 | AA13: =L13=SUM(O13:Z13) -> TRUE | AB13: =ROUND(L13/K13,4) -> 0.5 | AC13: =AB13=N13 -> TRUE | AD13: =K13=L13+M13 -> TRUE
A14: 12 | B14: 974/22 | C14: K | D14: GMINA BORONÓW | E14: 2407022 | F14: lubliniecki | G14: Przebudowa ul. Nadrzecznej wraz z oświetleniem w Boronowie | H14: P | I14: 0.425 | J14: marzec 2023-listopad 2024 | K14: 1971606.2 | L14: =S14+T14 -> 985803.12 | M14: =K14-L14 -> 985803.13 | N14: 0.5 | S14: 5000 | T14: 980803.12 | AA14: =L14=SUM(O14:Z14) -> TRUE | AB14: =ROUND(L14/K14,4) -> 0.5 | AC14: =AB14=N14 -> TRUE | AD14: =K14=L14+M14 -> TRUE
A15: 13 | B15: 963/22 | C15: K | D15: GMINA WILKOWICE | E15: 2402102 | F15: bielski | G15: Przebudowa ul. Sportowej oraz rozbudowa ul. Do Lasku w formule zaprojektuj-wybuduj | H15: B | I15: 0.806 | J15: maj 2023-czerwiec 2026 | K15: 5637987 | L15: 2818993.5 | M15: 2818993.5 | N15: 0.5 | S15: 20000 | T15: 65165 | U15: 1830991 | V15: 902837.48 | AA15: =L15=SUM(O15:Z15) -> TRUE | AB15: =ROUND(L15/K15,4) -> 0.5 | AC15: =AB15=N15 -> TRUE | AD15: =K15=L15+M15 -> TRUE
A16: 14 | B16: 947/22 | C16: K | D16: GMINA PSZCZYNA | E16: 2410053 | F16: pszczyński | G16: Rozbudowa ul. Dygasińskiego i ul. Wczasowej w Łące | H16: B | I16: 1.135 | J16: marzec 2023-październik 2024 | K16: 3880545.8 | L16: 1858130.5 | M16: 2022415.3 | N16: 0.5 | S16: 929065 | T16: 929065.5 | AA16: =L16=SUM(O16:Z16) -> TRUE | AB16: =ROUND(L16/K16,4) -> 0.4788 | AC16: =AB16=N16 -> FALSE | AD16: =K16=L16+M16 -> TRUE
A17: 15 | B17: 939/22 | C17: K | D17: MIASTO BIELSKO-BIAŁA | E17: 2461011 | F17: Bielsko-Biała | G17: Rozbudowa ul. Pocztowej i ul. Startowej w Bielsku-Białej - etap 2 | H17: B | I17: 1.02 | J17: czerwiec 2023-grudzień 2024 | K17: 9198556.2 | L17: 4599278.1 | M17: 4599278.1 | N17: 0.5 | S17: 2000000 | T17: 2599278.1 | AA17: =L17=SUM(O17:Z17) -> TRUE | AB17: =ROUND(L17/K17,4) -> 0.5 | AC17: =AB17=N17 -> TRUE | AD17: =K17=L17+M17 -> TRUE
A18: 16 | B18: 944/22 | C18: K | D18: MIASTO RYBNIK | E18: 2473011 | F18: Rybnik | G18: Przebudowa ul. Niewiadomskiej na odcinku od skrzyżowania z ul. Raciborską (DW 935) do granicy miasta | H18: P | I18: 0.893 | J18: czerwiec 2023-lipiec 2024 | K18: 7668716.4 | L18: 3390951 | M18: 4277765.4 | N18: 0.5 | S18: 1500000 | T18: 1890951 | AA18: =L18=SUM(O18:Z18) -> TRUE | AB18: =ROUND(L18/K18,4) -> 0.4422 | AC18: =AB18=N18 -> FALSE | AD18: =K18=L18+M18 -> TRUE
A19: 17 | B19: 987/22 | C19: K | D19: GMINA RADZIONKÓW | E19: 2413031 | F19: tarnogórski | G19: Rozbudowa drogi łączącej ul. Księżogórską z ul. M. Dąbrowskiej w Radzionkowie | H19: B | I19: 0.338 | J19: czerwiec 2023-grudzień 2024 | K19: 4160696.3 | L19: =S19+T19 -> 2080348 | M19: =K19-L19 -> 2080348.3 | N19: 0.5 | S19: 1000000 | T19: 1080348 | AA19: =L19=SUM(O19:Z19) -> TRUE | AB19: =ROUND(L19/K19,4) -> 0.5 | AC19: =AB19=N19 -> TRUE | AD19: =K19=L19+M19 -> TRUE
A20: 18 | B20: 912/22 | C20: K | D20: GMINA TARNOWSKIE GÓRY | E20: 2413041 | F20: tarnogórski | G20: Budowa chodnika przy ul. Staffa w Tarnowskich Górach | H20: B | I20: 0.731 | J20: marzec 2023-grudzień 2024 | K20: 1976656.9 | L20: 611456 | M20: 1365200.9 | N20: 0.5 | S20: 568308 | T20: 43148 | AA20: =L20=SUM(O20:Z20) -> TRUE | AB20: =ROUND(L20/K20,4) -> 0.3093 | AC20: =AB20=N20 -> FALSE | AD20: =K20=L20+M20 -> TRUE
A21: 19 | B21: 916/22 | C21: K | D21: GMINA PYSKOWICE | E21: 2405021 | F21: gliwicki | G21: Przebudowa ulicy gen. Władysława Sikorskiego | H21: P | I21: 1.355 | J21: wrzesień 2023-sierpień 2025 | K21: =L21+M21 -> 8540880.8 | L21: 4270440.4 | M21: 4270440.4 | N21: 0.5 | S21: 100000 | T21: 3431924.5 | U21: 738515.92 | AA21: =L21=SUM(O21:Z21) -> TRUE | AB21: =ROUND(L21/K21,4) -> 0.5 | AC21: =AB21=N21 -> TRUE | AD21: =K21=L21+M21 -> TRUE
A22: 20 | B22: 998/22 | D22: GMINA CIASNA (rezygnacja Wnioskodawcy z realizacji zadania) | E22: 2407032 | F22: lubliniecki | G22: Budowa kompletnej sieci dróg gminnych nowopowstałej strefy mieszkalno-usługowej położonej od ulicy Lipowej do linii lasu w miejscowości Ciasna gmina Ciasna | AA22: =L22=SUM(O22:Z22) -> TRUE | AB22: =ROUND(L22/K22,4) -> #DIV/0! | AC22: =AB22=N22 -> #DIV/0! | AD22: =K22=L22+M22 -> TRUE
A23: 21 | B23: 1013/22 | C23: K | D23: MIASTO CHORZÓW | E23: 2463011 | F23: Chorzów | G23: Budowa przedłużenia ulicy Bojarskiego od skrzyżowania z ul. Siemianowicką do ul. Bytkowskiej | H23: B | I23: 0.467 | J23: grudzień 2023-grudzień 2025 | K23: =L23+M23 -> 7600681.9 | L23: =S23+T23+U23 -> 3800340.9 | M23: 3800340.9 | N23: 0.5 | S23: 45000 | T23: 2500000 | U23: 1255340.9 | AA23: =L23=SUM(O23:Z23) -> TRUE | AB23: =ROUND(L23/K23,4) -> 0.5 | AC23: =AB23=N23 -> TRUE | AD23: =K23=L23+M23 -> TRUE
A24: 22 | B24: 1012/22 | C24: K | D24: GMINA PSARY | E24: 2401062 | F24: będziński | G24: Przebudowa drogi gminnej ul. Głównej w Sarnowie | H24: P | I24: 0.84 | J24: listopad 2023-grudzień 2024 | K24: 2408627 | L24: =S24+T24 -> 1204313.5 | M24: =K24-L24 -> 1204313.5 | N24: 0.5 | S24: 750000 | T24: 454313.52 | AA24: =L24=SUM(O24:Z24) -> TRUE | AB24: =ROUND(L24/K24,4) -> 0.5 | AC24: =AB24=N24 -> TRUE | AD24: =K24=L24+M24 -> TRUE
A25: 23 | B25: 976/22 | C25: K | D25: MIASTO BYTOM | E25: 2462011 | F25: Bytom | G25: Przebudowa ulicy Tysiąclecia w Bytomiu | H25: P | I25: 0.943 | J25: lipiec 2023-listopad 2024 | K25: 3206303.2 | L25: =S25+T25 -> 1603151.6 | M25: =K25-L25 -> 1603151.6 | N25: 0.5 | S25: 683000 | T25: 920151.62 | AA25: =L25=SUM(O25:Z25) -> TRUE | AB25: =ROUND(L25/K25,4) -> 0.5 | AC25: =AB25=N25 -> TRUE | AD25: =K25=L25+M25 -> TRUE
A26: 24 | B26: 992/22 | D26: GMINA GOLESZÓW (rezygnacja Wnioskodawcy z realizacji zadania) | E26: 2403072 | F26: cieszyński | G26: Przebudowa drogi gminnej ul. Potoczki w Bażanowicach o długości 0,77 km | AA26: =L26=SUM(O26:Z26) -> TRUE | AB26: =ROUND(L26/K26,4) -> #DIV/0! | AC26: =AB26=N26 -> #DIV/0! | AD26: =K26=L26+M26 -> TRUE
A27: 25 | B27: 1006/22 | D27: GMINA ORZESZE (rezygnacja Wnioskodawcy z realizacji zadania) | E27: 2408031 | F27: mikołowski | G27: Budowa odcinka ul. Zacisze w Orzeszu-Zawiści wraz z oświetleniem | AA27: =L27=SUM(O27:Z27) -> TRUE | AB27: =ROUND(L27/K27,4) -> #DIV/0! | AC27: =AB27=N27 -> #DIV/0! | AD27: =K27=L27+M27 -> TRUE
A28: 26 | B28: 1520/23 | C28: N | D28: GMINA KOZIEGŁOWY | E28: 2409023 | F28: myszkowski | G28: Przebudowa drogi gminnej Nr 595009S ul. Długa w m. Rzeniszów i Wojsławice | H28: P | I28: 1.774 | J28: kwiecień 2024-październik 2024 | K28: =L28+M28 -> 5120774.7 | L28: 2816426 | M28: 2304348.6 | N28: 0.55 | T28: 2816426 | AA28: =L28=SUM(O28:Z28) -> TRUE | AB28: =ROUND(L28/K28,4) -> 0.55 | AC28: =AB28=N28 -> TRUE | AD28: =K28=L28+M28 -> TRUE
A29: 27 | B29: 1513/23 | C29: W | D29: GMINA KONIECPOL | E29: 2404063 | F29: częstochowski | G29: Przebudowa drogi gminnej - ul. Szkolnej w Koniecpolu | H29: P | I29: 2.268 | J29: kwiecień 2024-grudzień 2026 | K29: 11884144 | L29: 6536279.2 | M29: =K29-L29 -> 5347864.8 | N29: 0.55 | T29: 2317274.3 | U29: 1509462.4 | V29: 2709542.6 | AA29: =L29=SUM(O29:Z29) -> TRUE | AB29: =ROUND(L29/K29,4) -> 0.55 | AC29: =AB29=N29 -> TRUE | AD29: =K29=L29+M29 -> TRUE
A30: 28 | B30: 1475/23 | C30: N | D30: GMINA WODZISŁAW ŚLĄSKI | E30: 2415041 | F30: wodzisławski | G30: Przebudowa drogi na terenach po KWK 1 Maja wraz z oświetleniem i odwodnieniem w Wodzisławiu Śląskim | H30: P | I30: 0.635 | J30: marzec 2024-luty 2025 | K30: 3156463.2 | L30: 1893877.9 | M30: =K30-L30 -> 1262585.3 | N30: 0.6 | T30: =L30 -> 1893877.9 | AA30: =L30=SUM(O30:Z30) -> TRUE | AB30: =ROUND(L30/K30,4) -> 0.6 | AC30: =AB30=N30 -> TRUE | AD30: =K30=L30+M30 -> TRUE
A31: 29 | B31: 1435/23 | C31: W | D31: GMINA PAWŁOWICE | E31: 2410042 | F31: pszczyński | G31: Rozbudowa ul. Pieczarkowej, przebudowa odcinka ul. Polnej oraz budowa drogi gminnej równoległej do ul. Polnej w Pawłowicach | H31: B | I31: 1.006 | J31: luty 2024-październik 2025 | K31: 10594800 | L31: 5297400 | M31: =K31-L31 -> 5297400 | N31: 0.5 | T31: 2500000 | U31: 2797400 | AA31: =L31=SUM(O31:Z31) -> TRUE | AB31: =ROUND(L31/K31,4) -> 0.5 | AC31: =AB31=N31 -> TRUE | AD31: =K31=L31+M31 -> TRUE
A32: 30 | B32: 1451/23 | C32: W | D32: GMINA CZELADŹ | E32: 2401021 | F32: będziński | G32: Budowa obwodnicy osiedla Rojce w Czeladzi - etap I | H32: B | I32: 0.573 | J32: marzec 2024-październik 2025 | K32: 3937546 | L32: 1968773 | M32: =K32-L32 -> 1968773 | N32: 0.5 | T32: 500000 | U32: 1468773 | AA32: =L32=SUM(O32:Z32) -> TRUE | AB32: =ROUND(L32/K32,4) -> 0.5 | AC32: =AB32=N32 -> TRUE | AD32: =K32=L32+M32 -> TRUE
A33: 31 | B33: 1418/23 | D33: GMINA MIEDŹNO (rezygnacja Wnioskodawcy z realizacji zadania) | E33: 2406042 | F33: kłobucki | G33: Rozbudowa DG 656014S w miejscowości Kołaczkowice Duże, etap I i etap II , gm. Miedźno | AA33: =L33=SUM(O33:Z33) -> TRUE | AB33: =ROUND(L33/K33,4) -> #DIV/0! | AC33: =AB33=N33 -> #DIV/0! | AD33: =K33=L33+M33 -> TRUE
A34: 32 | B34: 1446/23 | C34: W | D34: GMINA PSARY | E34: 2401062 | F34: będziński | G34: Rozbudowa ulicy Kolejowej w Psarach | H34: B | I34: 1.8 | J34: listopad 2024-listopad 2026 | K34: 8410380 | L34: 4205190 | M34: =K34-L34 -> 4205190 | N34: 0.5 | T34: 600 | U34: 2145000 | V34: 2059590 | AA34: =L34=SUM(O34:Z34) -> TRUE | AB34: =ROUND(L34/K34,4) -> 0.5 | AC34: =AB34=N34 -> TRUE | AD34: =K34=L34+M34 -> TRUE
A35: 33 | B35: 1424/23 | C35: W | D35: GMINA OLSZTYN | E35: 2404122 | F35: częstochowski | G35: Budowa drogi gminnej położonej w miejscowości Olsztyn, ul. Bukowa | H35: B | I35: 0.585 | J35: marzec 2024-grudzień 2026 | K35: 3182000 | L35: 1591000 | M35: =K35-L35 -> 1591000 | N35: 0.5 | T35: 341000 | U35: 750000 | V35: 500000 | AA35: =L35=SUM(O35:Z35) -> TRUE | AB35: =ROUND(L35/K35,4) -> 0.5 | AC35: =AB35=N35 -> TRUE | AD35: =K35=L35+M35 -> TRUE
A36: 34 | B36: 1527/23 | C36: W | D36: GMINA RACIBÓRZ | E36: 2411011 | F36: raciborski | G36: Przebudowa ul. Babickiej w Raciborzu | H36: P | I36: 1.032 | J36: luty 2024-październik 2025 | K36: 4869618.1 | L36: =T36+U36 -> 2434809 | M36: =K36-L36 -> 2434809 | N36: 0.5 | T36: 1271452 | U36: 1163357 | AA36: =L36=SUM(O36:Z36) -> TRUE | AB36: =ROUND(L36/K36,4) -> 0.5 | AC36: =AB36=N36 -> TRUE | AD36: =K36=L36+M36 -> TRUE
A37: 35 | B37: 1483/23 | C37: W | D37: GMINA SKOCZÓW | E37: 2403103 | F37: cieszyński | G37: Przebudowa fragmentu dróg gminnych ul. Wiślańskiej w Skoczowie i ul. Stara Droga w Harbutowicach wraz z budową chodnika, kanalizacji deszczowej oraz oświetlenia ulicznego | H37: P | I37: 0.617 | J37: sierpień 2024-listopad 2025 | K37: 5895278 | L37: 3242402.9 | M37: =K37-L37 -> 2652875.1 | N37: 0.55 | T37: 1100000 | U37: 2142402.9 | AA37: =L37=SUM(O37:Z37) -> TRUE | AB37: =ROUND(L37/K37,4) -> 0.55 | AC37: =AB37=N37 -> TRUE | AD37: =K37=L37+M37 -> TRUE
A38: 36 | B38: 1476/23 | C38: W | D38: GMINA RADZIONKÓW | E38: 2413031 | F38: tarnogórski | G38: Przebudowa (na odcinku od ul. Wandy do ul. M. Dąbrowskiej) oraz rozbudowa (na odcinku od ul. M. Dąbrowskiej do ul. Ciepłowniczej) ul. N. Żołnierza wraz z budową ul. Ciepłowniczej w Radzionkowie | H38: B | I38: 1.826 | J38: kwiecień 2024-wrzesień 2026 | K38: 14641682 | L38: 8052925.1 | M38: =K38-L38 -> 6588756.9 | N38: 0.55 | T38: 1650000 | U38: 2750000 | V38: 3652925.1 | AA38: =L38=SUM(O38:Z38) -> TRUE | AB38: =ROUND(L38/K38,4) -> 0.55 | AC38: =AB38=N38 -> TRUE | AD38: =K38=L38+M38 -> TRUE
A39: 37 | B39: 1528/23 | C39: W | D39: GMINA RACIBÓRZ | E39: 2411011 | F39: raciborski | G39: Przebudowa i budowa drogi dojazdowej wraz z rondem do terenów inwestycyjnych położonych przy ul. Mikołowskiej w Raciborzu - uzbrojenie terenów inwestycyjnych przy ul. Mikołowskiej w Raciborzu | H39: P | I39: 0.625 | J39: marzec 2024-październik 2025 | K39: 5067546 | L39: 2533773 | M39: =K39-L39 -> 2533773 | N39: 0.5 | T39: 1266886.5 | U39: 1266886.5 | AA39: =L39=SUM(O39:Z39) -> TRUE | AB39: =ROUND(L39/K39,4) -> 0.5 | AC39: =AB39=N39 -> TRUE | AD39: =K39=L39+M39 -> TRUE
A40: 38 | B40: 1485/23 | C40: N | D40: GMINA PYSKOWICE | E40: 2405021 | F40: gliwicki | G40: Budowa ulicy Mieszka I, al. Jana Pawła II, ulicy Jana III Sobieskiego i ulicy Stefana Batorego w Pyskowicach | H40: B | I40: 1.573 | J40: czerwiec 2024-maj 2025 | K40: 4041641 | L40: 2222902.6 | M40: =K40-L40 -> 1818738.4 | N40: 0.55 | T40: 2222902.6 | AA40: =L40=SUM(O40:Z40) -> TRUE | AB40: =ROUND(L40/K40,4) -> 0.55 | AC40: =AB40=N40 -> TRUE | AD40: =K40=L40+M40 -> TRUE
A41: 39 | B41: 1473/23 | C41: W | D41: MIASTO DĄBROWA GÓRNICZA | E41: 2465011 | F41: Dąbrowa Górnicza | G41: Przebudowa pasa drogowego ulicy Wojska Polskiego i Staszica w Dąbrowie Górniczej | H41: P | I41: 1.035 | J41: lipiec 2024-grudzień 2025 | K41: 8756877.1 | L41: 4378438.5 | M41: 4378438.5 | N41: 0.5 | T41: 1500000 | U41: 2878438.5 | AA41: =L41=SUM(O41:Z41) -> TRUE | AB41: =ROUND(L41/K41,4) -> 0.5 | AC41: =AB41=N41 -> TRUE | AD41: =K41=L41+M41 -> TRUE
A42: 40 | B42: 1497/23* | C42: W | D42: GMINA JASIENICA | E42: 2402052 | F42: bielski | G42: Rozbudowa układu drogowego w sąsiedztwie węzła drogi ekspresowej S52 w Jasienicy - etap I | H42: B | I42: 0.131 | J42: marzec 2024-listopad 2025 | K42: 3750178.5 | L42: =T42+U42 -> 1231694.9 | M42: 2518483.5 | N42: 0.55 | T42: 169125 | U42: =1062569.95 -> 1062569.9 | AA42: =L42=SUM(O42:Z42) -> TRUE | AB42: =ROUND(L42/K42,4) -> 0.3284 | AC42: =AB42=N42 -> FALSE | AD42: =K42=L42+M42 -> TRUE
A43: 41 | B43: 1516/23* | C43: W | D43: GMINA TARNOWSKIE GÓRY | E43: 2413041 | F43: tarnogórski | G43: Rozbudowa układu drogowego ulic: Cicha, Prosta, Skośna, Rudna w Tarnowskich Górach | H43: B | I43: 1.347 | J43: marzec 2024-grudzień 2025 | K43: 8958933 | L43: =T43+U43 -> 2196393 | M43: =K43-L43 -> 6762540 | N43: 0.5 | T43: 2196393 | U43: 0 | AA43: =L43=SUM(O43:Z43) -> TRUE | AB43: =ROUND(L43/K43,4) -> 0.2452 | AC43: =AB43=N43 -> FALSE | AD43: =K43=L43+M43 -> TRUE
A44: 42 | B44: 1403/23* | C44: W | D44: GMINA LUBLINIEC | E44: 2407011 | F44: lubliniecki | G44: Przebudowa drogi gminnej ul. Spokojnej oraz ul. Emila Cyrana w Lublińcu wraz z przebudową i rozbudową kanalizacji deszczowej, przebudową obiektu mostowego na rzece Lublinicy w ramach zadania inwestycyjnego pn: "Przebudowa układu drogowego na terenie Gminy Luliniec - etap II " | H44: P | I44: 1.096 | J44: marzec 2024-sierpień 2025 | K44: 7420677.4 | L44: 3318177 | M44: 4102500.4 | N44: 0.5 | T44: 3318177 | U44: 0 | AA44: =L44=SUM(O44:Z44) -> TRUE | AB44: =ROUND(L44/K44,4) -> 0.4472 | AC44: =AB44=N44 -> FALSE | AD44: =K44=L44+M44 -> TRUE
A45: 43 | B45: 1444/23 | D45: GMINA BRENNA (rezygnacja Wnioskodawcy z realizacji zadania) | E45: 2403042 | F45: cieszyński | G45: Rozbudowa ul. Hołcyna w Brennej | AA45: =L45=SUM(O45:Z45) -> TRUE | AB45: =ROUND(L45/K45,4) -> #DIV/0! | AC45: =AB45=N45 -> #DIV/0! | AD45: =K45=L45+M45 -> TRUE
A46: 44 | B46: 1462/23 | D46: GMINA MYSZKÓW (rezygnacja Wnioskodawcy z realizacji zadania) | E46: 2409011 | F46: myszkowski | G46: Budowa drogi wraz z rondem w ciągu drogi gminnej nr 410133S w ul. Pięknej | AA46: =L46=SUM(O46:Z46) -> TRUE | AB46: =ROUND(L46/K46,4) -> #DIV/0! | AC46: =AB46=N46 -> #DIV/0! | AD46: =K46=L46+M46 -> TRUE
A47: 45 | B47: 1426/23 | C47: N | D47: GMINA KRZYŻANOWICE | E47: 2411042 | F47: raciborski | G47: Przebudowa ul. Rzemieślniczej i Wojnowskiej w Bieńkowicach | H47: P | I47: 0.909 | J47: marzec 2024-listopad 2024 | K47: 2869784.6 | L47: 1721870.8 | M47: =K47-L47 -> 1147913.9 | N47: 0.6 | T47: 1721870.8 | AA47: =L47=SUM(O47:Z47) -> TRUE | AB47: =ROUND(L47/K47,4) -> 0.6 | AC47: =AB47=N47 -> TRUE | AD47: =K47=L47+M47 -> TRUE
A48: 46 | B48: 1438/23* | C48: W | D48: GMINA KOZY | E48: 2402072 | F48: bielski | G48: Rozbudowa ul. Panienki w Kozach | H48: B | I48: 0.63 | J48: sierpień 2024-październik 2025 | K48: 4374534 | L48: =T48+U48 -> 1000000 | M48: =K48-L48 -> 3374534 | N48: 0.5 | T48: 1000000 | U48: 0 | AA48: =L48=SUM(O48:Z48) -> TRUE | AB48: =ROUND(L48/K48,4) -> 0.2286 | AC48: =AB48=N48 -> FALSE | AD48: =K48=L48+M48 -> TRUE
A49: 47 | B49: 1526/23 | C49: N | D49: GMINA WOJKOWICE | E49: 2401031 | F49: będziński | G49: Przebudowa drogi gminnej nr 634013S ul. Morcinka w Wojkowicach | H49: P | I49: 0.821 | J49: kwiecień 2024-maj 2025 | K49: 5032646.4 | L49: 3019587.8 | M49: =K49-L49 -> 2013058.6 | N49: 0.6 | T49: 3019587.8 | AA49: =L49=SUM(O49:Z49) -> TRUE | AB49: =ROUND(L49/K49,4) -> 0.6 | AC49: =AB49=N49 -> TRUE | AD49: =K49=L49+M49 -> TRUE
A50: 48 | B50: 1470/23 | C50: N | D50: GMINA LELÓW | E50: 2404092 | F50: częstochowski | G50: Przebudowa drogi gminnej nr 689014 S w m. Biała Wielka | H50: P | I50: 2.8 | J50: kwiecień 2024-październik 2024 | K50: 2704291 | L50: 1412895 | M50: =K50-L50 -> 1291396 | N50: 0.55 | T50: 1412895 | AA50: =L50=SUM(O50:Z50) -> TRUE | AB50: =ROUND(L50/K50,4) -> 0.5225 | AC50: =AB50=N50 -> FALSE | AD50: =K50=L50+M50 -> TRUE
A51: 49 | B51: 1421/23* | C51: W | D51: GMINA GOLESZÓW | E51: 2403072 | F51: cieszyński | G51: Przebudowa odcinka drogi gminnej ul. Potoczki w Bażanowicach o długości około 0,77km | H51: P | I51: 0.77 | J51: marzec 2024-styczeń 2026 | K51: 6144058 | L51: =T51+U51+V51 -> 1871775.9 | M51: =K51-L51 -> 4272282 | N51: 0.55 | T51: 496775.95 | U51: 0 | V51: 1375000 | AA51: =L51=SUM(O51:Z51) -> TRUE | AB51: =ROUND(L51/K51,4) -> 0.3046 | AC51: =AB51=N51 -> FALSE | AD51: =K51=L51+M51 -> TRUE
A52: 50 | B52: 1471/23 | C52: N | D52: MIASTO ŻORY | E52: 2479011 | F52: Żory | G52: Budowa dróg od Ronda Raciborskiego do skrzyżowania z ulicą Reja i do skrzyżowania z ulicą Rudzką w Żorach razem z odwodnieniem i kanałem technologicznym | H52: B | I52: 0.693 | J52: sierpień 2024 - lipiec 2025 | K52: 5228203 | L52: 2614101.5 | M52: =K52-L52 -> 2614101.5 | N52: 0.5 | T52: 2614101.5 | AA52: =L52=SUM(O52:Z52) -> TRUE | AB52: =ROUND(L52/K52,4) -> 0.5 | AC52: =AB52=N52 -> TRUE | AD52: =K52=L52+M52 -> TRUE
A53: 51 | B53: 1498/23* | C53: W | D53: GMINA JASIENICA | E53: 2402052 | F53: bielski | G53: Rozbudowa drogi publicznej 490122S w sołectwach Biery i Świętoszówka w Gminie Jasienica | H53: B | I53: 1.534 | J53: kwiecień 2024-październik 2025 | K53: =L53+M53 -> 7876790.1 | L53: =T53+U53 -> 550000 | M53: 7326790.1 | N53: 0.55 | T53: 550000 | U53: 0 | AA53: =L53=SUM(O53:Z53) -> TRUE | AB53: =ROUND(L53/K53,4) -> 0.0698 | AC53: =AB53=N53 -> FALSE | AD53: =K53=L53+M53 -> TRUE
A54: 52 | B54: 1477/23 | C54: N | D54: GMINA WĘGIERSKA GÓRKA | E54: 2417152 | F54: żywiecki | G54: Poprawa skomunikowania dróg gminnych z powiatowymi poprzez remont układu drogowego w miejscowości Cięcina | H54: R | I54: 4.065 | J54: czerwiec 2024-maj 2025 | K54: 2695997.9 | L54: 1617598 | M54: =K54-L54 -> 1078399.9 | N54: 0.6 | T54: =L54 -> 1617598 | AA54: =L54=SUM(O54:Z54) -> TRUE | AB54: =ROUND(L54/K54,4) -> 0.6 | AC54: =AB54=N54 -> TRUE | AD54: =K54=L54+M54 -> TRUE
A55: 53 | B55: 1469/23 | C55: N | D55: GMINA HERBY | E55: 2407042 | F55: lubliniecki | G55: Przebudowa drogi gminnej ul. E. Orzeszkowej w Herbach | H55: P | I55: 0.99 | J55: marzec 2024 - grudzień 2024 | K55: 1484887 | L55: 742443.5 | M55: =K55-L55 -> 742443.5 | N55: 0.5 | T55: 742443.5 | AA55: =L55=SUM(O55:Z55) -> TRUE | AB55: =ROUND(L55/K55,4) -> 0.5 | AC55: =AB55=N55 -> TRUE | AD55: =K55=L55+M55 -> TRUE
A56: 54 | B56: 1422/23 | C56: N | D56: GMINA IMIELIN | E56: 2414021 | F56: bieruńsko-lędziński | G56: Przebudowa drogi gminnej ul. J. Poniatowskiego (655038S) w Imielinie | H56: P | I56: 0.8 | J56: maj 2024-grudzien 2024 | K56: =L56+M56 -> 3899931.2 | L56: 3119945 | M56: 779986.25 | N56: 0.8 | T56: 3119945 | AA56: =L56=SUM(O56:Z56) -> TRUE | AB56: =ROUND(L56/K56,4) -> 0.8 | AC56: =AB56=N56 -> TRUE | AD56: =K56=L56+M56 -> TRUE
A57: 55 | B57: 1428/23 | D57: GMINA OŻAROWICE (rezygnacja Wnioskodawcy z realizacji zadania) | E57: 2413062 | F57: tarnogórski | G57: Budowa dróg gminnych ul. Spacerowa i Grabowa i przebudowa drogi gminnej ul. Jasionek | AA57: =L57=SUM(O57:Z57) -> TRUE | AB57: =ROUND(L57/K57,4) -> #DIV/0! | AC57: =AB57=N57 -> #DIV/0! | AD57: =K57=L57+M57 -> TRUE
A58: 56 | B58: 1493/23* | C58: W | D58: GMINA BORONÓW | E58: 2407022 | F58: lubliniecki | G58: Przebudowa ul. Niwskiej w Boronowie wraz z oświetleniem | H58: P | I58: 0.85 | J58: styczeń 2024-październik 2025 | K58: 4051901 | L58: =T58+U58+V58 -> 2500 | M58: =K58-L58 -> 4049401 | N58: 0.5 | T58: 2500 | U58: 0 | AA58: =L58=SUM(O58:Z58) -> TRUE | AB58: =ROUND(L58/K58,4) -> 0.0006 | AC58: =AB58=N58 -> FALSE | AD58: =K58=L58+M58 -> TRUE
A59: 57 | B59: 1492/23 | C59: N | D59: MIASTO ZABRZE | E59: 2478011 | F59: Zabrze | G59: Budowa łącznika ul. Kossaka wraz z przebudową ul. Kossaka, Drzymały | H59: P | I59: 0.411 | J59: kwiecień 2024-marzec 2025 | K59: 1364489 | L59: 750468.95 | M59: =K59-L59 -> 614020.05 | N59: 0.55 | T59: 750468.95 | AA59: =L59=SUM(O59:Z59) -> TRUE | AB59: =ROUND(L59/K59,4) -> 0.55 | AC59: =AB59=N59 -> TRUE | AD59: =K59=L59+M59 -> TRUE
A60: 58 | B60: 1506/23 | C60: N | D60: GMINA POCZESNA | E60: 2404132 | F60: częstochowski | G60: Przebudowa drogi gminnej ulicy Tkackiej w m. Huta Stara A, gm Poczesna | H60: P | I60: 0.66 | J60: marzec 2024-grudzień 2024 | K60: =L60+M60 -> 549707.33 | L60: 263965.5 | M60: 285741.83 | N60: 0.5 | T60: 263965.5 | AA60: =L60=SUM(O60:Z60) -> TRUE | AB60: =ROUND(L60/K60,4) -> 0.4802 | AC60: =AB60=N60 -> FALSE | AD60: =K60=L60+M60 -> TRUE
A61: 59 | B61: 1507/23 | C61: N | D61: GMINA POCZESNA | E61: 2404132 | F61: częstochowski | G61: Przebudowa drogi gminnej ulicy Jaśminowej w m. Huta Stara B, gmina Poczesna | H61: P | I61: 0.396 | J61: marzec 2024-grudzień 2024 | K61: =L61+M61 -> 298495.14 | L61: 149247.5 | M61: 149247.64 | N61: 0.5 | T61: 149247.5 | AA61: =L61=SUM(O61:Z61) -> TRUE | AB61: =ROUND(L61/K61,4) -> 0.5 | AC61: =AB61=N61 -> TRUE | AD61: =K61=L61+M61 -> TRUE
A62: 60 | B62: 1482/23 | C62: N | D62: GMINA SKOCZÓW | E62: 2403103 | F62: cieszyński | G62: Przebudowa ulicy bocznej od ul. Góreckiej w Skoczowie na odcinku od skrzyżowania z ul. Górecką do granicy z Pogórzem | H62: P | I62: 0.327 | J62: wrzesień 2024-sierpień 2025 | K62: 2440026 | L62: 1342014.3 | M62: =K62-L62 -> 1098011.7 | N62: 0.55 | T62: 1342014.3 | AA62: =L62=SUM(O62:Z62) -> TRUE | AB62: =ROUND(L62/K62,4) -> 0.55 | AC62: =AB62=N62 -> TRUE | AD62: =K62=L62+M62 -> TRUE
A63: 61 | B63: 1517/23 | C63: N | D63: MIASTO SOSNOWIEC | E63: 2475011 | F63: Sosnowiec | G63: Remont fragmentu ul. Suchej, Małobądzkiej, Lwowskiej i Gospodarczej w Sosnowcu | H63: R | I63: 0.989 | J63: czerwiec 2024-maj 2025 | K63: 2520000 | L63: 1260000 | M63: =K63-L63 -> 1260000 | N63: 0.5 | T63: 1260000 | AA63: =L63=SUM(O63:Z63) -> TRUE | AB63: =ROUND(L63/K63,4) -> 0.5 | AC63: =AB63=N63 -> TRUE | AD63: =K63=L63+M63 -> TRUE
A64: 62 | B64: 1472/23 | C64: N | D64: GMINA DĘBOWIEC | E64: 2403062 | F64: cieszyński | G64: Przebudowa drogi gminnej - ul. Osiedlowa w Kostkowicach | H64: P | I64: 0.91 | J64: styczeń 2024-grudzień 2024 | K64: =L64+M64 -> 737409.61 | L64: 442445.76 | M64: 294963.85 | N64: 0.6 | T64: 442445.76 | AA64: =L64=SUM(O64:Z64) -> TRUE | AB64: =ROUND(L64/K64,4) -> 0.6 | AC64: =AB64=N64 -> TRUE | AD64: =K64=L64+M64 -> TRUE
A65: 63 | B65: 1450/23* | C65: W | D65: MIASTO RYBNIK | E65: 2473011 | F65: Rybnik | G65: Rozbudowa ul. Śniadeckiego na odcinku od ul. Patriotów do ul. Józefa Lompy w Rybniku | H65: B | I65: 0.264 | J65: czerwiec 2024-lipiec 2025 | K65: 3168730 | L65: =T65+U65 -> 792182.5 | M65: =K65-L65 -> 2376547.5 | N65: 0.5 | T65: 792182.5 | U65: 0 | AA65: =L65=SUM(O65:Z65) -> TRUE | AB65: =ROUND(L65/K65,4) -> 0.25 | AC65: =AB65=N65 -> FALSE | AD65: =K65=L65+M65 -> TRUE
A66: 64 | B66: 1440/23 | D66: MIASTO CHORZÓW (rezygnacja Wnioskodawcy z realizacji zadania) | E66: 2463011 | F66: Chorzów | G66: Rozbudowa ul. Astrów o drogę rowerową, na odcinku od ul. Gałeczki do "Parku Róż" | AA66: =L66=SUM(O66:Z66) -> TRUE | AB66: =ROUND(L66/K66,4) -> #DIV/0! | AC66: =AB66=N66 -> #DIV/0! | AD66: =K66=L66+M66 -> TRUE
A67: 65 | B67: 1442/23 | C67: N | D67: GMINA PILCHOWICE | E67: 2405042 | F67: gliwicki | G67: Przebudowa drogi gminnej ul. Spacerowej w Nieborowicach | H67: P | I67: 0.465 | J67: styczeń 2024-listopad 2024 | K67: 1976948 | L67: 988474 | M67: =K67-L67 -> 988474 | N67: 0.5 | T67: 988474 | AA67: =L67=SUM(O67:Z67) -> TRUE | AB67: =ROUND(L67/K67,4) -> 0.5 | AC67: =AB67=N67 -> TRUE | AD67: =K67=L67+M67 -> TRUE
A68: 66 | B68: 1459/23 | C68: N | D68: GMINA KNURÓW | E68: 2405011 | F68: gliwicki | G68: Budowa ul. Tęczowej w Knurowie | H68: B | I68: 0.451 | J68: kwiecień 2024-listopad 2024 | K68: 1897849.9 | L68: 1518279.9 | M68: =K68-L68 -> 379569.98 | N68: 0.8 | T68: 1518279.9 | AA68: =L68=SUM(O68:Z68) -> TRUE | AB68: =ROUND(L68/K68,4) -> 0.8 | AC68: =AB68=N68 -> TRUE | AD68: =K68=L68+M68 -> TRUE
A69: 67 | B69: 1460/23 | C69: N | D69: GMINA BOBROWNIKI | E69: 2401042 | F69: będziński | G69: Budowa drogi z odwodnieniem na ul. Bocianów w Bobrownikach | H69: B | I69: 0.516 | J69: kwiecień 2024-listopad 2024 | K69: 2123642 | L69: =ROUNDDOWN(K69*N69,2) -> 1698913.6 | M69: =K69-L69 -> 424728.4 | N69: 0.8 | T69: 1698913.6 | AA69: =L69=SUM(O69:Z69) -> TRUE | AB69: =ROUND(L69/K69,4) -> 0.8 | AC69: =AB69=N69 -> TRUE | AD69: =K69=L69+M69 -> TRUE
A70: 68 | B70: 1524/23 | C70: N | D70: GMINA OGRODZIENIEC | E70: 2416063 | F70: zawierciański | G70: Rozbudowa drogi gminnej - ul. Wschodnia w Ogrodzieńcu | H70: B | I70: 0.463 | J70: lipiec 2024-czerwiec 2025 | K70: 2025531 | L70: 1114042.1 | M70: =K70-L70 -> 911488.95 | N70: 0.55 | T70: 1114042.1 | AA70: =L70=SUM(O70:Z70) -> TRUE | AB70: =ROUND(L70/K70,4) -> 0.55 | AC70: =AB70=N70 -> TRUE | AD70: =K70=L70+M70 -> TRUE
A71: 69 | B71: 1500/23* | D71: GMINA ŁAZISKA GÓRNE (rezygnacja Wnioskodawcy z realizacji zadania) | E71: 2408011 | F71: mikołowski | G71: Przebudowa wybranych dróg gminnych na Osiedlu Ziętka: ul. Tulipanów, ul. Astrów w Łaziskach Górnych | AA71: =L71=SUM(O71:Z71) -> TRUE | AB71: =ROUND(L71/K71,4) -> #DIV/0! | AC71: =AB71=N71 -> #DIV/0! | AD71: =K71=L71+M71 -> TRUE
A72: 70 | B72: 1480/23 | C72: N | D72: GMINA ŁAZY | E72: 2416053 | F72: zawierciański | G72: Przebudowa ulicy Kościuszki w Ciągowicach | H72: P | I72: 0.35 | J72: marzec 2024-listopad 2024 | K72: 1098058.8 | L72: 658835.26 | M72: =K72-L72 -> 439223.51 | N72: 0.6 | T72: =L72 -> 658835.26 | AA72: =L72=SUM(O72:Z72) -> TRUE | AB72: =ROUND(L72/K72,4) -> 0.6 | AC72: =AB72=N72 -> TRUE | AD72: =K72=L72+M72 -> TRUE
A73: 71 | B73: 1423/23 | C73: N | D73: GMINA IMIELIN | E73: 2414021 | F73: bieruńsko-lędziński | G73: Przebudowa drogi gminnej ul. Józefa Hallera (655055S) w Imielinie | H73: P | I73: 0.83 | J73: maj 2024-grudzień 2024 | K73: 4018535 | L73: 2965746.4 | M73: 1052788.6 | N73: 0.8 | T73: 2965746.4 | AA73: =L73=SUM(O73:Z73) -> TRUE | AB73: =ROUND(L73/K73,4) -> 0.738 | AC73: =AB73=N73 -> FALSE | AD73: =K73=L73+M73 -> TRUE
A74: 72 | B74: 1488/23 | C74: N | D74: GMINA WYRY | E74: 2408052 | F74: mikołowski | G74: Remont dróg gminnych ul. Fr. Kłosa i ul. Obrońców Ziemi Śląskiej w Gostyni | H74: R | I74: 1.411 | J74: kwiecień 2024-marzec 2025 | K74: 1631000 | L74: 815500 | M74: =K74-L74 -> 815500 | N74: 0.5 | T74: 815500 | AA74: =L74=SUM(O74:Z74) -> TRUE | AB74: =ROUND(L74/K74,4) -> 0.5 | AC74: =AB74=N74 -> TRUE | AD74: =K74=L74+M74 -> TRUE
A75: 73 | B75: 1534/23 | C75: W | D75: MIASTO BIELSKO-BIAŁA | E75: 2461011 | F75: Bielsko-Biała | G75: Przebudowa odcinka ul. Kazimierza Brodzińskiego w Bielsku-Białej | H75: P | I75: 0.83 | J75: kwiecień 2024-luty 2025 | K75: 10259000 | L75: =ROUNDDOWN(K75*N75,2) -> 5129500 | M75: =K75-L75 -> 5129500 | N75: 0.5 | T75: 5129500 | AA75: =L75=SUM(O75:Z75) -> TRUE | AB75: =ROUND(L75/K75,4) -> 0.5 | AC75: =AB75=N75 -> TRUE | AD75: =K75=L75+M75 -> TRUE
A76: 74 | B76: 1454/23 | C76: N | D76: GMINA WŁODOWICE | E76: 2416092 | F76: zawierciański | G76: Budowa drogi od ul. Świerkowej w Skałce do drogi powiatowej Włodowice-Mrzygłód | H76: B | I76: 0.66 | J76: luty 2024-grudzień 2024 | K76: 3905000 | L76: 2147750 | M76: =K76-L76 -> 1757250 | N76: 0.55 | T76: 2147750 | AA76: =L76=SUM(O76:Z76) -> TRUE | AB76: =ROUND(L76/K76,4) -> 0.55 | AC76: =AB76=N76 -> TRUE | AD76: =K76=L76+M76 -> TRUE
A77: 75 | B77: 1508/23 | D77: GMINA OŻAROWICE (rezygnacja Wnioskodawcy z realizacji zadania) | E77: 2413062 | F77: tarnogórski | G77: Rozbudowa ul. Zagrodowej w Pyrzowicach | AA77: =L77=SUM(O77:Z77) -> TRUE | AB77: =ROUND(L77/K77,4) -> #DIV/0! | AC77: =AB77=N77 -> #DIV/0! | AD77: =K77=L77+M77 -> TRUE
A78: 76 | B78: 1404/23 | D78: GMINA LUBLINIEC (rezygnacja Wnioskodawcy z realizacji zadania) | E78: 2407011 | F78: lubliniecki | G78: Przebudowa odcinka drogi gminnej nr 440072S ul. Plebiscytowa w Lublińcu z przebudową i rozbudową kanalizacji deszczowej, przebudowa oświetlenia ulicznego | AA78: =L78=SUM(O78:Z78) -> TRUE | AB78: =ROUND(L78/K78,4) -> #DIV/0! | AC78: =AB78=N78 -> #DIV/0! | AD78: =K78=L78+M78 -> TRUE
A79: 77 | B79: 1445/23 | C79: N | D79: GMINA PSARY | E79: 2401062 | F79: będziński | G79: Budowa ul. Parkowej w Strzyżowicach | H79: B | I79: 0.185 | J79: czerwiec 2024-maj 2025 | K79: 792810.19 | L79: 396405 | M79: 396405.19 | N79: 0.5 | T79: =L79 -> 396405 | AA79: =L79=SUM(O79:Z79) -> TRUE | AB79: =ROUND(L79/K79,4) -> 0.5 | AC79: =AB79=N79 -> TRUE | AD79: =K79=L79+M79 -> TRUE
A80: 78 | B80: 1432/23 | C80: N | D80: MIASTO GLIWICE | E80: 2466011 | F80: Gliwice | G80: Rozbudowa drogi gminnej 130217S - ul. Sienkiewicza w Gliwicach | H80: B | I80: 0.132 | J80: luty 2024-listopad 2024 | K80: 2344240.9 | L80: 1172120.4 | M80: =K80-L80 -> 1172120.4 | N80: 0.5 | T80: 1172120.4 | AA80: =L80=SUM(O80:Z80) -> TRUE | AB80: =ROUND(L80/K80,4) -> 0.5 | AC80: =AB80=N80 -> TRUE | AD80: =K80=L80+M80 -> TRUE
A81: 79 | B81: 1427/23 | C81: W | D81: GMINA WILKOWICE | E81: 2402102 | F81: bielski | G81: Budowa i przebudowa ul. Spacerowej oraz przebudowa ul. Wypoczynkowej w Wilkowicach w formule zaprojektuj-wybuduj | H81: P | I81: 0.346 | J81: maj 2024-grudzień 2026 | K81: 1931830 | L81: =ROUNDDOWN(K81*N81,2) -> 1545464 | M81: =K81-L81 -> 386366 | N81: 0.8 | T81: =1545464-V81 -> 660449 | U81: 0 | V81: 885015 | AA81: =L81=SUM(O81:Z81) -> TRUE | AB81: =ROUND(L81/K81,4) -> 0.8 | AC81: =AB81=N81 -> TRUE | AD81: =K81=L81+M81 -> TRUE
A82: 80 | B82: 1405/23 | C82: W | D82: MIASTO RUDA ŚLĄSKA | E82: 2472011 | F82: Ruda Śląska | G82: Przebudowa drogi przy ul. ks. Tunkla i Świętochłowickiej - przebudowa ul. bp. Wilhelma Pluty w Rudzie Śląskiej | H82: P | I82: 0.291 | J82: kwiecień 2024-lipiec 2025 | K82: 1995092.3 | L82: 1510417.6 | M82: =K82-L82 -> 484674.68 | N82: 0.8 | T82: 1510417.6 | AA82: =L82=SUM(O82:Z82) -> TRUE | AB82: =ROUND(L82/K82,4) -> 0.7571 | AC82: =AB82=N82 -> FALSE | AD82: =K82=L82+M82 -> TRUE
A83: 81 | B83: 1466/23 | C83: N | D83: GMINA KRZEPICE | E83: 2406023 | F83: kłobucki | G83: Przebudowa wraz z remontem drogi gminnej nr 639041S w przebiegu ulic Wieluńskiej, Nowokrzepickiej w Krzepicach | H83: P | I83: 1.107 | J83: czerwiec 2024-maj 2025 | K83: 1577860.2 | L83: 865808.35 | M83: =K83-L83 -> 712051.83 | N83: 0.55 | T83: 865808.35 | AA83: =L83=SUM(O83:Z83) -> TRUE | AB83: =ROUND(L83/K83,4) -> 0.5487 | AC83: =AB83=N83 -> FALSE | AD83: =K83=L83+M83 -> TRUE
A84: 82 | B84: 1409/23 | C84: N | D84: GMINA SIEWIERZ | E84: 2401073 | F84: będziński | G84: Przebudowa ul. Kościuszki w Siewierzu | H84: P | I84: 0.355 | J84: kwiecień 2024-marzec 2025 | K84: 9425908 | L84: 4712954 | M84: =K84-L84 -> 4712954 | N84: 0.5 | T84: 4712954 | AA84: =L84=SUM(O84:Z84) -> TRUE | AB84: =ROUND(L84/K84,4) -> 0.5 | AC84: =AB84=N84 -> TRUE | AD84: =K84=L84+M84 -> TRUE
A85: 83 | B85: 1464/23* | C85: W | D85: MIASTO CZĘSTOCHOWA | E85: 2464011 | F85: Częstochowa | G85: Przebudowa ulicy św. Kingi w Częstochowie | H85: P | I85: 0.901 | J85: marzec 2024-listopad 2025 | K85: 6544131.3 | L85: =T85+U85 -> 2043968 | M85: =K85-L85 -> 4500163.3 | N85: 0.5 | T85: 2043968 | U85: 0 | AA85: =L85=SUM(O85:Z85) -> TRUE | AB85: =ROUND(L85/K85,4) -> 0.3123 | AC85: =AB85=N85 -> FALSE | AD85: =K85=L85+M85 -> TRUE
A86: 84 | B86: 1525/23 | C86: N | D86: GMINA OGRODZIENIEC | E86: 2416063 | F86: zawierciański | G86: Przebudowa drogi gminnej - ul. Słowackiego w Ogrodzieńcu - odcinek II | H86: P | I86: 0.281 | J86: lipiec 2024-czerwiec 2025 | K86: =L86+M86 -> 697481.08 | L86: 395751.2 | M86: 301729.88 | N86: 0.8 | T86: 395751.2 | AA86: =L86=SUM(O86:Z86) -> TRUE | AB86: =ROUND(L86/K86,4) -> 0.5674 | AC86: =AB86=N86 -> FALSE | AD86: =K86=L86+M86 -> TRUE
A87: 85 | B87: 1465/23 | C87: W | D87: GMINA PSZCZYNA | E87: 2410053 | F87: pszczyński | G87: Rozbudowa ul. Lipowej w Wiśle Wielkiej | H87: B | I87: 0.451 | J87: marzec 2024-październik 2025 | K87: 1482315 | L87: =ROUNDDOWN(K87*N87,2) -> 1037620.5 | M87: =K87-L87 -> 444694.5 | N87: 0.7 | T87: 1037620.5 | AA87: =L87=SUM(O87:Z87) -> TRUE | AB87: =ROUND(L87/K87,4) -> 0.7 | AC87: =AB87=N87 -> TRUE | AD87: =K87=L87+M87 -> TRUE
A88: 86 | B88: 1515/23 | C88: N | D88: GMINA TARNOWSKIE GÓRY | E88: 2413041 | F88: tarnogórski | G88: Przebudowa ul. Lotników wraz z odwodnieniem w Tarnowskich Górach | H88: P | I88: 0.367 | J88: marzec 2024-grudzień 2024 | K88: 4339947 | L88: 2169973.5 | M88: =K88-L88 -> 2169973.5 | N88: 0.5 | T88: 2169973.5 | AA88: =L88=SUM(O88:Z88) -> TRUE | AB88: =ROUND(L88/K88,4) -> 0.5 | AC88: =AB88=N88 -> TRUE | AD88: =K88=L88+M88 -> TRUE
A89: 87 | B89: 1452/23 | C89: N | D89: GMINA CZELADŹ | E89: 2401021 | F89: będziński | G89: Przebudowa ulicy Bytomskiej w Czeladzi wraz z budową kanalizacji deszczowej | H89: P | I89: 0.24 | J89: marzec 2024-luty 2025 | K89: 2657802 | L89: 1328901 | M89: =K89-L89 -> 1328901 | N89: 0.5 | T89: 1328901 | AA89: =L89=SUM(O89:Z89) -> TRUE | AB89: =ROUND(L89/K89,4) -> 0.5 | AC89: =AB89=N89 -> TRUE | AD89: =K89=L89+M89 -> TRUE
A90: 88 | B90: 1457/23 | D90: GMINA CIESZYN (rezygnacja Wnioskodawcy z realizacji zadania) | E90: 2403011 | F90: cieszyński | G90: Przebudowa drogi gminnej ul. Jastrzębia w Cieszynie | AA90: =L90=SUM(O90:Z90) -> TRUE | AB90: =ROUND(L90/K90,4) -> #DIV/0! | AC90: =AB90=N90 -> #DIV/0! | AD90: =K90=L90+M90 -> TRUE
A91: 89 | B91: 1461/23 | C91: N | D91: GMINA ZEBRZYDOWICE | E91: 2403122 | F91: cieszyński | G91: Przebudowa drogi gminnej ul. Jesionowej w Zebrzydowicach | H91: P | I91: 0.999 | J91: lipiec 2024-czerwiec 2025 | K91: 3034236 | L91: 1820541.6 | M91: =K91-L91 -> 1213694.4 | N91: 0.6 | T91: 1820541.6 | AA91: =L91=SUM(O91:Z91) -> TRUE | AB91: =ROUND(L91/K91,4) -> 0.6 | AC91: =AB91=N91 -> TRUE | AD91: =K91=L91+M91 -> TRUE
A92: 90 | B92: 1531/23 | C92: N | D92: GMINA ISTEBNA | E92: 2403092 | F92: cieszyński | G92: Remont drogi gminnej 617 011S Legiery - Pańska Łąka we wsi Koniaków | H92: R | I92: 0.98 | J92: marzec 2024-październik 2024 | K92: 1242503.5 | L92: 745502 | M92: =K92-L92 -> 497001.5 | N92: 0.6 | T92: 745502 | AA92: =L92=SUM(O92:Z92) -> TRUE | AB92: =ROUND(L92/K92,4) -> 0.6 | AC92: =AB92=N92 -> TRUE | AD92: =K92=L92+M92 -> TRUE
A93: 91 | B93: 1431/23 | C93: N | D93: GMINA STARCZA | E93: 2404162 | F93: częstochowski | G93: Przebudowa drogi gminnej nr 706005S ul. Polnej w miejscowości Starcza | H93: P | I93: 0.956 | J93: kwiecień 2024-lipiec 2024 | K93: 1432268.8 | L93: 859361.29 | M93: 572907.54 | N93: 0.6 | T93: 859361.29 | AA93: =L93=SUM(O93:Z93) -> TRUE | AB93: =ROUND(L93/K93,4) -> 0.6 | AC93: =AB93=N93 -> TRUE | AD93: =K93=L93+M93 -> TRUE
A94: 92 | B94: 1439/23 | C94: N | D94: GMINA RADZIECHOWY-WIEPRZ | E94: 2417102 | F94: żywiecki | G94: Remont ul. Różanej w miejscowości Radziechowy | H94: R | I94: 0.46 | J94: marzec 2024-październik 2024 | K94: 237300 | L94: 142380 | M94: =K94-L94 -> 94920 | N94: 0.6 | T94: 142380 | AA94: =L94=SUM(O94:Z94) -> TRUE | AB94: =ROUND(L94/K94,4) -> 0.6 | AC94: =AB94=N94 -> TRUE | AD94: =K94=L94+M94 -> TRUE
A95: 93 | B95: 1495/23 | C95: N | D95: GMINA KŁOBUCK | E95: 2406013 | F95: kłobucki | G95: Przebudowa odcinka drogi gminnej nr 470 153S ul. ks. Piotra Ściegiennego oraz odcinka drogi gminnej nr 470 152S ul. Polnej w Kłobucku | H95: P | I95: 0.375 | J95: kwiecień 2024-październik 2024 | K95: 885038.26 | L95: 442519.13 | M95: =K95-L95 -> 442519.13 | N95: 0.5 | T95: =L95 -> 442519.13 | AA95: =L95=SUM(O95:Z95) -> TRUE | AB95: =ROUND(L95/K95,4) -> 0.5 | AC95: =AB95=N95 -> TRUE | AD95: =K95=L95+M95 -> TRUE
A96: 94 | B96: 1490/23 | C96: N | D96: GMINA BIERUŃ | E96: 2414011 | F96: bieruńsko-lędziński | G96: Przebudowa drogi wewnętrznej ul. Jastrzębiej i odcinka drogi wewnętrznej ul. Sokolskiej w Bieruniu | H96: P | I96: 0.298 | J96: kwiecień 2024 - marzec 2025 | K96: 1181650.5 | L96: =ROUNDDOWN(K96*N96,2) -> 945320.38 | M96: =K96-L96 -> 236330.1 | N96: 0.8 | T96: =L96 -> 945320.38 | AA96: =L96=SUM(O96:Z96) -> TRUE | AB96: =ROUND(L96/K96,4) -> 0.8 | AC96: =AB96=N96 -> TRUE | AD96: =K96=L96+M96 -> TRUE
A97: 95 | B97: 1463/23 | D97: GMINA MYSZKÓW (rezygnacja Wnioskodawcy z realizacji zadania) | E97: 2409011 | F97: myszkowski | G97: Przebudowa ulicy Siewierskiej oraz odcinków ulic: Królowej Jadwigi i Sikorka w Myszkowie z budową odcinków sieci kanalizacji deszczowej oraz przebudową sieci elektroenergetycznych NN | AA97: =L97=SUM(O97:Z97) -> TRUE | AB97: =ROUND(L97/K97,4) -> #DIV/0! | AC97: =AB97=N97 -> #DIV/0! | AD97: =K97=L97+M97 -> TRUE
A98: 96 | B98: 1499/23* | D98: GMINA ŁAZISKA GÓRNE (rezygnacja Wnioskodawcy z realizacji zadania) | E98: 2408011 | F98: mikołowski | G98: Przebudowa wybranych dróg gminnych na Osiedlu Ziętka: ul. Sienkiewicza, ul. Konwalii w Łaziskach Górnych | AA98: =L98=SUM(O98:Z98) -> TRUE | AB98: =ROUND(L98/K98,4) -> #DIV/0! | AC98: =AB98=N98 -> #DIV/0! | AD98: =K98=L98+M98 -> TRUE
A99: 97 | B99: 1413/12 | C99: N | D99: GMINA KOSZĘCIN | E99: 2407062 | F99: lubliniecki | G99: Przebudowa drogi gminnej ulicy Generała Józefa Bema w Koszęcinie | H99: P | I99: 0.636 | J99: kwiecień 2024-wrzesień 2024 | K99: 823150.38 | L99: 452732.7 | M99: =K99-L99 -> 370417.68 | N99: 0.55 | T99: =L99 -> 452732.7 | AA99: =L99=SUM(O99:Z99) -> TRUE | AB99: =ROUND(L99/K99,4) -> 0.55 | AC99: =AB99=N99 -> TRUE | AD99: =K99=L99+M99 -> TRUE
A100: 98 | B100: 1412/23 | C100: N | D100: GMINA KOSZĘCIN | E100: 2407062 | F100: lubliniecki | G100: Rozbudowa ulicy Wiosennej w Koszęcinie | H100: B | I100: 0.302 | J100: kwiecień 2024-sierpień 2024 | K100: 721957.71 | L100: 339036.5 | M100: =K100-L100 -> 382921.21 | N100: 0.55 | T100: 339036.5 | AA100: =L100=SUM(O100:Z100) -> TRUE | AB100: =ROUND(L100/K100,4) -> 0.4696 | AC100: =AB100=N100 -> FALSE | AD100: =K100=L100+M100 -> TRUE
...

Sheet pow rez
A1: L.p. | B1: Nr ewid. | C1: Zadanie nowe/wieloletnie [N/W] | D1: Jednostka Samorządu Terytorialnego | E1: TERC | F1: Nazwa zadania | G1: Rodzaj zadania | H1: Długość odcinka (w km) | I1: Okres realizacji zadania | J1: Ogółem wartość projektu (w zł) | K1: Wnioskowana kwota dofinansowania (w zł) | L1: Deklarowana kwota środków własnych (w zł) | M1: % dofinansowania | N1: Kwota dofinansowania w podziale na lata
N2: 2019 | O2: 2020 | P2: 2021 | Q2: 2022 | R2: 2023 | S2: 2024 | T2: 2025 | U2: 2026 | V2: 2027 | W2: 2028 | X2: 2029 | Y2: 2030 | Z2: spr-lata | AA2: spr-procent | AB2: spr-dof | AC2: spr-montaż
Z3: =K3=SUM(N3:Y3) -> TRUE | AA3: =ROUND(K3/J3,4) -> #DIV/0! | AB3: =AA3=M3 -> #DIV/0! | AC3: =J3=K3+L3 -> TRUE
Z4: =K4=SUM(N4:Y4) -> TRUE | AA4: =ROUND(K4/J4,4) -> #DIV/0! | AB4: =AA4=M4 -> #DIV/0! | AC4: =J4=K4+L4 -> TRUE
Z5: =K5=SUM(N5:Y5) -> TRUE | AA5: =ROUND(K5/J5,4) -> #DIV/0! | AB5: =AA5=M5 -> #DIV/0! | AC5: =J5=K5+L5 -> TRUE
A6: RAZEM, z tego: | H6: =SUM(H3:H5) -> 0 | I6: x | J6: =SUM(J3:J5) -> 0 | K6: =SUM(K3:K5) -> 0 | L6: =SUM(L3:L5) -> 0 | M6: x | N6: =SUM(N3:N5) -> 0 | O6: =SUM(O3:O5) -> 0 | P6: =SUM(P3:P5) -> 0 | Q6: =SUM(Q3:Q5) -> 0 | R6: =SUM(R3:R5) -> 0 | S6: =SUM(S3:S5) -> 0 | T6: =SUM(T3:T5) -> 0 | U6: =SUM(U3:U5) -> 0 | ... Y6: =SUM(Y3:Y5) -> 0 | Z6: =K6=SUM(N6:Y6) -> TRUE | AA6: =ROUND(K6/J6,4) -> #DIV/0! | AB6: x | AC6: =J6=K6+L6 -> TRUE
A7: nowe zadania jednoroczne | H7: =SUMIF($C$3:$C$5,"N",H3:H5) -> 0 | I7: x | J7: =SUMIF($C$3:$C$5,"N",J3:J5) -> 0 | K7: =SUMIF($C$3:$C$5,"N",K3:K5) -> 0 | L7: =SUMIF($C$3:$C$5,"N",L3:L5) -> 0 | M7: x | N7: =SUMIF($C$3:$C$5,"N",N3:N5) -> 0 | O7: =SUMIF($C$3:$C$5,"N",O3:O5) -> 0 | P7: =SUMIF($C$3:$C$5,"N",P3:P5) -> 0 | Q7: =SUMIF($C$3:$C$5,"N",Q3:Q5) -> 0 | R7: =SUMIF($C$3:$C$5,"N",R3:R5) -> 0 | S7: =SUMIF($C$3:$C$5,"N",S3:S5) -> 0 | T7: =SUMIF($C$3:$C$5,"N",T3:T5) -> 0 | U7: =SUMIF($C$3:$C$5,"N",U3:U5) -> 0 | ... Y7: =SUMIF($C$3:$C$5,"N",Y3:Y5) -> 0 | Z7: =K7=SUM(N7:Y7) -> TRUE | AA7: =ROUND(K7/J7,4) -> #DIV/0! | AB7: x | AC7: =J7=K7+L7 -> TRUE
A8: nowe zadania wieloletnie | H8: =SUMIF($C$3:$C$5,"W",H3:H5) -> 0 | I8: x | J8: =SUMIF($C$3:$C$5,"W",J3:J5) -> 0 | K8: =SUMIF($C$3:$C$5,"W",K3:K5) -> 0 | L8: =SUMIF($C$3:$C$5,"W",L3:L5) -> 0 | M8: x | N8: =SUMIF($C$3:$C$5,"W",N3:N5) -> 0 | O8: =SUMIF($C$3:$C$5,"W",O3:O5) -> 0 | P8: =SUMIF($C$3:$C$5,"W",P3:P5) -> 0 | Q8: =SUMIF($C$3:$C$5,"W",Q3:Q5) -> 0 | R8: =SUMIF($C$3:$C$5,"W",R3:R5) -> 0 | S8: =SUMIF($C$3:$C$5,"W",S3:S5) -> 0 | T8: =SUMIF($C$3:$C$5,"W",T3:T5) -> 0 | U8: =SUMIF($C$3:$C$5,"W",U3:U5) -> 0 | ... Y8: =SUMIF($C$3:$C$5,"W",Y3:Y5) -> 0 | Z8: =K8=SUM(N8:Y8) -> TRUE | AA8: =ROUND(K8/J8,4) -> #DIV/0! | AB8: x | AC8: =J8=K8+L8 -> TRUE
A10: B - budowa (rozbudowa), P - przebudowa, R - remont
A11: kolorem czerwonym oznaczono zadania wieloletnie
A12: N - zadanie nowe, W - nowe zadanie wieloletnie

Sheet gm rez
A1: L.p. | B1: Nr ewid. | C1: Zadanie nowe/wieloletnie [N/W] | D1: Jednostka Samorządu Terytorialnego | E1: TERC | F1: Powiat | G1: Nazwa zadania | H1: Rodzaj zadania | I1: Długość odcinka (w km) | J1: Okres realizacji zadania | K1: Ogółem wartość projektu (w zł) | L1: Wnioskowana kwota dofinansowania (w zł) | M1: Deklarowana kwota środków własnych (w zł) | N1: % dofinansowania | O1: Kwota dofinansowania w podziale na lata
O2: 2019 | P2: 2020 | Q2: 2021 | R2: 2022 | S2: 2023 | T2: 2024 | U2: 2025 | V2: 2026 | W2: 2027 | X2: 2028 | Y2: 2029 | Z2: 2030 | AA2: spr-lata | AB2: spr-procent | AC2: spr-dof | AD2: spr-montaż
AA3: =L3=SUM(O3:Z3) -> TRUE | AB3: =ROUND(L3/K3,4) -> #DIV/0! | AC3: =AB3=N3 -> #DIV/0! | AD3: =K3=L3+M3 -> TRUE
AA4: =L4=SUM(O4:Z4) -> TRUE | AB4: =ROUND(L4/K4,4) -> #DIV/0! | AC4: =AB4=N4 -> #DIV/0! | AD4: =K4=L4+M4 -> TRUE
AA5: =L5=SUM(O5:Z5) -> TRUE | AB5: =ROUND(L5/K5,4) -> #DIV/0! | AC5: =AB5=N5 -> #DIV/0! | AD5: =K5=L5+M5 -> TRUE
A6: RAZEM, z tego: | I6: =SUM(I3:I5) -> 0 | J6: x | K6: =SUM(K3:K5) -> 0 | L6: =SUM(L3:L5) -> 0 | M6: =SUM(M3:M5) -> 0 | N6: x | O6: =SUM(O3:O5) -> 0 | P6: =SUM(P3:P5) -> 0 | Q6: =SUM(Q3:Q5) -> 0 | R6: =SUM(R3:R5) -> 0 | S6: =SUM(S3:S5) -> 0 | T6: =SUM(T3:T5) -> 0 | U6: =SUM(U3:U5) -> 0 | V6: =SUM(V3:V5) -> 0 | ... Z6: =SUM(Z3:Z5) -> 0 | AA6: =L6=SUM(O6:Z6) -> TRUE | AB6: =ROUND(L6/K6,4) -> #DIV/0! | AC6: x | AD6: =K6=L6+M6 -> TRUE
A7: nowe zadania jednoroczne | I7: =SUMIF($C$3:$C$5,"N",I3:I5) -> 0 | J7: x | K7: =SUMIF($C$3:$C$5,"N",K3:K5) -> 0 | L7: =SUMIF($C$3:$C$5,"N",L3:L5) -> 0 | M7: =SUMIF($C$3:$C$5,"N",M3:M5) -> 0 | N7: x | O7: =SUMIF($C$3:$C$5,"N",O3:O5) -> 0 | P7: =SUMIF($C$3:$C$5,"N",P3:P5) -> 0 | Q7: =SUMIF($C$3:$C$5,"N",Q3:Q5) -> 0 | R7: =SUMIF($C$3:$C$5,"N",R3:R5) -> 0 | S7: =SUMIF($C$3:$C$5,"N",S3:S5) -> 0 | T7: =SUMIF($C$3:$C$5,"N",T3:T5) -> 0 | U7: =SUMIF($C$3:$C$5,"N",U3:U5) -> 0 | V7: =SUMIF($C$3:$C$5,"N",V3:V5) -> 0 | ... Z7: =SUMIF($C$3:$C$5,"N",Z3:Z5) -> 0 | AA7: =L7=SUM(O7:Z7) -> TRUE | AB7: =ROUND(L7/K7,4) -> #DIV/0! | AC7: x | AD7: =K7=L7+M7 -> TRUE
A8: nowe zadania wieloletnie | I8: =SUMIF($C$3:$C$5,"W",I3:I5) -> 0 | J8: x | K8: =SUMIF($C$3:$C$5,"W",K3:K5) -> 0 | L8: =SUMIF($C$3:$C$5,"W",L3:L5) -> 0 | M8: =SUMIF($C$3:$C$5,"W",M3:M5) -> 0 | N8: x | O8: =SUMIF($C$3:$C$5,"W",O3:O5) -> 0 | P8: =SUMIF($C$3:$C$5,"W",P3:P5) -> 0 | Q8: =SUMIF($C$3:$C$5,"W",Q3:Q5) -> 0 | R8: =SUMIF($C$3:$C$5,"W",R3:R5) -> 0 | S8: =SUMIF($C$3:$C$5,"W",S3:S5) -> 0 | T8: =SUMIF($C$3:$C$5,"W",T3:T5) -> 0 | U8: =SUMIF($C$3:$C$5,"W",U3:U5) -> 0 | V8: =SUMIF($C$3:$C$5,"W",V3:V5) -> 0 | ... Z8: =SUMIF($C$3:$C$5,"W",Z3:Z5) -> 0 | AA8: =L8=SUM(O8:Z8) -> TRUE | AB8: =ROUND(L8/K8,4) -> #DIV/0! | AC8: x | AD8: =K8=L8+M8 -> TRUE
A10: B - budowa (rozbudowa), P - przebudowa, R - remont
A11: kolorem czerwonym oznaczono zadania wieloletnie
A12: N - zadanie nowe, W - nowe zadanie wieloletnie
