Workbook

Sheet TERC - "nazwa woj"
A1: Lista zmieniona nr 1 zadań rekomendowanych polegających wyłącznie na remoncie dróg powiatowych lub gminnych
A2: do dofinansowania w ramach Rządowego Funduszu Rozwoju Dróg - nabór uzupełniający wniosków o dofinansowanie na 2024 rok
A4: Dofinansowanie przyznane w naborze: 2024 r. - nabór uzupełniający
A6: Województwo: ŚLĄSKIE
B9: ZATWIERDZAM
B14: ………………………………………………………………………………….
A16: Podsumowanie naboru:
A17: Kategoria drogi - rodzaj listy | B17: x | C17: Liczba zadań | D17: Wartość zadań ogółem | E17: Deklarowana kwota środków własnych | F17: Kwota dofinasowania ogółem | G17: 2024
A18: powiatowe - lista podstawowa, z tego: | B18: nowe zadania jednoroczne | C18: =COUNTA('pow podst'!K3:K13) -> 11 | D18: =SUM('pow podst'!J3:J13) -> 24776610 | E18: =SUM('pow podst'!L3:L13) -> 12949103 | F18: =SUM('pow podst'!K3:K13) -> 11827507 | G18: =SUM('pow podst'!N3:N13) -> 11827507 | H18: =D18=(E18+F18) -> TRUE | I18: =F18=SUM(G18:G18) -> TRUE
A19: gminne - lista podstawowa, z tego: | B19: nowe zadania jednoroczne | C19: =COUNTA('gm podst'!L3:L23) -> 21 | D19: =SUM('gm podst'!K3:K23) -> 25476297 | E19: =SUM('gm podst'!M3:M23) -> 13648790 | F19: =SUM('gm podst'!L3:L23) -> 11827507 | G19: =SUM('gm podst'!O3:O23) -> 11827507 | H19: =D19=(E19+F19) -> TRUE | I19: =F19=SUM(G19:G19) -> TRUE
A20: RAZEM listy podstawowe, z tego: | B20: nowe zadania jednoroczne | C20: =C18+C19 -> 32 | D20: =D18+D19 -> 50252907 | E20: =E18+E19 -> 26597894 | F20: =F18+F19 -> 23655013 | G20: =G18+G19 -> 23655013 | H20: =D20=(E20+F20) -> TRUE | I20: =F20=SUM(G20:G20) -> TRUE
A21: powiatowe - lista rezerwowa | B21: nowe zadania jednoroczne | C21: =COUNTA('pow rez'!K3:K8) -> 6 | D21: =SUM('pow rez'!J3:J8) -> 6725150 | E21: =SUM('pow rez'!L3:L8) -> 3362575 | F21: =SUM('pow rez'!K3:K8) -> 3362575 | G21: =SUM('pow rez'!N3:N8) -> 3362575 | H21: =D21=(E21+F21) -> TRUE | I21: =F21=SUM(G21:G21) -> TRUE
A22: gminne - lista rezerwowa | B22: nowe zadania jednoroczne | C22: =COUNTA('gm rez'!L3:L15) -> 11 | D22: =SUM('gm rez'!K3:K15) -> 27354810 | E22: =SUM('gm rez'!M3:M15) -> 13699625 | F22: =SUM('gm rez'!L3:L15) -> 13655185 | G22: =SUM('gm rez'!O3:O15) -> 13655185 | H22: =D22=(E22+F22) -> TRUE | I22: =F22=SUM(G22:G22) -> TRUE
A23: RAZEM listy rezerwowe | B23: nowe zadania jednoroczne | C23: =C21+C22 -> 17 | D23: =D21+D22 -> 34079960 | E23: =E21+E22 -> 17062200 | F23: =F21+F22 -> 17017760 | G23: =G21+G22 -> 17017760 | H23: =D23=(E23+F23) -> TRUE | I23: =F23=SUM(G23:G23) -> TRUE
A24: RAZEM listy | B24: nowe zadania jednoroczne | C24: =C20+C23 -> 49 | D24: =D20+D23 -> 84332867 | E24: =E20+E23 -> 43660094 | F24: =F20+F23 -> 40672773 | G24: =G20+G23 -> 40672773 | H24: =D24=(E24+F24) -> TRUE | I24: =F24=SUM(G24:G24) -> TRUE
C25: =C18+C19=C20 -> TRUE | D25: =D18+D19=D20 -> TRUE | E25: =E18+E19=E20 -> TRUE | F25: =F18+F19=F20 -> TRUE | G25: =G18+G19=G20 -> TRUE
C26: =C21+C22=C23 -> TRUE | D26: =D21+D22=D23 -> TRUE | E26: =E21+E22=E23 -> TRUE | F26: =F21+F22=F23 -> TRUE | G26: =G21+G22=G23 -> TRUE
C27: =C20+C23=C24 -> TRUE | D27: =D20+D23=D24 -> TRUE | E27: =E20+E23=E24 -> TRUE | F27: =F20+F23=F24 -> TRUE | G27: =G20+G23=G24 -> TRUE

Sheet pow podst
A1: L.p. | B1: Nr ewid. | C1: Zadanie nowe [N] | D1: Jednostka Samorządu Terytorialnego | E1: TERC | F1: Nazwa zadania | G1: Rodzaj zadania | H1: Długość odcinka (w km) | I1: Okres realizacji zadania | J1: Ogółem wartość projektu (w zł) | K1: Wnioskowana kwota dofinansowania (w zł) | L1: Deklarowana kwota środków własnych (w zł) | M1: % dofinansowania | N1: Kwota dofinansowania w podziale na lata
N2: 2024 | O2: spr-lata | P2: spr-procent | Q2: spr-dof | R2: spr-montaż
A3: 1 | B3: 1651/24 | C3: N | D3: POWIAT PSZCZYŃSKI | E3: 2410 | F3: Remont drogi powiatowej ul. Powstańców Śląskich w Czarkowie | G3: R | H3: 2.04 | I3: listopad 2024-czerwiec 2025 | J3: 2173190 | K3: =ROUNDDOWN(J3*M3,2) -> 1086595 | L3: =J3-K3 -> 1086595 | M3: 0.5 | N3: =K3 -> 1086595 | O3: =K3=SUM(N3:N3) -> TRUE | P3: =ROUND(K3/J3,4) -> 0.5 | Q3: =P3=M3 -> TRUE | R3: =J3=K3+L3 -> TRUE
A4: 2 | B4: 1603/24 | C4: N | D4: POWIAT KŁOBUCKI | E4: 2406 | F4: Remont odcinka drogi powiatowej nr 2015 S w miejscowości Opatów | G4: R | H4: 2.01 | I4: grudzień 2024 - wrzesień 2025 | J4: 1611892 | K4: =ROUNDDOWN(J4*M4,2) -> 805946 | L4: =J4-K4 -> 805946 | M4: 0.5 | N4: =K4 -> 805946 | O4: =K4=SUM(N4:N4) -> TRUE | P4: =ROUND(K4/J4,4) -> 0.5 | Q4: =P4=M4 -> TRUE | R4: =J4=K4+L4 -> TRUE
A5: 3 | B5: 1620/24 | C5: N | D5: POWIAT BIELSKI | E5: 2402 | F5: Remont drogi powiatowej nr 4479S ul. Kardynała Karola Wojtyły, odc. od ronda DK52 do ul. Kościelnej w Czańcu | G5: R | H5: 0.86 | I5: październik 2024-wrzesień 2025 | J5: 1048944 | K5: =ROUNDDOWN(J5*M5,2) -> 524472 | L5: =J5-K5 -> 524472 | M5: 0.5 | N5: =K5 -> 524472 | O5: =K5=SUM(N5:N5) -> TRUE | P5: =ROUND(K5/J5,4) -> 0.5 | Q5: =P5=M5 -> TRUE | R5: =J5=K5+L5 -> TRUE
A6: 4 | B6: 1605/24 | C6: N | D6: POWIAT MYSZKOWSKI | E6: 2409 | F6: Remont drogi powiatowej nr 1012S na odcinku Poraj-Choroń-granica powiatu | G6: R | H6: 5.324 | I6: wrzesień 2024-czerwiec 2025 | J6: 5126284 | K6: =ROUNDDOWN(J6*M6,2) -> 2563142 | L6: =J6-K6 -> 2563142 | M6: 0.5 | N6: =K6 -> 2563142 | O6: =K6=SUM(N6:N6) -> TRUE | P6: =ROUND(K6/J6,4) -> 0.5 | Q6: =P6=M6 -> TRUE | R6: =J6=K6+L6 -> TRUE
A7: 5 | B7: 1625/24 | C7: N | D7: MIASTO ZABRZE | E7: 2478011 | F7: Remont drogi powiatowej ul. Ofiar Katynia w Zabrzu (S8212) | G7: R | H7: 1.315 | I7: grudzień 2024-listopad 2025 | J7: 3671336 | K7: =ROUNDDOWN(J7*M7,2) -> 1835668 | L7: =J7-K7 -> 1835668 | M7: 0.5 | N7: =K7 -> 1835668 | O7: =K7=SUM(N7:N7) -> TRUE | P7: =ROUND(K7/J7,4) -> 0.5 | Q7: =P7=M7 -> TRUE | R7: =J7=K7+L7 -> TRUE
A8: 6 | B8: 1646/24 | C8: N | D8: POWIAT TARNOGÓRSKI | E8: 2413 | F8: Remont drogi powiatowej nr 3275 S ul. Wolności w Zbrosławicach | G8: R | H8: 1.2 | I8: listopad 2024-październik 2025 | J8: 2000000 | K8: =ROUNDDOWN(J8*M8,2) -> 1000000 | L8: =J8-K8 -> 1000000 | M8: 0.5 | N8: =K8 -> 1000000 | O8: =K8=SUM(N8:N8) -> TRUE | P8: =ROUND(K8/J8,4) -> 0.5 | Q8: =P8=M8 -> TRUE | R8: =J8=K8+L8 -> TRUE
A9: 7 | B9: 1645/24 | C9: N | D9: POWIAT CZĘSTOCHOWSKI | E9: 2404 | F9: Remont drogi powiatowej nr 1005 S w miejscowości Rędziny, ul. Szkolna i Jaskrów, ul. Ołowianka, gmina Rędziny | G9: R | H9: 2.363 | I9: listopad 2024-wrzesień 2025 | J9: 2430000 | K9: =ROUNDDOWN(J9*M9,2) -> 1215000 | L9: =J9-K9 -> 1215000 | M9: 0.5 | N9: =K9 -> 1215000 | O9: =K9=SUM(N9:N9) -> TRUE | P9: =ROUND(K9/J9,4) -> 0.5 | Q9: =P9=M9 -> TRUE | R9: =J9=K9+L9 -> TRUE
A10: 8 | B10: 1623/24 | C10: N | D10: POWIAT RYBNICKI | E10: 2412 | F10: Remont drogi powiatowej 5025S ul. Wolności w Czernicy | G10: R | H10: 0.99 | I10: grudzień 2024-czerwiec 2025 | J10: 2505244 | K10: =ROUNDDOWN(J10*M10,2) -> 1252622 | L10: =J10-K10 -> 1252622 | M10: 0.5 | N10: =K10 -> 1252622 | O10: =K10=SUM(N10:N10) -> TRUE | P10: =ROUND(K10/J10,4) -> 0.5 | Q10: =P10=M10 -> TRUE | R10: =J10=K10+L10 -> TRUE
A11: 9 | B11: 1648/24 | C11: N | D11: POWIAT ŻYWIECKI | E11: 2417 | F11: Remont DP 1425 S w Wieprzu | G11: R | H11: 0.52 | I11: listopad 2024-październik 2025 | J11: 601219 | K11: =ROUNDDOWN(J11*M11,2) -> 300609.5 | L11: =J11-K11 -> 300609.5 | M11: 0.5 | N11: =K11 -> 300609.5 | O11: =K11=SUM(N11:N11) -> TRUE | P11: =ROUND(K11/J11,4) -> 0.5 | Q11: =P11=M11 -> TRUE | R11: =J11=K11+L11 -> TRUE
A12: 10 | B12: 1622/24 | C12: N | D12: POWIAT WODZISŁAWSKI | E12: 2415 | F12: Remont drogi powiatowej ul. 1 Maja w Gołkowicach | G12: R | H12: 0.78 | I12: listopad 2024-czerwiec 2025 | J12: 991581 | K12: =ROUNDDOWN(J12*M12,2) -> 495790.5 | L12: =J12-K12 -> 495790.5 | M12: 0.5 | N12: =K12 -> 495790.5 | O12: =K12=SUM(N12:N12) -> TRUE | P12: =ROUND(K12/J12,4) -> 0.5 | Q12: =P12=M12 -> TRUE | R12: =J12=K12+L12 -> TRUE
A13: 11 | B13: 1607/24* | C13: N | D13: POWIAT GLIWICKI | E13: 2405 | F13: Remont drogi powiatowej Nr 2905S w miejscowości Pyskowice | G13: R | H13: 1.083 | I13: grudzień 2024-sierpień 2025 | J13: 2616920 | K13: 747661.66 | L13: =J13-K13 -> 1869258.3 | M13: 0.5 | N13: 747661.66 | O13: =K13=SUM(N13:N13) -> TRUE | P13: =ROUND(K13/J13,4) -> 0.2857 | Q13: =P13=M13 -> FALSE | R13: =J13=K13+L13 -> TRUE
A14: RAZEM nowe zadania jednoroczne | H14: =SUM(H3:H13) -> 18.485 | I14: x | J14: =SUM(J3:J13) -> 24776610 | K14: =SUM(K3:K13) -> 11827507 | L14: =SUM(L3:L13) -> 12949103 | M14: x | N14: =SUM(N3:N13) -> 11827507 | O14: =K14=SUM(N14:N14) -> TRUE | P14: =ROUND(K14/J14,4) -> 0.4774 | Q14: x | R14: =J14=K14+L14 -> TRUE
A16: R - remont
A17: * Kwota dofinansowania zmniejszona do limitu dostępnych środków Rządowego Funduszu Rozwoju Dróg; zwiększenie dofinansowania możliwe w przypadku wystąpienia oszczędności. W przypadku braku oszczędności w Funduszu, realizacja zadania będzie wymagała zabezpieczenia wkładu własnego wnioskodawcy w większej wysokości.

Sheet gm podst
A1: L.p. | B1: Nr ewid. | C1: Zadanie nowe [N] | D1: Jednostka Samorządu Terytorialnego | E1: TERC | F1: Powiat | G1: Nazwa zadania | H1: Rodzaj zadania | I1: Długość odcinka (w km) | J1: Okres realizacji zadania | K1: Ogółem wartość projektu (w zł) | L1: Wnioskowana kwota dofinansowania (w zł) | M1: Deklarowana kwota środków własnych (w zł) | N1: % dofinansowania | O1: Kwota dofinansowania w podziale na lata
O2: 2024 | P2: spr-lata | Q2: spr-procent | R2: spr-dof | S2: spr-montaż
A3: 1 | B3: 1624/24 | C3: N | D3: GMINA HERBY | E3: 2407042 | F3: lubliniecki | G3: Remont drogi gminnej ul. Stawowej w Lisowie | H3: R | I3: 0.41 | J3: listopad 2024-październik 2025 | K3: 1286543 | L3: =ROUNDDOWN(K3*N3,2) -> 643271.5 | M3: =K3-L3 -> 643271.5 | N3: 0.5 | O3: =L3 -> 643271.5 | P3: =L3=SUM(O3:O3) -> TRUE | Q3: =ROUND(L3/K3,4) -> 0.5 | R3: =Q3=N3 -> TRUE | S3: =K3=L3+M3 -> TRUE
A4: 2 | B4: 1608/24 | C4: N | D4: GMINA TWORÓG | E4: 2413082 | F4: tarnogórski | G4: Remont ulicy Karola Miarki w Tworogu | H4: R | I4: 0.67 | J4: listopad 2024-sierpień 2025 | K4: 3101877 | L4: =ROUNDDOWN(K4*N4,2) -> 1550938.5 | M4: =K4-L4 -> 1550938.5 | N4: 0.5 | O4: =L4 -> 1550938.5 | P4: =L4=SUM(O4:O4) -> TRUE | Q4: =ROUND(L4/K4,4) -> 0.5 | R4: =Q4=N4 -> TRUE | S4: =K4=L4+M4 -> TRUE
A5: 3 | B5: 1617/24 | C5: N | D5: GMINA DĘBOWIEC | E5: 2403062 | F5: cieszyński | G5: Remont drogi gminnej - ul. Golina w Iskrzyczynie | H5: R | I5: 1 | J5: wrzesień 2024-sierpień 2025 | K5: 1000000 | L5: =ROUNDDOWN(K5*N5,2) -> 500000 | M5: =K5-L5 -> 500000 | N5: 0.5 | O5: =L5 -> 500000 | P5: =L5=SUM(O5:O5) -> TRUE | Q5: =ROUND(L5/K5,4) -> 0.5 | R5: =Q5=N5 -> TRUE | S5: =K5=L5+M5 -> TRUE
A6: 4 | B6: 1650/24 | C6: N | D6: GMINA JANÓW | E6: 2404032 | F6: częstochowski | G6: Remont drogi gminnej nr 677004 S w miejscowości Lgoczanka | H6: R | I6: 1.55 | J6: grudzień 2024 - wrzesień 2025 | K6: 1008000 | L6: =ROUNDDOWN(K6*N6,2) -> 504000 | M6: =K6-L6 -> 504000 | N6: 0.5 | O6: =L6 -> 504000 | P6: =L6=SUM(O6:O6) -> TRUE | Q6: =ROUND(L6/K6,4) -> 0.5 | R6: =Q6=N6 -> TRUE | S6: =K6=L6+M6 -> TRUE
A7: 5 | B7: 1633/24 | C7: N | D7: GMINA GIERAŁTOWICE | E7: 2405032 | F7: gliwicki | G7: Remont nawierzchni ul. Zwycięstwa w Paniówkach | H7: R | I7: 1.24 | J7: grudzień 2024-sierpień 2025 | K7: 811045 | L7: =ROUNDDOWN(K7*N7,2) -> 405522.5 | M7: =K7-L7 -> 405522.5 | N7: 0.5 | O7: =L7 -> 405522.5 | P7: =L7=SUM(O7:O7) -> TRUE | Q7: =ROUND(L7/K7,4) -> 0.5 | R7: =Q7=N7 -> TRUE | S7: =K7=L7+M7 -> TRUE
A8: 6 | B8: 1652/24 | C8: N | D8: GMINA CIASNA | E8: 2407032 | F8: lubliniecki | G8: Remont drogi gminnej w miejscowości Dzielna w Gminie Ciasna | H8: R | I8: 1.212 | J8: listopad 2024-październik 2025 | K8: 999166 | L8: =ROUNDDOWN(K8*N8,2) -> 499583 | M8: =K8-L8 -> 499583 | N8: 0.5 | O8: =L8 -> 499583 | P8: =L8=SUM(O8:O8) -> TRUE | Q8: =ROUND(L8/K8,4) -> 0.5 | R8: =Q8=N8 -> TRUE | S8: =K8=L8+M8 -> TRUE
A9: 7 | B9: 1658/24 | C9: N | D9: GMINA GORZYCE | E9: 2415062 | F9: wodzisławski | G9: Remont ul. Wiejskiej w Gorzyczkach | H9: R | I9: 0.626 | J9: listopad 2024-wrzesień 2025 | K9: 1209015 | L9: =ROUNDDOWN(K9*N9,2) -> 604507.5 | M9: =K9-L9 -> 604507.5 | N9: 0.5 | O9: =L9 -> 604507.5 | P9: =L9=SUM(O9:O9) -> TRUE | Q9: =ROUND(L9/K9,4) -> 0.5 | R9: =Q9=N9 -> TRUE | S9: =K9=L9+M9 -> TRUE
A10: 8 | B10: 1649/24 | C10: N | D10: GMINA ŚWIERKLANIEC | E10: 2413072 | F10: tarnogórski | G10: Remont drogi gminnej ul. Plebiscytowej w Świerklańcu | H10: R | I10: 0.39 | J10: listopad 2024-październik 2025 | K10: 1295611 | L10: =ROUNDDOWN(K10*N10,2) -> 647805.5 | M10: =K10-L10 -> 647805.5 | N10: 0.5 | O10: =L10 -> 647805.5 | P10: =L10=SUM(O10:O10) -> TRUE | Q10: =ROUND(L10/K10,4) -> 0.5 | R10: =Q10=N10 -> TRUE | S10: =K10=L10+M10 -> TRUE
A11: 9 | B11: 1640/24 | C11: N | D11: GMINA PORAJ | E11: 2409042 | F11: myszkowski | G11: Remont drogi gminnej w miejscowości Poraj | H11: R | I11: 0.643 | J11: grudzień 2024-listopad 2025 | K11: 2730312 | L11: =ROUNDDOWN(K11*N11,2) -> 1365156 | M11: =K11-L11 -> 1365156 | N11: 0.5 | O11: =L11 -> 1365156 | P11: =L11=SUM(O11:O11) -> TRUE | Q11: =ROUND(L11/K11,4) -> 0.5 | R11: =Q11=N11 -> TRUE | S11: =K11=L11+M11 -> TRUE
A12: 10 | B12: 1656/24 | C12: N | D12: GMINA OGRODZIENIEC | E12: 2416063 | F12: zawierciański | G12: Remont drogi gminnej - ul. Kochanowskiego w miejscowości Fugasówka | H12: R | I12: 0.3 | J12: listopad 2024 - wrzesień 2025 | K12: 103075 | L12: =ROUNDDOWN(K12*N12,2) -> 51537.5 | M12: =K12-L12 -> 51537.5 | N12: 0.5 | O12: =L12 -> 51537.5 | P12: =L12=SUM(O12:O12) -> TRUE | Q12: =ROUND(L12/K12,4) -> 0.5 | R12: =Q12=N12 -> TRUE | S12: =K12=L12+M12 -> TRUE
A13: 11 | B13: 1618/24 | C13: N | D13: GMINA LIPIE | E13: 2406032 | F13: kłobucki | G13: Remont drogi gminnej nr 667023 S na odcinku Albertów - Rębielice Szlacheckie, gm. Lipie | H13: R | I13: 1.85 | J13: październik 2024-czerwiec 2025 | K13: 950559 | L13: =ROUNDDOWN(K13*N13,2) -> 475279.5 | M13: =K13-L13 -> 475279.5 | N13: 0.5 | O13: =L13 -> 475279.5 | P13: =L13=SUM(O13:O13) -> TRUE | Q13: =ROUND(L13/K13,4) -> 0.5 | R13: =Q13=N13 -> TRUE | S13: =K13=L13+M13 -> TRUE
A14: 12 | B14: 1611/24 | C14: N | D14: GMINA BOJSZOWY | E14: 2414042 | F14: bieruńsko-lędziński | G14: Remont odcinka drogi gminnej 670550S - ul. Nasypowej w Jedlinie | H14: R | I14: 0.605 | J14: sierpień 2024-lipiec 2025 | K14: 523365 | L14: =ROUNDDOWN(K14*N14,2) -> 261682.5 | M14: =K14-L14 -> 261682.5 | N14: 0.5 | O14: =L14 -> 261682.5 | P14: =L14=SUM(O14:O14) -> TRUE | Q14: =ROUND(L14/K14,4) -> 0.5 | R14: =Q14=N14 -> TRUE | S14: =K14=L14+M14 -> TRUE
A15: 13 | B15: 1628/24 | C15: N | D15: MIASTO ŻORY | E15: 2479011 | F15: Żory | G15: Remont ulicy Powstańców w miejscowości Żory | H15: R | I15: 0.35 | J15: listopad 2024-październik 2025 | K15: 814056 | L15: =ROUNDDOWN(K15*N15,2) -> 407028 | M15: =K15-L15 -> 407028 | N15: 0.5 | O15: =L15 -> 407028 | P15: =L15=SUM(O15:O15) -> TRUE | Q15: =ROUND(L15/K15,4) -> 0.5 | R15: =Q15=N15 -> TRUE | S15: =K15=L15+M15 -> TRUE
A16: 14 | B16: 1659/24 | C16: N | D16: GMINA ZAWIERCIE | E16: 2416021 | F16: zawierciański | G16: Remont kapitalny chodnika i jezdni w ul. Brzozowej w Zawierciu | H16: R | I16: 0.22 | J16: grudzień 2024 - sierpień 2025 | K16: 691320 | L16: =ROUNDDOWN(K16*N16,2) -> 345660 | M16: =K16-L16 -> 345660 | N16: 0.5 | O16: =L16 -> 345660 | P16: =L16=SUM(O16:O16) -> TRUE | Q16: =ROUND(L16/K16,4) -> 0.5 | R16: =Q16=N16 -> TRUE | S16: =K16=L16+M16 -> TRUE
A17: 15 | B17: 1619/24 | C17: N | D17: GMINA RACIBÓRZ | E17: 2411011 | F17: raciborski | G17: Remont drogi gminnej ul. Olimpijczyka w Raciborzu | H17: R | I17: 1.2 | J17: listopad 2024-październik 2025 | K17: 1109429 | L17: =ROUNDDOWN(K17*N17,2) -> 554714.5 | M17: =K17-L17 -> 554714.5 | N17: 0.5 | O17: =L17 -> 554714.5 | P17: =L17=SUM(O17:O17) -> TRUE | Q17: =ROUND(L17/K17,4) -> 0.5 | R17: =Q17=N17 -> TRUE | S17: =K17=L17+M17 -> TRUE
A18: 16 | B18: 1630/24 | C18: N | D18: GMINA RĘDZINY | E18: 2404152 | F18: częstochowski | G18: Remont drogi gminnej w miejscowości Kościelec - ul. Jana Pawła II | H18: R | I18: 0.865 | J18: grudzień 2024-listopad 2025 | K18: 2098000 | L18: =ROUNDDOWN(K18*N18,2) -> 1049000 | M18: =K18-L18 -> 1049000 | N18: 0.5 | O18: =L18 -> 1049000 | P18: =L18=SUM(O18:O18) -> TRUE | Q18: =ROUND(L18/K18,4) -> 0.5 | R18: =Q18=N18 -> TRUE | S18: =K18=L18+M18 -> TRUE
A19: 17 | B19: 1657/24 | C19: N | D19: MIASTO CZĘSTOCHOWA | E19: 2464011 | F19: Częstochowa | G19: Remont ulicy Stanisława Worcella w Częstochowie | H19: R | I19: 0.7 | J19: listopad 2024-październik 2025 | K19: 1273242 | L19: =ROUNDDOWN(K19*N19,2) -> 636621 | M19: =K19-L19 -> 636621 | N19: 0.5 | O19: =L19 -> 636621 | P19: =L19=SUM(O19:O19) -> TRUE | Q19: =ROUND(L19/K19,4) -> 0.5 | R19: =Q19=N19 -> TRUE | S19: =K19=L19+M19 -> TRUE
A20: 18 | B20: 1613/24 | C20: N | D20: GMINA WYRY | E20: 2408052 | F20: mikołowski | G20: Remont ul. Profilowej w Wyrach | H20: R | I20: 0.572 | J20: listopad 2024-wrzesień 2025 | K20: 639000 | L20: =ROUNDDOWN(K20*N20,2) -> 319500 | M20: =K20-L20 -> 319500 | N20: 0.5 | O20: =L20 -> 319500 | P20: =L20=SUM(O20:O20) -> TRUE | Q20: =ROUND(L20/K20,4) -> 0.5 | R20: =Q20=N20 -> TRUE | S20: =K20=L20+M20 -> TRUE
A21: 19 | B21: 1638/24 | C21: N | D21: GMINA PSZCZYNA | E21: 2410053 | F21: pszczyński | G21: Remont drogi gminnej ul. Korfantego w Pszczynie | H21: R | I21: 0.541 | J21: wrzesień 2024-lipiec 2025 | K21: 933000 | L21: =ROUNDDOWN(K21*N21,2) -> 466500 | M21: =K21-L21 -> 466500 | N21: 0.5 | O21: =L21 -> 466500 | P21: =L21=SUM(O21:O21) -> TRUE | Q21: =ROUND(L21/K21,4) -> 0.5 | R21: =Q21=N21 -> TRUE | S21: =K21=L21+M21 -> TRUE
A22: 20 | B22: 1636/24 | C22: N | D22: GMINA WILAMOWICE | E22: 2402093 | F22: bielski | G22: Remont drogi gminnej ul. Witosa w Dankowicach | H22: R | I22: 0.36 | J22: wrzesień 2024-sierpień 2025 | K22: 499682 | L22: =ROUNDDOWN(K22*N22,2) -> 249841 | M22: =K22-L22 -> 249841 | N22: 0.5 | O22: =L22 -> 249841 | P22: =L22=SUM(O22:O22) -> TRUE | Q22: =ROUND(L22/K22,4) -> 0.5 | R22: =Q22=N22 -> TRUE | S22: =K22=L22+M22 -> TRUE
A23: 21 | B23: 1602/24* | C23: N | D23: GMINA RADZIONKÓW | E23: 2413031 | F23: tarnogórski | G23: Remont ul. Gwarków w Radzionkowie | H23: R | I23: 1.02 | J23: wrzesień 2024-lipiec 2025 | K23: 2400000 | L23: 289358.16 | M23: =K23-L23 -> 2110641.8 | N23: 0.5 | O23: 289358.16 | P23: =L23=SUM(O23:O23) -> TRUE | Q23: =ROUND(L23/K23,4) -> 0.1206 | R23: =Q23=N23 -> FALSE | S23: =K23=L23+M23 -> TRUE
A24: RAZEM nowe zadania jednoroczne | I24: =SUM(I3:I23) -> 16.324 | J24: x | K24: =SUM(K3:K23) -> 25476297 | L24: =SUM(L3:L23) -> 11827507 | M24: =SUM(M3:M23) -> 13648790 | N24: x | O24: =SUM(O3:O23) -> 11827507 | P24: =L24=SUM(O24:O24) -> TRUE | Q24: =ROUND(L24/K24,4) -> 0.4643 | R24: x | S24: =K24=L24+M24 -> TRUE
A26: R - remont
A27: * Kwota dofinansowania zmniejszona do limitu dostępnych środków Rządowego Funduszu Rozwoju Dróg; zwiększenie dofinansowania możliwe w przypadku wystąpienia oszczędności. W przypadku braku oszczędności w Funduszu, realizacja zadania będzie wymagała zabezpieczenia wkładu własnego wnioskodawcy w większej wysokości.

Sheet pow rez
A1: L.p. | B1: Nr ewid. | C1: Zadanie nowe [N] | D1: Jednostka Samorządu Terytorialnego | E1: TERC | F1: Nazwa zadania | G1: Rodzaj zadania | H1: Długość odcinka (w km) | I1: Okres realizacji zadania | J1: Ogółem wartość projektu (w zł) | K1: Wnioskowana kwota dofinansowania (w zł) | L1: Deklarowana kwota środków własnych (w zł) | M1: % dofinansowania | N1: Kwota dofinansowania w podziale na lata
N2: 2024 | O2: spr-lata | P2: spr-procent | Q2: spr-dof | R2: spr-montaż
A3: 1 | B3: 1632/24 | C3: N | D3: MIASTO RYBNIK | E3: 2473011 | F3: Remont ul. Górnośląskiej w Rybniku | G3: R | H3: 1.851 | I3: listopad 2024-czerwiec 2025 | J3: 1927626 | K3: =ROUNDDOWN(J3*M3,2) -> 963813 | L3: =J3-K3 -> 963813 | M3: 0.5 | N3: =K3 -> 963813 | O3: =K3=SUM(N3:N3) -> TRUE | P3: =K3=SUM(N3:N3) -> TRUE | Q3: =ROUND(K3/J3,4) -> 0.5 | R3: =Q3=M3 -> TRUE | S3: =J3=K3+L3 -> TRUE
A4: 2 | B4: 1610/24 | C4: N | D4: MIASTO SIEMIANOWICE ŚLĄSKIE | E4: 2474011 | F4: Remont drogi powiatowej 9646S (ul. Domina) w Siemianowicach Śląskich | G4: R | H4: 0.74 | I4: listopad 2024-maj 2025 | J4: 1174354 | K4: =ROUNDDOWN(J4*M4,2) -> 587177 | L4: =J4-K4 -> 587177 | M4: 0.5 | N4: =K4 -> 587177 | O4: =K4=SUM(N4:N4) -> TRUE | P4: =K4=SUM(N4:N4) -> TRUE | Q4: =ROUND(K4/J4,4) -> 0.5 | R4: =Q4=M4 -> TRUE | S4: =J4=K4+L4 -> TRUE
A5: 3 | B5: 1621/24 | C5: N | D5: POWIAT RACIBORSKI | E5: 2411 | F5: Remont odcinka drogi powiatowej 3514 S ul. Kozielskiej w Rudniku | G5: R | H5: 0.7 | I5: wrzesień 2024-grudzień 2024 | J5: 847245 | K5: =ROUNDDOWN(J5*M5,2) -> 423622.5 | L5: =J5-K5 -> 423622.5 | M5: 0.5 | N5: =K5 -> 423622.5 | O5: =K5=SUM(N5:N5) -> TRUE | P5: =K5=SUM(N5:N5) -> TRUE | Q5: =ROUND(K5/J5,4) -> 0.5 | R5: =Q5=M5 -> TRUE | S5: =J5=K5+L5 -> TRUE
A6: 4 | B6: 1634/24 | C6: N | D6: MIASTO ŚWIĘTOCHŁOWICE | E6: 2476011 | F6: Remont nawierzchni drogi powiatowej 9806s - ul. Bukowej w Świętochłowicach | G6: R | H6: 0.53 | I6: sierpień 2024-lipiec 2025 | J6: 810100 | K6: =ROUNDDOWN(J6*M6,2) -> 405050 | L6: =J6-K6 -> 405050 | M6: 0.5 | N6: =K6 -> 405050 | O6: =K6=SUM(N6:N6) -> TRUE | P6: =K6=SUM(N6:N6) -> TRUE | Q6: =ROUND(K6/J6,4) -> 0.5 | R6: =Q6=M6 -> TRUE | S6: =J6=K6+L6 -> TRUE
A7: 5 | B7: 1626/24 | C7: N | D7: POWIAT ZAWIERCIAŃSKI | E7: 2416 | F7: Remont drogi powiatowej nr 1704S ul. Władysława Broniewskiego w miejscowości Zawiercie | G7: R | H7: 0.495 | I7: sierpień 2024-lipiec 2025 | J7: 644090 | K7: =ROUNDDOWN(J7*M7,2) -> 322045 | L7: =J7-K7 -> 322045 | M7: 0.5 | N7: =K7 -> 322045 | O7: =K7=SUM(N7:N7) -> TRUE | P7: =K7=SUM(N7:N7) -> TRUE | Q7: =ROUND(K7/J7,4) -> 0.5 | R7: =Q7=M7 -> TRUE | S7: =J7=K7+L7 -> TRUE
A8: 6 | B8: 1635/24 | C8: N | D8: POWIAT MIKOŁOWSKI | E8: 2408 | F8: Remont drogi powiatowej ul. Lasoki w Łaziskach Górnych | G8: R | H8: 1.14 | I8: grudzień 2024-listopad 2025 | J8: 1321735 | K8: =ROUNDDOWN(J8*M8,2) -> 660867.5 | L8: =J8-K8 -> 660867.5 | M8: 0.5 | N8: =K8 -> 660867.5 | O8: =K8=SUM(N8:N8) -> TRUE | P8: =K8=SUM(N8:N8) -> TRUE | Q8: =ROUND(K8/J8,4) -> 0.5 | R8: =Q8=M8 -> TRUE | S8: =J8=K8+L8 -> TRUE
A9: RAZEM nowe zadania jednoroczne | H9: =SUM(H3:H8) -> 5.456 | I9: x | J9: =SUM(J3:J8) -> 6725150 | K9: =SUM(K3:K8) -> 3362575 | L9: =SUM(L3:L8) -> 3362575 | M9: x | N9: =SUM(N3:N8) -> 3362575 | O9: =K9=SUM(N9:N9) -> TRUE | P9: =ROUND(K9/J9,4) -> 0.5 | Q9: x | R9: =J9=K9+L9 -> TRUE
A11: R - remont
A12: * Kwota dofinansowania zmniejszona do limitu dostępnych środków Rządowego Funduszu Rozwoju Dróg; zwiększenie dofinansowania możliwe w przypadku wystąpienia oszczędności. W przypadku braku oszczędności w Funduszu, realizacja zadania będzie wymagała zabezpieczenia wkładu własnego wnioskodawcy w większej wysokości.

Sheet gm rez
A1: L.p. | B1: Nr ewid. | C1: Zadanie nowe [N] | D1: Jednostka Samorządu Terytorialnego | E1: TERC | F1: Powiat | G1: Nazwa zadania | H1: Rodzaj zadania | I1: Długość odcinka (w km) | J1: Okres realizacji zadania | K1: Ogółem wartość projektu (w zł) | L1: Wnioskowana kwota dofinansowania (w zł) | M1: Deklarowana kwota środków własnych (w zł) | N1: % dofinansowania | O1: Kwota dofinansowania w podziale na lata
O2: 2024 | P2: spr-lata | Q2: spr-procent | R2: spr-dof | S2: spr-montaż
A3: 1 | B3: 1609/24 | C3: N | D3: GMINA SIEWIERZ | E3: 2401073 | F3: będziński | G3: Remont nawierzchni jezdni na ul. Drogowców w Wojkowicach Kościelnych | H3: R | I3: 0.71 | J3: grudzień 2024-listopad 2025 | K3: 1570301 | L3: =ROUNDDOWN(K3*N3,2) -> 785150.5 | M3: =K3-L3 -> 785150.5 | N3: 0.5 | O3: =L3 -> 785150.5 | P3: =L3=SUM(O3:O3) -> TRUE | Q3: =L3=SUM(O3:O3) -> TRUE | R3: =ROUND(L3/K3,4) -> 0.5 | S3: =R3=N3 -> TRUE | T3: =K3=L3+M3 -> TRUE
A4: 2 | B4: 1653/24 | C4: N | D4: MIASTO CHORZÓW | E4: 2463011 | F4: Chorzów | G4: Remont drogi gminnej ul. Składowej w Chorzowie | H4: R | I4: 0.682 | J4: grudzień 2024-listopad 2025 | K4: 3543000 | L4: =ROUNDDOWN(K4*N4,2) -> 1771500 | M4: =K4-L4 -> 1771500 | N4: 0.5 | O4: =L4 -> 1771500 | P4: =L4=SUM(O4:O4) -> TRUE | Q4: =L4=SUM(O4:O4) -> TRUE | R4: =ROUND(L4/K4,4) -> 0.5 | S4: =R4=N4 -> TRUE | T4: =K4=L4+M4 -> TRUE
A5: 3 | B5: 1606/24 | C5: N | D5: MIASTO RUDA ŚLĄSKA | E5: 2472011 | F5: Ruda Śląska | G5: Remont drogi gminnej ul. Pakuły (174006S) w Rudzie Śląskiej | H5: R | I5: 0.51 | J5: sierpień 2024-październik 2024 | K5: 1252569 | L5: =ROUNDDOWN(K5*N5,2) -> 626284.5 | M5: =K5-L5 -> 626284.5 | N5: 0.5 | O5: =L5 -> 626284.5 | P5: =L5=SUM(O5:O5) -> TRUE | Q5: =L5=SUM(O5:O5) -> TRUE | R5: =ROUND(L5/K5,4) -> 0.5 | S5: =R5=N5 -> TRUE | T5: =K5=L5+M5 -> TRUE
A6: 4 | B6: 1641/24 | C6: N | D6: GMINA CZELADŹ | E6: 2401021 | F6: będziński | G6: Remont ulicy Handlowej w Czeladzi - etap 2 | H6: R | I6: 0.41 | J6: sierpień 2024-maj 2025 | K6: 815956 | L6: =ROUNDDOWN(K6*N6,2) -> 407978 | M6: =K6-L6 -> 407978 | N6: 0.5 | O6: =L6 -> 407978 | P6: =L6=SUM(O6:O6) -> TRUE | Q6: =L6=SUM(O6:O6) -> TRUE | R6: =ROUND(L6/K6,4) -> 0.5 | S6: =R6=N6 -> TRUE | T6: =K6=L6+M6 -> TRUE
A7: 5 | B7: 1655/24 | C7: N | D7: GMINA CHEŁM ŚLĄSKI | E7: 2414052 | F7: bieruńsko-lędziński | G7: Remont drogi gminnej ul. Zapłocie w miejscowości Chełm Śląski | H7: R | I7: 0.28 | J7: wrzesień 2024-sierpień 2025 | K7: 425958 | L7: =ROUNDDOWN(K7*N7,2) -> 212979 | M7: =K7-L7 -> 212979 | N7: 0.5 | O7: =L7 -> 212979 | P7: =L7=SUM(O7:O7) -> TRUE | Q7: =L7=SUM(O7:O7) -> TRUE | R7: =ROUND(L7/K7,4) -> 0.5 | S7: =R7=N7 -> TRUE | T7: =K7=L7+M7 -> TRUE
A8: 6 | B8: 1631/24 | C8: N | D8: GMINA MYSZKÓW | E8: 2409011 | F8: myszkowski | G8: Remont drogi gminnej w ul. Wyzwolenia w Myszkowie | H8: R | I8: 2.4 | J8: listopad 2024-październik 2025 | K8: 2331826 | L8: =ROUNDDOWN(K8*N8,2) -> 1165913 | M8: =K8-L8 -> 1165913 | N8: 0.5 | O8: =L8 -> 1165913 | P8: =L8=SUM(O8:O8) -> TRUE | Q8: =L8=SUM(O8:O8) -> TRUE | R8: =ROUND(L8/K8,4) -> 0.5 | S8: =R8=N8 -> TRUE | T8: =K8=L8+M8 -> TRUE
A9: 7 | B9: 1615/24 | C9: N | D9: MIASTO DĄBROWA GÓRNICZA | E9: 2465011 | F9: Dąbrowa Górnicza | G9: Remont ul. Kasprzaka w Dąbrowie Górniczej | H9: R | I9: 1.723 | J9: październik 2024-wrzesień 2025 | K9: 12015000 | L9: =ROUNDDOWN(K9*N9,2) -> 6007500 | M9: =K9-L9 -> 6007500 | N9: 0.5 | O9: =L9 -> 6007500 | P9: =L9=SUM(O9:O9) -> TRUE | Q9: =L9=SUM(O9:O9) -> TRUE | R9: =ROUND(L9/K9,4) -> 0.5 | S9: =R9=N9 -> TRUE | T9: =K9=L9+M9 -> TRUE
A10: 8 | B10: 1629/24 | D10: GMINA OLSZTYN (rezygnacja wnioskodawcy z realizacji zadania) | E10: 2404122 | F10: częstochowski | G10: Remont drogi gminnej w miejscowości Turów - ul. Joachimowska, gmina Olsztyn | P10: =L10=SUM(O10:O10) -> TRUE | Q10: =L10=SUM(O10:O10) -> TRUE | R10: =ROUND(L10/K10,4) -> #DIV/0! | S10: =R10=N10 -> #DIV/0! | T10: =K10=L10+M10 -> TRUE
A11: 9 | B11: 1654/24 | C11: N | D11: GMINA JASIENICA | E11: 2402052 | F11: bielski | G11: Remont drogi gminnej nr 490260S ("Pszczelarska") w sołectwie Landek, Gmina Jasienica | H11: R | I11: 0.786 | J11: wrzesień 2024-czerwiec 2025 | K11: 950190 | L11: =ROUNDDOWN(K11*N11,2) -> 475095 | M11: =K11-L11 -> 475095 | N11: 0.5 | O11: =L11 -> 475095 | P11: =L11=SUM(O11:O11) -> TRUE | Q11: =L11=SUM(O11:O11) -> TRUE | R11: =ROUND(L11/K11,4) -> 0.5 | S11: =R11=N11 -> TRUE | T11: =K11=L11+M11 -> TRUE
A12: 10 | B12: 1604/24 | C12: N | D12: MIASTO BIELSKO- BIAŁA | E12: 2461011 | F12: Bielsko-Biała | G12: Remont odcinka ul. gen. Józefa Kustronia w Bielsku-Białej | H12: R | I12: 0.679 | J12: grudzień 2024-sierpień 2025 | K12: 3501220 | L12: =ROUNDDOWN(K12*N12,2) -> 1750610 | M12: =K12-L12 -> 1750610 | N12: 0.5 | O12: =L12 -> 1750610 | P12: =L12=SUM(O12:O12) -> TRUE | Q12: =L12=SUM(O12:O12) -> TRUE | R12: =ROUND(L12/K12,4) -> 0.5 | S12: =R12=N12 -> TRUE | T12: =K12=L12+M12 -> TRUE
A13: 11 | B13: 1637/24 | D13: GMINA PSARY (rezygnacja wnioskodawcy z realizacji zadania) | E13: 2401062 | F13: będziński | G13: Remont ul. Wolności w Psarach | P13: =L13=SUM(O13:O13) -> TRUE | Q13: =L13=SUM(O13:O13) -> TRUE | R13: =ROUND(L13/K13,4) -> #DIV/0! | S13: =R13=N13 -> #DIV/0! | T13: =K13=L13+M13 -> TRUE
A14: 12 | B14: 1627/24 | C14: N | D14: GMINA IMIELIN | E14: 2414021 | F14: bieruńsko-lędziński | G14: Remont drogi gminnej ul. J. Poniatowskiego (655038S) w Gminie Imielin | H14: R | I14: 0.32 | J14: lipiec 2024-październik 2024 | K14: 398790 | L14: =ROUNDDOWN(K14*N14,2) -> 199395 | M14: =K14-L14 -> 199395 | N14: 0.5 | O14: =L14 -> 199395 | P14: =L14=SUM(O14:O14) -> TRUE | Q14: =L14=SUM(O14:O14) -> TRUE | R14: =ROUND(L14/K14,4) -> 0.5 | S14: =R14=N14 -> TRUE | T14: =K14=L14+M14 -> TRUE
A15: 13 | B15: 1643/24* | C15: N | D15: GMINA LĘDZINY | E15: 2414031 | F15: bieruńsko-lędziński | G15: Remont drogi gminnej ul. Reymonta w Lędzinach | H15: R | I15: 0.825 | J15: listopad 2024-październik 2025 | K15: 550000 | L15: 252779.99 | M15: =K15-L15 -> 297220.01 | N15: 0.5 | O15: =L15 -> 252779.99 | P15: =L15=SUM(O15:O15) -> TRUE | Q15: =L15=SUM(O15:O15) -> TRUE | R15: =ROUND(L15/K15,4) -> 0.4596 | S15: =R15=N15 -> FALSE | T15: =K15=L15+M15 -> TRUE
A16: RAZEM nowe zadania jednoroczne | I16: =SUM(I3:I15) -> 9.325 | J16: x | K16: =SUM(K3:K15) -> 27354810 | L16: =SUM(L3:L15) -> 13655185 | M16: =SUM(M3:M15) -> 13699625 | N16: x | O16: =SUM(O3:O15) -> 13655185 | P16: =L16=SUM(O16:O16) -> TRUE | Q16: =ROUND(L16/K16,4) -> 0.4992 | R16: x | S16: =K16=L16+M16 -> TRUE
A18: R - remont
A19: * Kwota dofinansowania zmniejszona do limitu dostępnych środków Rządowego Funduszu Rozwoju Dróg; zwiększenie dofinansowania możliwe w przypadku wystąpienia oszczędności. W przypadku braku oszczędności w Funduszu, realizacja zadania będzie wymagała zabezpieczenia wkładu własnego wnioskodawcy w większej wysokości.
